BEGIN:VCALENDAR
VERSION:2.0
PRODID:-//Port of Skagit - ECPv6.15.20//NONSGML v1.0//EN
CALSCALE:GREGORIAN
METHOD:PUBLISH
X-WR-CALNAME:Port of Skagit
X-ORIGINAL-URL:https://portofskagit.com
X-WR-CALDESC:Events for Port of Skagit
REFRESH-INTERVAL;VALUE=DURATION:PT1H
X-Robots-Tag:noindex
X-PUBLISHED-TTL:PT1H
BEGIN:VTIMEZONE
TZID:America/Los_Angeles
BEGIN:DAYLIGHT
TZOFFSETFROM:-0800
TZOFFSETTO:-0700
TZNAME:PDT
DTSTART:20240310T100000
END:DAYLIGHT
BEGIN:STANDARD
TZOFFSETFROM:-0700
TZOFFSETTO:-0800
TZNAME:PST
DTSTART:20241103T090000
END:STANDARD
BEGIN:DAYLIGHT
TZOFFSETFROM:-0800
TZOFFSETTO:-0700
TZNAME:PDT
DTSTART:20250309T100000
END:DAYLIGHT
BEGIN:STANDARD
TZOFFSETFROM:-0700
TZOFFSETTO:-0800
TZNAME:PST
DTSTART:20251102T090000
END:STANDARD
BEGIN:DAYLIGHT
TZOFFSETFROM:-0800
TZOFFSETTO:-0700
TZNAME:PDT
DTSTART:20260308T100000
END:DAYLIGHT
BEGIN:STANDARD
TZOFFSETFROM:-0700
TZOFFSETTO:-0800
TZNAME:PST
DTSTART:20261101T090000
END:STANDARD
END:VTIMEZONE
BEGIN:VEVENT
DTSTART;TZID=America/Los_Angeles:20251202T140000
DTEND;TZID=America/Los_Angeles:20251202T140000
DTSTAMP:20260424T064936
CREATED:20251201T170607Z
LAST-MODIFIED:20251201T181723Z
UID:7715-1764684000-1764684000@portofskagit.com
SUMMARY:Commission Work Session--Cancelled
DESCRIPTION:NOTICE IS HEREBY GIVEN on behalf of the President of the Port Commission of the Port of Skagit\, the work session meeting of the Board of Commissioners\, Port of Skagit previously scheduled for Tuesday\, December 2\, at 2:00 PM is hereby canceled. \n  \n 
URL:https://portofskagit.com/event/7715/
LOCATION:Port Commission Hearing Room\, 15400 Airport Drive\, Burlington\, WA\, United States
CATEGORIES:Commission
ATTACH;FMTTYPE=image/jpeg:https://portofskagit.com/wp-content/uploads/2021/01/DSC_0998-scaled.jpg
END:VEVENT
BEGIN:VEVENT
DTSTART;TZID=America/Los_Angeles:20251209T000000
DTEND;TZID=America/Los_Angeles:20251209T000000
DTSTAMP:20260424T064936
CREATED:20251208T172116Z
LAST-MODIFIED:20251208T172123Z
UID:7725-1765238400-1765238400@portofskagit.com
SUMMARY:Commission Meeting--Date Change
DESCRIPTION:December 9\, 2025: NOTICE OF CHANGE OF MEETING DATE \nNOTICE IS HEREBY GIVEN on behalf of the President of the Port Commission of the Port of Skagit County that the regular business meeting scheduled for Tuesday\, December 9\, 2025 at 2:00 PM has been rescheduled to Tuesday\, December 16\, 2025 at 2:00 PM.
URL:https://portofskagit.com/event/commission-meeting-date-change/
LOCATION:WA
CATEGORIES:Commission
ATTACH;FMTTYPE=image/jpeg:https://portofskagit.com/wp-content/uploads/2021/01/DSC_0998-scaled.jpg
END:VEVENT
BEGIN:VEVENT
DTSTART;TZID=America/Los_Angeles:20251211T114000
DTEND;TZID=America/Los_Angeles:20251211T170000
DTSTAMP:20260424T064936
CREATED:20251208T173004Z
LAST-MODIFIED:20251208T173011Z
UID:7728-1765453200-1765472400@portofskagit.com
SUMMARY:Port Offices:  Early Closure
DESCRIPTION:The Port of Skagit will close early today\, at 11:40am.  Port staff will be offsite for the annual Port of Skagit Staff Awards event\, recognizing the dedicated work of our colleagues. \n  \nPort offices will re-open on Friday\, December 12th at regular time.
URL:https://portofskagit.com/event/port-offices-early-closure-2/
LOCATION:WA
ATTACH;FMTTYPE=image/jpeg:https://portofskagit.com/wp-content/uploads/2023/11/Staff-Training.jpg
END:VEVENT
BEGIN:VEVENT
DTSTART;TZID=America/Los_Angeles:20251212T100000
DTEND;TZID=America/Los_Angeles:20251212T100000
DTSTAMP:20260424T064936
CREATED:20251208T173610Z
LAST-MODIFIED:20251208T173620Z
UID:7730-1765533600-1765533600@portofskagit.com
SUMMARY:Commission Special Meeting
DESCRIPTION:Please refer to the Meeting and Agendas on the Port Commission page for the agenda that correlates with this meeting. \n  \nThe Port Commission of the Port of Skagit County will participate in a Special Meeting on Friday\, December 12\, 2025 at 10:00am.
URL:https://portofskagit.com/event/commission-special-meeting-3/
LOCATION:WA
CATEGORIES:Commission
ATTACH;FMTTYPE=image/png:https://portofskagit.com/wp-content/uploads/2020/12/post-image.png
END:VEVENT
BEGIN:VEVENT
DTSTART;TZID=America/Los_Angeles:20251212T100000
DTEND;TZID=America/Los_Angeles:20251212T100000
DTSTAMP:20260424T064936
CREATED:20251211T193534Z
LAST-MODIFIED:20251211T193552Z
UID:7747-1765533600-1765533600@portofskagit.com
SUMMARY:Commission Special Meeting
DESCRIPTION:NOTICE IS HEREBY GIVEN that the Port Commission of the Port of Skagit County will hold a special meeting on Friday\, December 12\, 2025 at 10:00 a.m. The meeting will be held online video/telephone conference. There will be no in-person meeting location for this meeting. \n  \nThe remote-only meeting is occurring as a result of Skagit County and the State of Washington’s declared emergencies for the flooding. \n  \nPublic attendees may participate by joining the Zoom session Meeting ID: 885 7422 4681 Passcode: 457596 and by telephone (253) 215-8782 (then follow prompts for Meeting ID and Passcode) \n  \nThe purpose of the special meeting is to:\n1. Public Comment\n2. Authorize Condemnation and Approve Acquisition of Property (2025); Adopt Resolution\n3. Adjournment
URL:https://portofskagit.com/event/commission-special-meeting-4/
LOCATION:Zoom Meeting (Remote)\, 15400 Airport Drive\, Burlington\, WA\, 98233\, United States
CATEGORIES:Commission
ATTACH;FMTTYPE=image/jpeg:https://portofskagit.com/wp-content/uploads/2022/05/La-Conner-Marina-south-facing-small-.jpg
END:VEVENT
BEGIN:VEVENT
DTSTART;TZID=America/Los_Angeles:20251216T140000
DTEND;TZID=America/Los_Angeles:20251216T140000
DTSTAMP:20260424T064936
CREATED:20251215T190718Z
LAST-MODIFIED:20251215T190845Z
UID:7752-1765893600-1765893600@portofskagit.com
SUMMARY:Port Commission Meeting
DESCRIPTION:Please refer to the Meeting and Agendas on the Port Commission page for the agenda that correlates with this meeting. \n  \nThe Commission of the Port of Skagit County will hold a Regular Meeting on Tuesday\, December 16\, 2025 at 2:00pm. \n  \nPublic attendees may participate in-person at the Commission Hearing Room at 15400 Airport Drive in Burlington WA.
URL:https://portofskagit.com/event/port-commission-meeting/
LOCATION:Port Commission Hearing Room\, 15400 Airport Drive\, Burlington\, WA\, United States
CATEGORIES:Commission
ATTACH;FMTTYPE=image/jpeg:https://portofskagit.com/wp-content/uploads/2021/01/DSC_0998-scaled.jpg
END:VEVENT
BEGIN:VEVENT
DTSTART;TZID=America/Los_Angeles:20251224T140000
DTEND;TZID=America/Los_Angeles:20251224T140000
DTSTAMP:20260424T064936
CREATED:20251208T175104Z
LAST-MODIFIED:20251208T175112Z
UID:7734-1766584800-1766584800@portofskagit.com
SUMMARY:Port Offices:  Early Closure
DESCRIPTION:The Port of Skagit will close two hours early on Wednesday\, December 24\, 2025 for Christmas Eve.
URL:https://portofskagit.com/event/port-offices-early-closure-3/
LOCATION:WA
CATEGORIES:Port Administration
ATTACH;FMTTYPE=image/jpeg:https://portofskagit.com/wp-content/uploads/2025/12/Wreath.jpg
END:VEVENT
BEGIN:VEVENT
DTSTART;VALUE=DATE:20251225
DTEND;VALUE=DATE:20251226
DTSTAMP:20260424T064936
CREATED:20251208T175237Z
LAST-MODIFIED:20251208T175243Z
UID:7739-1766620800-1766707199@portofskagit.com
SUMMARY:Holiday Closure
DESCRIPTION:The Port of Skagit will be closed on Thursday\, December 25th in observance of the Christmas holiday.
URL:https://portofskagit.com/event/holiday-closure-18/
LOCATION:WA
CATEGORIES:Port Administration
ATTACH;FMTTYPE=image/jpeg:https://portofskagit.com/wp-content/uploads/2025/12/HolidayClosure.jpg
END:VEVENT
END:VCALENDAR