BEGIN:VCALENDAR
VERSION:2.0
PRODID:-//Port of Skagit - ECPv6.15.15//NONSGML v1.0//EN
CALSCALE:GREGORIAN
METHOD:PUBLISH
X-WR-CALNAME:Port of Skagit
X-ORIGINAL-URL:https://portofskagit.com
X-WR-CALDESC:Events for Port of Skagit
REFRESH-INTERVAL;VALUE=DURATION:PT1H
X-Robots-Tag:noindex
X-PUBLISHED-TTL:PT1H
BEGIN:VTIMEZONE
TZID:America/Los_Angeles
BEGIN:DAYLIGHT
TZOFFSETFROM:-0800
TZOFFSETTO:-0700
TZNAME:PDT
DTSTART:20210314T100000
END:DAYLIGHT
BEGIN:STANDARD
TZOFFSETFROM:-0700
TZOFFSETTO:-0800
TZNAME:PST
DTSTART:20211107T090000
END:STANDARD
BEGIN:DAYLIGHT
TZOFFSETFROM:-0800
TZOFFSETTO:-0700
TZNAME:PDT
DTSTART:20220313T100000
END:DAYLIGHT
BEGIN:STANDARD
TZOFFSETFROM:-0700
TZOFFSETTO:-0800
TZNAME:PST
DTSTART:20221106T090000
END:STANDARD
BEGIN:DAYLIGHT
TZOFFSETFROM:-0800
TZOFFSETTO:-0700
TZNAME:PDT
DTSTART:20230312T100000
END:DAYLIGHT
BEGIN:STANDARD
TZOFFSETFROM:-0700
TZOFFSETTO:-0800
TZNAME:PST
DTSTART:20231105T090000
END:STANDARD
BEGIN:DAYLIGHT
TZOFFSETFROM:-0800
TZOFFSETTO:-0700
TZNAME:PDT
DTSTART:20240310T100000
END:DAYLIGHT
BEGIN:STANDARD
TZOFFSETFROM:-0700
TZOFFSETTO:-0800
TZNAME:PST
DTSTART:20241103T090000
END:STANDARD
END:VTIMEZONE
BEGIN:VEVENT
DTSTART;TZID=America/Los_Angeles:20231107T140000
DTEND;TZID=America/Los_Angeles:20231107T140000
DTSTAMP:20260420T231056
CREATED:20231103T202711Z
LAST-MODIFIED:20231106T022144Z
UID:6856-1699365600-1699365600@portofskagit.com
SUMMARY:Commission Work Session--Cancelled
DESCRIPTION:UPDATE:  The November 7th Port of Skagit Commission Work Session has been cancelled. \n  \nPlease refer to the Meeting and Agendas on the Port Commission page for the agenda that correlates with this meeting. \n  \nThe Commission of the Port of Skagit County will hold a Work Session Meeting on Tuesday\, November 7\, 2023 at 2:00pm. \n  \nThis meeting will be in-person at the Commission Hearing Room at 15400 Airport Drive in Burlington WA \n  \nITEM/S FOR DISCUSSION: \n  \nItem 1:            ADMIN:  Preliminary 2024 Budget Presentation – Presentation and Discussion \n  \nADJOURNMENT
URL:https://portofskagit.com/event/commission-work-session-5/
LOCATION:Port Commission Hearing Room\, 15400 Airport Drive\, Burlington\, WA\, United States
CATEGORIES:Commission
ATTACH;FMTTYPE=image/jpeg:https://portofskagit.com/wp-content/uploads/2021/01/DSC_0998-scaled.jpg
END:VEVENT
BEGIN:VEVENT
DTSTART;TZID=America/Los_Angeles:20231017T140000
DTEND;TZID=America/Los_Angeles:20231017T140000
DTSTAMP:20260420T231056
CREATED:20230921T203351Z
LAST-MODIFIED:20230921T203555Z
UID:6828-1697551200-1697551200@portofskagit.com
SUMMARY:Commission Work Session--Date Change
DESCRIPTION:NOTICE IS HEREBY GIVEN on behalf of the President of the Port Commission of the Port of Skagit\, that the October work session meeting of the Board of Commissioners\, Port of Skagit\, scheduled for Tuesday\, October 3\, 2023\, at 2:00 PM has been changed. \nThe work session meeting has been rescheduled to:\nTuesday\, October 17\, 2023\, at 2:00 PM. \n  \nPlease refer to the Meeting and Agendas on the Port Commission page for the agenda that correlates with this meeting. \n  \nThe Commission of the Port of Skagit County will hold a Work Session Meeting on Tuesday\, October 17\, 2023 at 2:00pm. \n  \nThis meeting will be in-person at the Commission Hearing Room at 15400 Airport Drive in Burlington WA. \n 
URL:https://portofskagit.com/event/commission-work-session-date-change/
LOCATION:Port Commission Hearing Room\, 15400 Airport Drive\, Burlington\, WA\, United States
CATEGORIES:Commission
ATTACH;FMTTYPE=image/jpeg:https://portofskagit.com/wp-content/uploads/2021/01/DSC_0998-scaled.jpg
END:VEVENT
BEGIN:VEVENT
DTSTART;TZID=America/Los_Angeles:20230411T140000
DTEND;TZID=America/Los_Angeles:20230411T140000
DTSTAMP:20260420T231056
CREATED:20230331T194905Z
LAST-MODIFIED:20230331T204949Z
UID:6691-1681221600-1681221600@portofskagit.com
SUMMARY:Port Commission Regular Meeting-2023
DESCRIPTION:Please refer to the Meeting and Agendas on the Port Commission page for the agenda that correlates with this meeting. \n  \nThe Commission of the Port of Skagit County will hold its Regular Meeting on the second Tuesday of the month\, at 2:00pm. \n  \nPlease note:  The Port of Skagit is discontinuing the Zoom/Virtual meeting option and resuming normal operations consistent with the commission regular business meetings.
URL:https://portofskagit.com/event/port-commission-regular-meeting-2023-2/
LOCATION:Port Commission Hearing Room\, 15400 Airport Drive\, Burlington\, WA\, United States
CATEGORIES:Commission
ATTACH;FMTTYPE=image/jpeg:https://portofskagit.com/wp-content/uploads/2021/01/sunset-white-logo-resized.jpg
END:VEVENT
BEGIN:VEVENT
DTSTART;TZID=America/Los_Angeles:20230411T140000
DTEND;TZID=America/Los_Angeles:20230411T140000
DTSTAMP:20260420T231056
CREATED:20230331T194905Z
LAST-MODIFIED:20230331T204949Z
UID:6691-1681221600-1681221600@portofskagit.com
SUMMARY:Port Commission Regular Meeting-2023
DESCRIPTION:Please refer to the Meeting and Agendas on the Port Commission page for the agenda that correlates with this meeting. \n  \nThe Commission of the Port of Skagit County will hold its Regular Meeting on the second Tuesday of the month\, at 2:00pm. \n  \nPlease note:  The Port of Skagit is discontinuing the Zoom/Virtual meeting option and resuming normal operations consistent with the commission regular business meetings.
URL:https://portofskagit.com/event/port-commission-regular-meeting-2023-2/
LOCATION:Port Commission Hearing Room\, 15400 Airport Drive\, Burlington\, WA\, United States
CATEGORIES:Commission
ATTACH;FMTTYPE=image/jpeg:https://portofskagit.com/wp-content/uploads/2021/01/sunset-white-logo-resized.jpg
END:VEVENT
BEGIN:VEVENT
DTSTART;TZID=America/Los_Angeles:20230905T140000
DTEND;TZID=America/Los_Angeles:20230905T140000
DTSTAMP:20260420T231056
CREATED:20230901T185430Z
LAST-MODIFIED:20230902T012501Z
UID:6818-1693922400-1693922400@portofskagit.com
SUMMARY:Commission Work Session Meeting
DESCRIPTION:Please refer to the Meeting and Agendas on the Port Commission page for the agenda that correlates with this meeting. \n  \nThe Commission of the Port of Skagit County will hold a Work Session Meeting on Tuesday\, September 5\, 2023 at 2:00pm. \n  \nThis meeting will be in-person at the Commission Hearing Room at 15400 Airport Drive in Burlington WA
URL:https://portofskagit.com/event/commission-work-session-meeting-2/
LOCATION:Port Commission Hearing Room\, 15400 Airport Drive\, Burlington\, WA\, United States
CATEGORIES:Commission
ATTACH;FMTTYPE=image/png:https://portofskagit.com/wp-content/uploads/2020/12/post-image.png
END:VEVENT
BEGIN:VEVENT
DTSTART;TZID=America/Los_Angeles:20230904T080000
DTEND;TZID=America/Los_Angeles:20230904T170000
DTSTAMP:20260420T231056
CREATED:20230901T185105Z
LAST-MODIFIED:20230901T185105Z
UID:6816-1693814400-1693846800@portofskagit.com
SUMMARY:Holiday Closure
DESCRIPTION:The Port of Skagit Administrative Office will be closed on Monday\, September 4 in observance of Labor Day.
URL:https://portofskagit.com/event/holiday-closure-4/
LOCATION:WA
CATEGORIES:Port Administration
ATTACH;FMTTYPE=image/jpeg:https://portofskagit.com/wp-content/uploads/2022/12/Sunrise-Dec-2022-scaled.jpg
END:VEVENT
BEGIN:VEVENT
DTSTART;TZID=America/Los_Angeles:20230822T140000
DTEND;TZID=America/Los_Angeles:20230822T140000
DTSTAMP:20260420T231056
CREATED:20230727T180625Z
LAST-MODIFIED:20230821T170852Z
UID:6796-1692712800-1692712800@portofskagit.com
SUMMARY:Commission Work Session
DESCRIPTION:Please refer to the Meeting and Agendas on the Port Commission page for the agenda that correlates with this meeting. \n  \nThe Commission of the Port of Skagit County will hold a Work Session Meeting on Tuesday\, August 22\, 2023 at 2:00pm. \n  \nThis meeting will be in-person at the Commission Hearing Room at 15400 Airport Drive in Burlington WA
URL:https://portofskagit.com/event/commission-work-session-4/
LOCATION:Port Commission Hearing Room\, 15400 Airport Drive\, Burlington\, WA\, United States
CATEGORIES:Commission
ATTACH;FMTTYPE=image/png:https://portofskagit.com/wp-content/uploads/2020/12/post-image.png
END:VEVENT
BEGIN:VEVENT
DTSTART;TZID=America/Los_Angeles:20230808T140000
DTEND;TZID=America/Los_Angeles:20230808T140000
DTSTAMP:20260420T231056
CREATED:20230804T164801Z
LAST-MODIFIED:20230804T164805Z
UID:6802-1691503200-1691503200@portofskagit.com
SUMMARY:Port Commission Regular Meeting-2023 Cancelled
DESCRIPTION:Please refer to the Meeting and Agendas on the Port Commission page for the agenda that correlates with this meeting. \n  \nPlease Note:   \nTuesday\, August 8\, 2023\, at 2:00 PM has been cancelled. \n  \nThe Commission of the Port of Skagit County will hold its Regular Meeting on the second Tuesday of the month\, at 2:00pm. \n  \nPlease note:  The Port of Skagit is discontinuing the Zoom/Virtual meeting option and resuming normal operations consistent with the commission regular business meetings.
URL:https://portofskagit.com/event/port-commission-regular-meeting-2023-2-2/
LOCATION:Port Commission Hearing Room\, 15400 Airport Drive\, Burlington\, WA\, United States
CATEGORIES:Commission
ATTACH;FMTTYPE=image/jpeg:https://portofskagit.com/wp-content/uploads/2021/01/sunset-white-logo-resized.jpg
END:VEVENT
BEGIN:VEVENT
DTSTART;TZID=America/Los_Angeles:20230801T140000
DTEND;TZID=America/Los_Angeles:20230801T140000
DTSTAMP:20260420T231056
CREATED:20230727T180354Z
LAST-MODIFIED:20230727T180947Z
UID:6793-1690898400-1690898400@portofskagit.com
SUMMARY:Commission Work Session--Rescheduled
DESCRIPTION:NOTICE IS HEREBY GIVEN on behalf of the President of the Port Commission of the Port of Skagit County that the regular monthly work session meeting of the Board of Commissioners\, Port of Skagit County\, scheduled for: \nTuesday\, August 1\, 2023\, at 2:00 PM has been changed. \nThe work session meeting has been rescheduled to:\nTuesday\, August 22\, 2023\, at 2:00 PM \nWork session meetings are held in the Port of Skagit County hearing room\, located at 15400 Airport Drive\, Burlington\, Washington.
URL:https://portofskagit.com/event/commission-work-session-change-of-date/
LOCATION:Port Commission Hearing Room\, 15400 Airport Drive\, Burlington\, WA\, United States
CATEGORIES:Commission
ATTACH;FMTTYPE=image/png:https://portofskagit.com/wp-content/uploads/2020/12/post-image.png
END:VEVENT
BEGIN:VEVENT
DTSTART;TZID=America/Los_Angeles:20230411T140000
DTEND;TZID=America/Los_Angeles:20230411T140000
DTSTAMP:20260420T231056
CREATED:20230331T194905Z
LAST-MODIFIED:20230331T204949Z
UID:6691-1681221600-1681221600@portofskagit.com
SUMMARY:Port Commission Regular Meeting-2023
DESCRIPTION:Please refer to the Meeting and Agendas on the Port Commission page for the agenda that correlates with this meeting. \n  \nThe Commission of the Port of Skagit County will hold its Regular Meeting on the second Tuesday of the month\, at 2:00pm. \n  \nPlease note:  The Port of Skagit is discontinuing the Zoom/Virtual meeting option and resuming normal operations consistent with the commission regular business meetings.
URL:https://portofskagit.com/event/port-commission-regular-meeting-2023-2/
LOCATION:Port Commission Hearing Room\, 15400 Airport Drive\, Burlington\, WA\, United States
CATEGORIES:Commission
ATTACH;FMTTYPE=image/jpeg:https://portofskagit.com/wp-content/uploads/2021/01/sunset-white-logo-resized.jpg
END:VEVENT
BEGIN:VEVENT
DTSTART;VALUE=DATE:20230704
DTEND;VALUE=DATE:20230705
DTSTAMP:20260420T231056
CREATED:20230602T233853Z
LAST-MODIFIED:20230602T233853Z
UID:6748-1688428800-1688515199@portofskagit.com
SUMMARY:Holiday Closure
DESCRIPTION:The Port of Skagit Administrative Office will be closed on July 4th for the Independence Day holiday. \n  \nPlease join us at the La Conner Marina for a Hometown Celebration for the 4th of July!
URL:https://portofskagit.com/event/holiday-closure-3/
LOCATION:WA
CATEGORIES:Port Administration
ATTACH;FMTTYPE=image/jpeg:https://portofskagit.com/wp-content/uploads/2021/01/DSC_0998-scaled.jpg
END:VEVENT
BEGIN:VEVENT
DTSTART;VALUE=DATE:20230704
DTEND;VALUE=DATE:20230705
DTSTAMP:20260420T231056
CREATED:20230602T233636Z
LAST-MODIFIED:20230602T233636Z
UID:6743-1688428800-1688515199@portofskagit.com
SUMMARY:4th of July Celebration at La Conner Marina
DESCRIPTION:Join us on the 4th of July for a Hometown Celebration at the La Conner Marina. \n  \nLive Music…..Food…..Beverages…..Gigantic Fireworks Display!!! \n  \nFor more information\, please call 360-708-7770.
URL:https://portofskagit.com/event/4th-of-july-celebration-at-la-conner-marina/
LOCATION:La Conner Marina\, 613 N 2nd Street\, La Conner\, WA\, United States
CATEGORIES:La Conner Marina
ATTACH;FMTTYPE=image/jpeg:https://portofskagit.com/wp-content/uploads/2022/02/IMG_0309.jpg
END:VEVENT
BEGIN:VEVENT
DTSTART;VALUE=DATE:20230619
DTEND;VALUE=DATE:20230620
DTSTAMP:20260420T231056
CREATED:20230602T232232Z
LAST-MODIFIED:20230602T232232Z
UID:6741-1687132800-1687219199@portofskagit.com
SUMMARY:Holiday Closure
DESCRIPTION:The Port of Skagit Administrative Office will be closed on Monday\, June 19th in observance of the Juneteenth federal holiday. \n  \nThe La Conner Marina office will be open regular hours.
URL:https://portofskagit.com/event/holiday-closure-2/
LOCATION:WA
CATEGORIES:Port Administration
ATTACH;FMTTYPE=image/jpeg:https://portofskagit.com/wp-content/uploads/2021/01/DSC_0998-scaled.jpg
END:VEVENT
BEGIN:VEVENT
DTSTART;TZID=America/Los_Angeles:20230411T140000
DTEND;TZID=America/Los_Angeles:20230411T140000
DTSTAMP:20260420T231056
CREATED:20230331T194905Z
LAST-MODIFIED:20230331T204949Z
UID:6691-1681221600-1681221600@portofskagit.com
SUMMARY:Port Commission Regular Meeting-2023
DESCRIPTION:Please refer to the Meeting and Agendas on the Port Commission page for the agenda that correlates with this meeting. \n  \nThe Commission of the Port of Skagit County will hold its Regular Meeting on the second Tuesday of the month\, at 2:00pm. \n  \nPlease note:  The Port of Skagit is discontinuing the Zoom/Virtual meeting option and resuming normal operations consistent with the commission regular business meetings.
URL:https://portofskagit.com/event/port-commission-regular-meeting-2023-2/
LOCATION:Port Commission Hearing Room\, 15400 Airport Drive\, Burlington\, WA\, United States
CATEGORIES:Commission
ATTACH;FMTTYPE=image/jpeg:https://portofskagit.com/wp-content/uploads/2021/01/sunset-white-logo-resized.jpg
END:VEVENT
BEGIN:VEVENT
DTSTART;VALUE=DATE:20230529
DTEND;VALUE=DATE:20230530
DTSTAMP:20260420T231056
CREATED:20230522T165420Z
LAST-MODIFIED:20230522T165420Z
UID:6725-1685318400-1685404799@portofskagit.com
SUMMARY:Holiday Closure
DESCRIPTION:The Port Administrative office will be closed on Monday\, May 29th in observance of the Memorial Day holiday. \n  \nThe La Conner Marina office will be open.
URL:https://portofskagit.com/event/holiday-closure/
LOCATION:WA
CATEGORIES:Port Administration
ATTACH;FMTTYPE=image/jpeg:https://portofskagit.com/wp-content/uploads/2021/01/DSC_0998-scaled.jpg
END:VEVENT
BEGIN:VEVENT
DTSTART;TZID=America/Los_Angeles:20230411T140000
DTEND;TZID=America/Los_Angeles:20230411T140000
DTSTAMP:20260420T231056
CREATED:20230331T194905Z
LAST-MODIFIED:20230331T204949Z
UID:6691-1681221600-1681221600@portofskagit.com
SUMMARY:Port Commission Regular Meeting-2023
DESCRIPTION:Please refer to the Meeting and Agendas on the Port Commission page for the agenda that correlates with this meeting. \n  \nThe Commission of the Port of Skagit County will hold its Regular Meeting on the second Tuesday of the month\, at 2:00pm. \n  \nPlease note:  The Port of Skagit is discontinuing the Zoom/Virtual meeting option and resuming normal operations consistent with the commission regular business meetings.
URL:https://portofskagit.com/event/port-commission-regular-meeting-2023-2/
LOCATION:Port Commission Hearing Room\, 15400 Airport Drive\, Burlington\, WA\, United States
CATEGORIES:Commission
ATTACH;FMTTYPE=image/jpeg:https://portofskagit.com/wp-content/uploads/2021/01/sunset-white-logo-resized.jpg
END:VEVENT
BEGIN:VEVENT
DTSTART;TZID=America/Los_Angeles:20230411T140000
DTEND;TZID=America/Los_Angeles:20230411T140000
DTSTAMP:20260420T231056
CREATED:20230804T164448Z
LAST-MODIFIED:20230804T164448Z
UID:6801-1681221600-1681221600@portofskagit.com
SUMMARY:Port Commission Regular Meeting-2023
DESCRIPTION:Please refer to the Meeting and Agendas on the Port Commission page for the agenda that correlates with this meeting. \n  \nThe Commission of the Port of Skagit County will hold its Regular Meeting on the second Tuesday of the month\, at 2:00pm. \n  \nPlease note:  The Port of Skagit is discontinuing the Zoom/Virtual meeting option and resuming normal operations consistent with the commission regular business meetings.
URL:https://portofskagit.com/event/port-commission-regular-meeting-2023-3/
LOCATION:Port Commission Hearing Room\, 15400 Airport Drive\, Burlington\, WA\, United States
ATTACH;FMTTYPE=image/jpeg:https://portofskagit.com/wp-content/uploads/2021/01/sunset-white-logo-resized.jpg
END:VEVENT
BEGIN:VEVENT
DTSTART;TZID=America/Los_Angeles:20230411T140000
DTEND;TZID=America/Los_Angeles:20230411T140000
DTSTAMP:20260420T231056
CREATED:20230331T194905Z
LAST-MODIFIED:20230331T204949Z
UID:6691-1681221600-1681221600@portofskagit.com
SUMMARY:Port Commission Regular Meeting-2023
DESCRIPTION:Please refer to the Meeting and Agendas on the Port Commission page for the agenda that correlates with this meeting. \n  \nThe Commission of the Port of Skagit County will hold its Regular Meeting on the second Tuesday of the month\, at 2:00pm. \n  \nPlease note:  The Port of Skagit is discontinuing the Zoom/Virtual meeting option and resuming normal operations consistent with the commission regular business meetings.
URL:https://portofskagit.com/event/port-commission-regular-meeting-2023-2/
LOCATION:Port Commission Hearing Room\, 15400 Airport Drive\, Burlington\, WA\, United States
CATEGORIES:Commission
ATTACH;FMTTYPE=image/jpeg:https://portofskagit.com/wp-content/uploads/2021/01/sunset-white-logo-resized.jpg
END:VEVENT
BEGIN:VEVENT
DTSTART;TZID=America/Los_Angeles:20230404T140000
DTEND;TZID=America/Los_Angeles:20230404T140000
DTSTAMP:20260420T231056
CREATED:20230331T195304Z
LAST-MODIFIED:20230331T215914Z
UID:6694-1680616800-1680616800@portofskagit.com
SUMMARY:Port Commission Work Session Meeting
DESCRIPTION:
URL:https://portofskagit.com/event/port-commission-work-session-meeting-2/
LOCATION:SWIFT Center\, 1801 Hub Drive\, Sedro-Woolley\, WA
CATEGORIES:Commission
ATTACH;FMTTYPE=image/jpeg:https://portofskagit.com/wp-content/uploads/2021/01/DSC_0998-scaled.jpg
END:VEVENT
BEGIN:VEVENT
DTSTART;TZID=America/Los_Angeles:20230314T140000
DTEND;TZID=America/Los_Angeles:20230314T140000
DTSTAMP:20260420T231056
CREATED:20230313T182214Z
LAST-MODIFIED:20230331T194409Z
UID:6656-1678802400-1678802400@portofskagit.com
SUMMARY:Port Commission Regular Meeting-2023
DESCRIPTION:Please refer to the Meeting and Agendas on the Port Commission page for the agenda that correlates with this meeting. \n  \nThe Commission of the Port of Skagit County will hold its Regular Meeting on the second Tuesday of the month\, at 2:00pm. \n  \nPlease note:  The Port of Skagit is discontinuing the Zoom/Virtual meeting option and resuming normal operations consistent with the commission regular business meetings. \n 
URL:https://portofskagit.com/event/port-commission-regular-meeting-2023/
LOCATION:Port Commission Hearing Room\, 15400 Airport Drive\, Burlington\, WA\, United States
CATEGORIES:Commission
ATTACH;FMTTYPE=image/jpeg:https://portofskagit.com/wp-content/uploads/2021/01/sunset-white-logo-resized.jpg
END:VEVENT
BEGIN:VEVENT
DTSTART;TZID=America/Los_Angeles:20230307T140000
DTEND;TZID=America/Los_Angeles:20230307T140000
DTSTAMP:20260420T231056
CREATED:20230302T051707Z
LAST-MODIFIED:20230302T051707Z
UID:6623-1678197600-1678197600@portofskagit.com
SUMMARY:Port Commission Work Session Meeting (Cancelled)
DESCRIPTION:Please refer to the Meeting and Agendas on the Port Commission page for the agenda that correlates with this meeting. \nNOTICE OF CANCELLATION OF WORK SESSION MEETING\nNOTICE IS HEREBY GIVEN on behalf of the President of the Port Commission of the Port of Skagit\, the work session meeting of the Board of Commissioners\, Port of Skagit previously scheduled for Tuesday\, March 7\, 2023\, at 2:00 PM is hereby cancelled.
URL:https://portofskagit.com/event/port-commission-work-session-meeting-cancelled/
LOCATION:Port Commission Hearing Room\, 15400 Airport Drive\, Burlington\, WA\, United States
CATEGORIES:Commission
ATTACH;FMTTYPE=image/jpeg:https://portofskagit.com/wp-content/uploads/2022/12/Sunrise-Dec-2022-scaled.jpg
END:VEVENT
BEGIN:VEVENT
DTSTART;TZID=America/Los_Angeles:20230214T140000
DTEND;TZID=America/Los_Angeles:20230214T140000
DTSTAMP:20260420T231056
CREATED:20230212T200246Z
LAST-MODIFIED:20230212T200246Z
UID:6612-1676383200-1676383200@portofskagit.com
SUMMARY:Port Commission Regular Meeting
DESCRIPTION:Please refer to the Meeting and Agendas on the Port Commission page for the agenda that correlates with this meeting. \n  \nThe Commission of the Port of Skagit County will hold a Regular Meeting on Tuesday\, February 14\, 2023 at 2:00pm. \n  \nThe Port of Skagit is discontinuing the Zoom/Virtual meeting option and resuming normal operations consistent with the commission regular business meetings.
URL:https://portofskagit.com/event/port-commission-regular-meeting/
LOCATION:Port Commission Hearing Room\, 15400 Airport Drive\, Burlington\, WA\, United States
CATEGORIES:Commission
ATTACH;FMTTYPE=image/jpeg:https://portofskagit.com/wp-content/uploads/2021/01/sunset-white-logo-resized.jpg
END:VEVENT
BEGIN:VEVENT
DTSTART;TZID=America/Los_Angeles:20230207T140000
DTEND;TZID=America/Los_Angeles:20230207T140000
DTSTAMP:20260420T231056
CREATED:20230206T184450Z
LAST-MODIFIED:20230206T184450Z
UID:6608-1675778400-1675778400@portofskagit.com
SUMMARY:Port Commission Work Session Meeting
DESCRIPTION:Please refer to the Meeting and Agendas on the Port Commission page for the agenda that correlates with this meeting. \n  \nThe Commission of the Port of Skagit County will hold a Work Session Meeting on Tuesday\, February 7\, 2023 at 2:00pm. \n  \nThis meeting will be in-person at the Commission Hearing Room at 15400 Airport Drive in Burlington WA \n  \n  \nITEM/S FOR DISCUSSION:  \n  \nItem 1: ADMIN: Port Resiliency/Climate Action Planning (2023); Peak Sustainability Group \n  \nItem 2: MARINA: Marina Rate Review (2023) – Review & Discuss \n  \nADJOURNMENT
URL:https://portofskagit.com/event/port-commission-work-session-meeting/
LOCATION:Port Commission Hearing Room\, 15400 Airport Drive\, Burlington\, WA\, United States
CATEGORIES:Commission
ATTACH;FMTTYPE=image/jpeg:https://portofskagit.com/wp-content/uploads/2022/12/Sunrise-Dec-2022-scaled.jpg
END:VEVENT
BEGIN:VEVENT
DTSTART;VALUE=DATE:20230116
DTEND;VALUE=DATE:20230117
DTSTAMP:20260420T231056
CREATED:20230112T202012Z
LAST-MODIFIED:20230112T202012Z
UID:6596-1673827200-1673913599@portofskagit.com
SUMMARY:Port Offices Closed--Martin Luther King Jr. Day
DESCRIPTION:The Port of Skagit offices will be closed on Monday\, January 16\, 2023 in observance of Dr. Martin Luther King Jr. Day.
URL:https://portofskagit.com/event/port-offices-closed-martin-luther-king-jr-day/
LOCATION:WA
CATEGORIES:Port Administration
ATTACH;FMTTYPE=image/jpeg:https://portofskagit.com/wp-content/uploads/2022/12/Sunrise-Dec-2022-scaled.jpg
END:VEVENT
BEGIN:VEVENT
DTSTART;TZID=America/Los_Angeles:20230110T140000
DTEND;TZID=America/Los_Angeles:20230110T140000
DTSTAMP:20260420T231056
CREATED:20230109T174746Z
LAST-MODIFIED:20230109T174746Z
UID:6589-1673359200-1673359200@portofskagit.com
SUMMARY:Regular Meeting of the Port Commission
DESCRIPTION:Please refer to the Meeting and Agendas on the Port Commission page for the agenda that correlates with this meeting. \n  \nThe Commission of the Port of Skagit County will hold a Regular Meeting on Tuesday\, January 10\, 2023 at 2:00pm. \n  \n* The Port of Skagit is discontinuing the Zoom/Virtual meeting option and resuming normal operations consistent with the Commission regular business meetings.
URL:https://portofskagit.com/event/regular-meeting-of-the-port-commission-3/
LOCATION:Port Commission Hearing Room\, 15400 Airport Drive\, Burlington\, WA\, United States
CATEGORIES:Commission
ATTACH;FMTTYPE=image/jpeg:https://portofskagit.com/wp-content/uploads/2021/01/sunset-white-logo-resized.jpg
END:VEVENT
BEGIN:VEVENT
DTSTART;TZID=America/Los_Angeles:20230103T140000
DTEND;TZID=America/Los_Angeles:20230103T140000
DTSTAMP:20260420T231056
CREATED:20221223T225506Z
LAST-MODIFIED:20221223T225506Z
UID:6577-1672754400-1672754400@portofskagit.com
SUMMARY:Cancellation of Work Session
DESCRIPTION:NOTICE IS HEREBY GIVEN on behalf of the President of the Port Commission of the Port of Skagit\, the work session meeting of the Board of Commissioners\, Port of Skagit previously scheduled for Tuesday\, January 3\, 2023\, at 2:00 PM is hereby cancelled.
URL:https://portofskagit.com/event/cancellation-of-work-session/
LOCATION:WA
CATEGORIES:Commission
ATTACH;FMTTYPE=image/jpeg:https://portofskagit.com/wp-content/uploads/2022/12/Sunrise-Dec-2022-scaled.jpg
END:VEVENT
BEGIN:VEVENT
DTSTART;VALUE=DATE:20221226
DTEND;VALUE=DATE:20221227
DTSTAMP:20260420T231056
CREATED:20220112T192835Z
LAST-MODIFIED:20220112T192835Z
UID:6231-1672012800-1672099199@portofskagit.com
SUMMARY:Holiday--Port Offices Closed
DESCRIPTION:The Port of Skagit offices will be closed on Monday\, December 26\, 2022 in observance of Christmas.
URL:https://portofskagit.com/event/holiday-port-offices-closed-8/
LOCATION:WA
CATEGORIES:Port Administration
ATTACH;FMTTYPE=image/jpeg:https://portofskagit.com/wp-content/uploads/2021/01/DSC_0998-scaled.jpg
END:VEVENT
BEGIN:VEVENT
DTSTART;TZID=America/Los_Angeles:20221215T103000
DTEND;TZID=America/Los_Angeles:20221215T170000
DTSTAMP:20260420T231056
CREATED:20221215T005123Z
LAST-MODIFIED:20221215T005123Z
UID:6574-1671100200-1671123600@portofskagit.com
SUMMARY:Port Offices-Early Closure
DESCRIPTION:The Port of Skagit offices will be closing at 10:30am on Thursday\, December 15th for an offsite staff meeting. \n  \nOffices will re-open at regular time on Friday\, December 16th.  Thank you for your understanding.
URL:https://portofskagit.com/event/port-offices-early-closure/
LOCATION:WA
CATEGORIES:Port Administration
ATTACH;FMTTYPE=image/jpeg:https://portofskagit.com/wp-content/uploads/2021/01/sunset-white-logo-resized.jpg
END:VEVENT
BEGIN:VEVENT
DTSTART;TZID=America/Los_Angeles:20221213T140000
DTEND;TZID=America/Los_Angeles:20221213T150000
DTSTAMP:20260420T231056
CREATED:20220103T213609Z
LAST-MODIFIED:20221213T003403Z
UID:6103-1670940000-1670943600@portofskagit.com
SUMMARY:Regular Meeting of the Port Commission-2022
DESCRIPTION:Please refer to the Meeting and Agendas on the Port Commission page for the agenda that correlates with this meeting. \n  \nThe Commission of the Port of Skagit County will hold a Regular Meeting on Tuesday\, December 13\, 2022 at 2:00pm. \n  \nThis meeting will be in-person with an online video/telephone conference meeting option.  Public attendees may participate in-person at the Commission Hearing Room at 15400 Airport Drive in Burlington WA or by joining the Zoom session with the following credentials: \n  \nZoom Session Information \n Meeting ID: 815-3975-1887 \nPasscode: 604-309 \nBy Phone:  (253) 215-8782 (you will then be prompted for Meeting ID and Passcode). \n 
URL:https://portofskagit.com/event/regular-meeting-of-the-port-commission-2-2022-06-14-2022-12-13/
LOCATION:Zoom Meeting (Remote)\, 15400 Airport Drive\, Burlington\, WA\, 98233\, United States
CATEGORIES:Commission,Port Administration
ATTACH;FMTTYPE=image/jpeg:https://portofskagit.com/wp-content/uploads/2021/01/sunset-white-logo-resized.jpg
END:VEVENT
BEGIN:VEVENT
DTSTART;TZID=America/Los_Angeles:20221213T140000
DTEND;TZID=America/Los_Angeles:20221213T140000
DTSTAMP:20260420T231056
CREATED:20221207T220941Z
LAST-MODIFIED:20221207T220941Z
UID:6564-1670940000-1670940000@portofskagit.com
SUMMARY:Annual Meeting of the Port of Skagit Industrial Development Corporation
DESCRIPTION:NOTICE IS HEREBY GIVEN that following the scheduled meeting of the Board of Commissioners\, Port of Skagit\, to be held on Tuesday\, December 13\, 2022\, at 2:00 p.m. in the Hearing Room of the terminal administration building at Skagit Regional Airport and via online video/telephone conference meeting\, the Board of Directors will conduct the annual meeting of the Port of Skagit County Industrial Development Corporation. \n  \nPublic attendees may participate by joining the Zoom session with the following credentials: \n  \nZoom Session Information \n Meeting ID: 815-3975-1887 \nPasscode: 604-309 \nBy Phone:  (253) 215-8782 (you will then be prompted for Meeting ID and Passcode). \n 
URL:https://portofskagit.com/event/annual-meeting-of-the-port-of-skagit-industrial-development-corporation/
LOCATION:Port Commission Hearing Room\, 15400 Airport Drive\, Burlington\, WA\, United States
CATEGORIES:Commission
ATTACH;FMTTYPE=image/jpeg:https://portofskagit.com/wp-content/uploads/2021/01/DJI_0459-Marina-4.jpg
END:VEVENT
END:VCALENDAR