BEGIN:VCALENDAR
VERSION:2.0
PRODID:-//Port of Skagit - ECPv6.15.15//NONSGML v1.0//EN
CALSCALE:GREGORIAN
METHOD:PUBLISH
X-WR-CALNAME:Port of Skagit
X-ORIGINAL-URL:https://portofskagit.com
X-WR-CALDESC:Events for Port of Skagit
REFRESH-INTERVAL;VALUE=DURATION:PT1H
X-Robots-Tag:noindex
X-PUBLISHED-TTL:PT1H
BEGIN:VTIMEZONE
TZID:America/Los_Angeles
BEGIN:DAYLIGHT
TZOFFSETFROM:-0800
TZOFFSETTO:-0700
TZNAME:PDT
DTSTART:20220313T100000
END:DAYLIGHT
BEGIN:STANDARD
TZOFFSETFROM:-0700
TZOFFSETTO:-0800
TZNAME:PST
DTSTART:20221106T090000
END:STANDARD
BEGIN:DAYLIGHT
TZOFFSETFROM:-0800
TZOFFSETTO:-0700
TZNAME:PDT
DTSTART:20230312T100000
END:DAYLIGHT
BEGIN:STANDARD
TZOFFSETFROM:-0700
TZOFFSETTO:-0800
TZNAME:PST
DTSTART:20231105T090000
END:STANDARD
BEGIN:DAYLIGHT
TZOFFSETFROM:-0800
TZOFFSETTO:-0700
TZNAME:PDT
DTSTART:20240310T100000
END:DAYLIGHT
BEGIN:STANDARD
TZOFFSETFROM:-0700
TZOFFSETTO:-0800
TZNAME:PST
DTSTART:20241103T090000
END:STANDARD
BEGIN:DAYLIGHT
TZOFFSETFROM:-0800
TZOFFSETTO:-0700
TZNAME:PDT
DTSTART:20250309T100000
END:DAYLIGHT
BEGIN:STANDARD
TZOFFSETFROM:-0700
TZOFFSETTO:-0800
TZNAME:PST
DTSTART:20251102T090000
END:STANDARD
END:VTIMEZONE
BEGIN:VEVENT
DTSTART;TZID=America/Los_Angeles:20240611T140000
DTEND;TZID=America/Los_Angeles:20240611T140000
DTSTAMP:20260420T200404
CREATED:20240610T172314Z
LAST-MODIFIED:20240610T172330Z
UID:7048-1718114400-1718114400@portofskagit.com
SUMMARY:Port Commission Regular Meeting-2024
DESCRIPTION:Please refer to the Meeting and Agendas on the Port Commission page for the agenda that correlates with this meeting. \n  \nThe Commission of the Port of Skagit County will hold a Regular Meeting on Tuesday\, June 11\, 2024 at 2:00pm. \n  \nPublic attendees may participate in-person at the Commission Hearing Room at 15400 Airport Drive in Burlington\, WA.
URL:https://portofskagit.com/event/port-commission-regular-meeting-2024-4/
LOCATION:Port Commission Hearing Room\, 15400 Airport Drive\, Burlington\, WA\, United States
CATEGORIES:Commission
ATTACH;FMTTYPE=image/jpeg:https://portofskagit.com/wp-content/uploads/2021/01/sunset-white-logo-resized.jpg
END:VEVENT
BEGIN:VEVENT
DTSTART;TZID=America/Los_Angeles:20240604T140000
DTEND;TZID=America/Los_Angeles:20240604T140000
DTSTAMP:20260420T200404
CREATED:20240529T210057Z
LAST-MODIFIED:20240529T210337Z
UID:7037-1717509600-1717509600@portofskagit.com
SUMMARY:Commission Work Session Meeting--Rescheduled for 6/18
DESCRIPTION:The Commission Work Session Meeting that was scheduled for June 4\, 2024 has been rescheduled to June 18\, 2024.
URL:https://portofskagit.com/event/commission-work-session-meeting-rescheduled/
LOCATION:WA
CATEGORIES:Commission
ATTACH;FMTTYPE=image/jpeg:https://portofskagit.com/wp-content/uploads/2022/12/Sunrise-Dec-2022-scaled.jpg
END:VEVENT
BEGIN:VEVENT
DTSTART;VALUE=DATE:20240527
DTEND;VALUE=DATE:20240528
DTSTAMP:20260420T200404
CREATED:20240524T181608Z
LAST-MODIFIED:20240524T181618Z
UID:7028-1716768000-1716854399@portofskagit.com
SUMMARY:Holiday Closure
DESCRIPTION:The Port of Skagit Administrative Offices will be closed on Monday\, May 27\, 2024 in observance of the Memorial Day holiday. \n  \nThe La Conner Marina office will be open normal hours. \n  \n 
URL:https://portofskagit.com/event/holiday-closure-9/
LOCATION:WA
CATEGORIES:Port Administration
ATTACH;FMTTYPE=image/jpeg:https://portofskagit.com/wp-content/uploads/2020/05/DSC_0254-scaled.jpg
END:VEVENT
BEGIN:VEVENT
DTSTART;TZID=America/Los_Angeles:20240522T090000
DTEND;TZID=America/Los_Angeles:20240522T090000
DTSTAMP:20260420T200404
CREATED:20240521T181458Z
LAST-MODIFIED:20240521T181620Z
UID:7022-1716368400-1716368400@portofskagit.com
SUMMARY:Special Meeting--Executive Session
DESCRIPTION:NOTICE IS HEREBY GIVEN that the Port Commission of the Port of Skagit County will participate in a special meeting on Wednesday\, May 22\, 2024 at 9:00am. \nThe meeting will take place at the Port of Skagit Hearing Room\, located at 15400 Airport Drive\, Burlington\, WA. \n  \nThe purpose of the special meeting is: \nTo hold an executive session – to discuss with legal counsel representing the agency\, litigation\, or potential litigation RCW 42.30.110(i). \n  \nPlease refer to the Meeting and Agendas on the Port Commission page for the agenda that correlates with this meeting.
URL:https://portofskagit.com/event/special-meeting-executive-session/
LOCATION:Port Commission Hearing Room\, 15400 Airport Drive\, Burlington\, WA\, United States
CATEGORIES:Commission
ATTACH;FMTTYPE=image/jpeg:https://portofskagit.com/wp-content/uploads/2022/12/Sunrise-Dec-2022-scaled.jpg
END:VEVENT
BEGIN:VEVENT
DTSTART;TZID=America/Los_Angeles:20240507T140000
DTEND;TZID=America/Los_Angeles:20240507T140000
DTSTAMP:20260420T200404
CREATED:20240506T153657Z
LAST-MODIFIED:20240506T153707Z
UID:7008-1715090400-1715090400@portofskagit.com
SUMMARY:Port Commission Work Session Meeting
DESCRIPTION:Please refer to the Meeting and Agendas on the Port Commission page for the agenda that correlates with this meeting. \n  \nThe Commission of the Port of Skagit County will hold a Work Session Meeting on Tuesday\, May 7\, 2024 at 2:00pm. \n  \nThis meeting will be in-person at the Commission Hearing Room at 15400 Airport Drive in Burlington WA.
URL:https://portofskagit.com/event/port-commission-work-session-meeting-5/
LOCATION:Port Commission Hearing Room\, 15400 Airport Drive\, Burlington\, WA\, United States
CATEGORIES:Commission
ATTACH;FMTTYPE=image/jpeg:https://portofskagit.com/wp-content/uploads/2021/01/DSC_0998-scaled.jpg
END:VEVENT
BEGIN:VEVENT
DTSTART;TZID=America/Los_Angeles:20240416T140000
DTEND;TZID=America/Los_Angeles:20240416T140000
DTSTAMP:20260420T200404
CREATED:20240415T165723Z
LAST-MODIFIED:20240415T165731Z
UID:6992-1713276000-1713276000@portofskagit.com
SUMMARY:Port Commission Work Session Meeting
DESCRIPTION:Please refer to the Meeting and Agendas on the Port Commission page for the agenda that correlates with this meeting. \n  \nThe Commission of the Port of Skagit County will hold a Work Session Meeting on Tuesday\, April 16\, 2024 at 2:00pm. \n  \nThis meeting will be in-person at the Commission Hearing Room at 15400 Airport Drive in Burlington WA.
URL:https://portofskagit.com/event/port-commission-work-session-meeting-4/
LOCATION:Port Commission Hearing Room\, 15400 Airport Drive\, Burlington\, WA\, United States
CATEGORIES:Commission
ATTACH;FMTTYPE=image/jpeg:https://portofskagit.com/wp-content/uploads/2021/01/DSC_0998-scaled.jpg
END:VEVENT
BEGIN:VEVENT
DTSTART;TZID=America/Los_Angeles:20240409T140000
DTEND;TZID=America/Los_Angeles:20240409T140000
DTSTAMP:20260420T200404
CREATED:20240408T161221Z
LAST-MODIFIED:20240408T161239Z
UID:6987-1712671200-1712671200@portofskagit.com
SUMMARY:Port Commission Regular Meeting-2024
DESCRIPTION:Please refer to the Meeting and Agendas on the Port Commission page for the agenda that correlates with this meeting. \n  \nThe Commission of the Port of Skagit County will hold a Regular Meeting on Tuesday\, April 9\, 2024 at 2:00pm. \n  \nPublic attendees may participate in-person at the Commission Hearing Room at 15400 Airport Drive in Burlington WA
URL:https://portofskagit.com/event/port-commission-regular-meeting-2024-3/
LOCATION:Port Commission Hearing Room\, 15400 Airport Drive\, Burlington\, WA\, United States
CATEGORIES:Commission
ATTACH;FMTTYPE=image/jpeg:https://portofskagit.com/wp-content/uploads/2021/01/DJI_0459-Marina-4.jpg
END:VEVENT
BEGIN:VEVENT
DTSTART;TZID=America/Los_Angeles:20240327T164500
DTEND;TZID=America/Los_Angeles:20240327T164500
DTSTAMP:20260420T200404
CREATED:20240327T133316Z
LAST-MODIFIED:20240327T133325Z
UID:6973-1711557900-1711557900@portofskagit.com
SUMMARY:Port Commission Special Meeting
DESCRIPTION:Please refer to the Meeting and Agendas on the Port Commission page for the agenda that correlates with this meeting. \n  \nThe Port Commission of the Port of Skagit County will hold a special meeting on Wednesday\, March 27\, 2024\, at 4:45 p.m.\, in the \ncommission hearing room\, located at 15400 Airport Drive\, Burlington\, WA 98233. \n  \nThe purpose of the special meeting is to: \n1.) Review of Public Employee. \nEXECUTIVE SESSION – to review the performance of a public employee RCW 42.30.110. \n  \n 
URL:https://portofskagit.com/event/port-commission-special-meeting-2/
LOCATION:Port Commission Hearing Room\, 15400 Airport Drive\, Burlington\, WA\, United States
CATEGORIES:Commission
ATTACH;FMTTYPE=image/jpeg:https://portofskagit.com/wp-content/uploads/2022/12/Sunrise-Dec-2022-scaled.jpg
END:VEVENT
BEGIN:VEVENT
DTSTART;TZID=America/Los_Angeles:20240319T100000
DTEND;TZID=America/Los_Angeles:20240319T130000
DTSTAMP:20260420T200404
CREATED:20240315T223352Z
LAST-MODIFIED:20240315T223359Z
UID:6965-1710842400-1710853200@portofskagit.com
SUMMARY:Port Commission Work Session Meeting
DESCRIPTION:Please refer to the Meeting and Agendas on the Port Commission page for the agenda that correlates with this meeting. \n  \nThe Commission of the Port of Skagit County will hold a Work Session Meeting on Tuesday\, March 19\, 2024 at 10am \n  \nThis meeting will be in-person in the Coleman Building at the SWIFT Center at 1801 Hub Drive in Sedro-Woolley\, WA.
URL:https://portofskagit.com/event/port-commission-work-session-meeting-3/
LOCATION:SWIFT Center\, 1801 Hub Drive\, Sedro-Woolley\, WA
CATEGORIES:Commission
ATTACH;FMTTYPE=image/jpeg:https://portofskagit.com/wp-content/uploads/2021/01/swift-menu-bg.jpg
END:VEVENT
BEGIN:VEVENT
DTSTART;TZID=America/Los_Angeles:20240319T100000
DTEND;TZID=America/Los_Angeles:20240319T100000
DTSTAMP:20260420T200404
CREATED:20240318T173556Z
LAST-MODIFIED:20240318T173605Z
UID:6968-1710842400-1710842400@portofskagit.com
SUMMARY:Special Meeting of the Port Commission
DESCRIPTION:Please refer to the Meeting and Agendas on the Port Commission page for the agenda that correlates with this meeting. \n  \nNOTICE IS HEREBY GIVEN that the Port Commission of the Port of Skagit County will participate in a special meeting on Tuesday\, March 19\, 2024\, to be held at 10:00 a.m. \n* This meeting will be held at the Port of Skagit SWIFT Center Campus\, Coleman Building\, 1801 Hub Drive\, Sedro-Woolley\, WA. \nThe purpose of the special meeting is to review and possibly approve: \nWATERSHED: Watershed Business Park Infrastructure Development; Sanitary Sewer; TRICO Companies\, LLC (2023) – Approve Change Order \n  \nMeeting will adjourn and will be immediately followed by the Port Commission Work Session Meeting until 1pm.
URL:https://portofskagit.com/event/special-meeting-of-the-port-commission-10/
LOCATION:SWIFT Center\, 1801 Hub Drive\, Sedro-Woolley\, WA
CATEGORIES:Commission
ATTACH;FMTTYPE=image/jpeg:https://portofskagit.com/wp-content/uploads/2020/08/bg-swift.jpg
END:VEVENT
BEGIN:VEVENT
DTSTART;TZID=America/Los_Angeles:20240312T140000
DTEND;TZID=America/Los_Angeles:20240312T140000
DTSTAMP:20260420T200404
CREATED:20240311T152120Z
LAST-MODIFIED:20240311T152149Z
UID:6957-1710252000-1710252000@portofskagit.com
SUMMARY:Port Commission Regular Meeting-2024
DESCRIPTION:Please refer to the Meeting and Agendas on the Port Commission page for the agenda that correlates with this meeting. \n  \nThe Commission of the Port of Skagit County will hold a Regular Meeting on Tuesday\, March 12\, 2024 at 2:00pm. \n  \nThis meeting will be in-person at the Commission Hearing Room at 15400 Airport Drive in Burlington WA
URL:https://portofskagit.com/event/port-commission-regular-meeting-2024-2/
LOCATION:Port Commission Hearing Room\, 15400 Airport Drive\, Burlington\, WA\, United States
CATEGORIES:Commission
ATTACH;FMTTYPE=image/jpeg:https://portofskagit.com/wp-content/uploads/2021/01/DSC_0998-scaled.jpg
END:VEVENT
BEGIN:VEVENT
DTSTART;TZID=America/Los_Angeles:20240213T140000
DTEND;TZID=America/Los_Angeles:20240213T140000
DTSTAMP:20260420T200404
CREATED:20240212T171434Z
LAST-MODIFIED:20240212T171453Z
UID:6940-1707832800-1707832800@portofskagit.com
SUMMARY:Commission Meeting--Cancelled
DESCRIPTION:NOTICE IS HEREBY GIVEN on behalf of the President of the Port Commission of the Port of Skagit County that the regular monthly business meeting of the Board of Commissioners\, Port of Skagit County\, scheduled for Tuesday\, February 13\, 2024\, at 2:00pm has been cancelled.
URL:https://portofskagit.com/event/commission-meeting-cancelled/
LOCATION:Port Commission Hearing Room\, 15400 Airport Drive\, Burlington\, WA\, United States
CATEGORIES:Commission
ATTACH;FMTTYPE=image/jpeg:https://portofskagit.com/wp-content/uploads/2022/12/Sunrise-Dec-2022-scaled.jpg
END:VEVENT
BEGIN:VEVENT
DTSTART;TZID=America/Los_Angeles:20240206T150000
DTEND;TZID=America/Los_Angeles:20240206T160000
DTSTAMP:20260420T200404
CREATED:20240205T172227Z
LAST-MODIFIED:20240205T172253Z
UID:6934-1707231600-1707235200@portofskagit.com
SUMMARY:Commission Business Meeting
DESCRIPTION:Please refer to the Meeting and Agendas on the Port Commission page for the agenda that correlates with this meeting. \n  \nThe Commission of the Port of Skagit County will hold a  Commission Business Meeting on Tuesday\, February 6\, 2024 at 3:00pm. \n  \nThis meeting will be in-person at the Seafarers Memorial Park at 601 Seafarers Way in Anacortes\, WA \n 
URL:https://portofskagit.com/event/commission-business-meeting/
LOCATION:Seafarer’s Memorial Park\, 601 Seafarers Way\, Anacortes\, WA\, 98221\, United States
CATEGORIES:Commission
ATTACH;FMTTYPE=image/jpeg:https://portofskagit.com/wp-content/uploads/2021/01/DSC_0998-scaled.jpg
END:VEVENT
BEGIN:VEVENT
DTSTART;TZID=America/Los_Angeles:20240206T100000
DTEND;TZID=America/Los_Angeles:20240207T150000
DTSTAMP:20260420T200404
CREATED:20240205T171658Z
LAST-MODIFIED:20240205T171658Z
UID:6924-1707213600-1707318000@portofskagit.com
SUMMARY:Commission Retreat
DESCRIPTION:Port of Skagit Commission Retreat will be held the following days and times: \nFebruary 6th from 10am–3pm \nFebruary 7th from 10am–3pm
URL:https://portofskagit.com/event/commission-retreat/
LOCATION:Seafarer’s Memorial Park\, 601 Seafarers Way\, Anacortes\, WA\, 98221\, United States
CATEGORIES:Commission
ATTACH;FMTTYPE=image/jpeg:https://portofskagit.com/wp-content/uploads/2024/02/seafarers2.jpg
END:VEVENT
BEGIN:VEVENT
DTSTART;VALUE=DATE:20240115
DTEND;VALUE=DATE:20240116
DTSTAMP:20260420T200404
CREATED:20240108T173842Z
LAST-MODIFIED:20240108T173851Z
UID:6911-1705276800-1705363199@portofskagit.com
SUMMARY:Holiday Closure
DESCRIPTION:The Port of Skagit offices will be closed on Monday\, January 15th in observance of Martin Luther King Jr. Day.
URL:https://portofskagit.com/event/holiday-closure-8/
LOCATION:WA
CATEGORIES:Port Administration
ATTACH;FMTTYPE=image/jpeg:https://portofskagit.com/wp-content/uploads/2022/12/Sunrise-Dec-2022-scaled.jpg
END:VEVENT
BEGIN:VEVENT
DTSTART;TZID=America/Los_Angeles:20240109T140000
DTEND;TZID=America/Los_Angeles:20240109T140000
DTSTAMP:20260420T200404
CREATED:20240108T173233Z
LAST-MODIFIED:20240108T173913Z
UID:6909-1704808800-1704808800@portofskagit.com
SUMMARY:Port Commission Regular Meeting-2024
DESCRIPTION:Please refer to the Meeting and Agendas on the Port Commission page for the agenda that correlates with this meeting. \n  \nThe Commission of the Port of Skagit County will hold its Regular Meeting on the second Tuesday of the month\, at 2:00pm. \n  \nPlease note:  The Port of Skagit is discontinuing the Zoom/Virtual meeting option and resuming normal operations consistent with the commission regular business meetings.
URL:https://portofskagit.com/event/port-commission-regular-meeting-2024/
LOCATION:Port Commission Hearing Room\, 15400 Airport Drive\, Burlington\, WA\, United States
CATEGORIES:Commission
ATTACH;FMTTYPE=image/jpeg:https://portofskagit.com/wp-content/uploads/2021/01/sunset-white-logo-resized.jpg
END:VEVENT
BEGIN:VEVENT
DTSTART;TZID=America/Los_Angeles:20240102T140000
DTEND;TZID=America/Los_Angeles:20240102T140000
DTSTAMP:20260420T200404
CREATED:20231222T190925Z
LAST-MODIFIED:20231222T191029Z
UID:6905-1704204000-1704204000@portofskagit.com
SUMMARY:Commission Work Session--Cancelled
DESCRIPTION:The work session meeting of the Port of Skagit Commission previously scheduled for Tuesday\, January 2\, 2024\, at 2:00 PM has been cancelled.
URL:https://portofskagit.com/event/commission-work-session-cancelled-2/
LOCATION:WA
CATEGORIES:Commission
ATTACH;FMTTYPE=image/jpeg:https://portofskagit.com/wp-content/uploads/2021/01/DSC_0998-scaled.jpg
END:VEVENT
BEGIN:VEVENT
DTSTART;VALUE=DATE:20240101
DTEND;VALUE=DATE:20240102
DTSTAMP:20260420T200404
CREATED:20231129T213325Z
LAST-MODIFIED:20231129T213325Z
UID:6887-1704067200-1704153599@portofskagit.com
SUMMARY:Holiday Closure
DESCRIPTION:The Port of Skagit will be closed on Monday\, January 1\, 2024 for New Years Day.  The Port will reopen on Tuesday\, January 2nd for normal operating hours. \n  \nHappy New Year!
URL:https://portofskagit.com/event/holiday-closure-7/
LOCATION:WA
CATEGORIES:Port Administration
ATTACH;FMTTYPE=image/jpeg:https://portofskagit.com/wp-content/uploads/2022/12/Sunrise-Dec-2022-scaled.jpg
END:VEVENT
BEGIN:VEVENT
DTSTART;VALUE=DATE:20231225
DTEND;VALUE=DATE:20231226
DTSTAMP:20260420T200404
CREATED:20231129T213145Z
LAST-MODIFIED:20231129T213145Z
UID:6885-1703462400-1703548799@portofskagit.com
SUMMARY:Holiday Closure
DESCRIPTION:The Port of Skagit will be closed on Monday\, December 25th for the Christmas holiday.  The Port will reopen on Tuesday\, December 26th for normal operating hours. \n  \nHappy Holidays!
URL:https://portofskagit.com/event/holiday-closure-6/
LOCATION:WA
CATEGORIES:Port Administration
ATTACH;FMTTYPE=image/jpeg:https://portofskagit.com/wp-content/uploads/2022/12/Sunrise-Dec-2022-scaled.jpg
END:VEVENT
BEGIN:VEVENT
DTSTART;VALUE=DATE:20231215
DTEND;VALUE=DATE:20231216
DTSTAMP:20260420T200404
CREATED:20231130T211527Z
LAST-MODIFIED:20231130T211527Z
UID:6889-1702598400-1702684799@portofskagit.com
SUMMARY:Office Closure--Training
DESCRIPTION:The Port of Skagit offices will be closed on Friday\, December 15th for Port staff training and holiday party.
URL:https://portofskagit.com/event/office-closure-training/
LOCATION:WA
CATEGORIES:Port Administration
ATTACH;FMTTYPE=image/jpeg:https://portofskagit.com/wp-content/uploads/2023/11/Staff-Training.jpg
END:VEVENT
BEGIN:VEVENT
DTSTART;TZID=America/Los_Angeles:20230411T140000
DTEND;TZID=America/Los_Angeles:20230411T140000
DTSTAMP:20260420T200404
CREATED:20230331T194905Z
LAST-MODIFIED:20230331T204949Z
UID:6691-1681221600-1681221600@portofskagit.com
SUMMARY:Port Commission Regular Meeting-2023
DESCRIPTION:Please refer to the Meeting and Agendas on the Port Commission page for the agenda that correlates with this meeting. \n  \nThe Commission of the Port of Skagit County will hold its Regular Meeting on the second Tuesday of the month\, at 2:00pm. \n  \nPlease note:  The Port of Skagit is discontinuing the Zoom/Virtual meeting option and resuming normal operations consistent with the commission regular business meetings.
URL:https://portofskagit.com/event/port-commission-regular-meeting-2023-2/
LOCATION:Port Commission Hearing Room\, 15400 Airport Drive\, Burlington\, WA\, United States
CATEGORIES:Commission
ATTACH;FMTTYPE=image/jpeg:https://portofskagit.com/wp-content/uploads/2021/01/sunset-white-logo-resized.jpg
END:VEVENT
BEGIN:VEVENT
DTSTART;TZID=America/Los_Angeles:20231205T140000
DTEND;TZID=America/Los_Angeles:20231205T140000
DTSTAMP:20260420T200404
CREATED:20231129T212917Z
LAST-MODIFIED:20231129T212950Z
UID:6882-1701784800-1701784800@portofskagit.com
SUMMARY:Commission Work Session--Cancelled
DESCRIPTION:NOTICE IS HEREBY GIVEN on behalf of the President of the Port Commission of the Port of Skagit\, the work session meeting of the Board of Commissioners\, Port of Skagit previously scheduled for Tuesday\, December 5\, 2023\, at 2:00 PM is hereby cancelled. \n 
URL:https://portofskagit.com/event/commission-work-session-cancelled/
LOCATION:Port Commission Hearing Room\, 15400 Airport Drive\, Burlington\, WA\, United States
CATEGORIES:Commission
ATTACH;FMTTYPE=image/jpeg:https://portofskagit.com/wp-content/uploads/2022/02/IMG_0309.jpg
END:VEVENT
BEGIN:VEVENT
DTSTART;TZID=America/Los_Angeles:20230411T140000
DTEND;TZID=America/Los_Angeles:20230411T140000
DTSTAMP:20260420T200404
CREATED:20230331T194905Z
LAST-MODIFIED:20230331T204949Z
UID:6691-1681221600-1681221600@portofskagit.com
SUMMARY:Port Commission Regular Meeting-2023
DESCRIPTION:Please refer to the Meeting and Agendas on the Port Commission page for the agenda that correlates with this meeting. \n  \nThe Commission of the Port of Skagit County will hold its Regular Meeting on the second Tuesday of the month\, at 2:00pm. \n  \nPlease note:  The Port of Skagit is discontinuing the Zoom/Virtual meeting option and resuming normal operations consistent with the commission regular business meetings.
URL:https://portofskagit.com/event/port-commission-regular-meeting-2023-2/
LOCATION:Port Commission Hearing Room\, 15400 Airport Drive\, Burlington\, WA\, United States
CATEGORIES:Commission
ATTACH;FMTTYPE=image/jpeg:https://portofskagit.com/wp-content/uploads/2021/01/sunset-white-logo-resized.jpg
END:VEVENT
BEGIN:VEVENT
DTSTART;VALUE=DATE:20231110
DTEND;VALUE=DATE:20231111
DTSTAMP:20260420T200404
CREATED:20231108T171127Z
LAST-MODIFIED:20231108T171209Z
UID:6872-1699574400-1699660799@portofskagit.com
SUMMARY:Holiday Closure
DESCRIPTION:The Port of Skagit offices will be closed on Friday\, November 10th in observance of Veterans Day. \n  \nThank you to all those who have served.
URL:https://portofskagit.com/event/holiday-closure-5/
LOCATION:WA
CATEGORIES:Port Administration
ATTACH;FMTTYPE=image/png:https://portofskagit.com/wp-content/uploads/2022/10/HFM-cropped.png
END:VEVENT
BEGIN:VEVENT
DTSTART;TZID=America/Los_Angeles:20231107T140000
DTEND;TZID=America/Los_Angeles:20231107T140000
DTSTAMP:20260420T200404
CREATED:20231103T202711Z
LAST-MODIFIED:20231106T022144Z
UID:6856-1699365600-1699365600@portofskagit.com
SUMMARY:Commission Work Session--Cancelled
DESCRIPTION:UPDATE:  The November 7th Port of Skagit Commission Work Session has been cancelled. \n  \nPlease refer to the Meeting and Agendas on the Port Commission page for the agenda that correlates with this meeting. \n  \nThe Commission of the Port of Skagit County will hold a Work Session Meeting on Tuesday\, November 7\, 2023 at 2:00pm. \n  \nThis meeting will be in-person at the Commission Hearing Room at 15400 Airport Drive in Burlington WA \n  \nITEM/S FOR DISCUSSION: \n  \nItem 1:            ADMIN:  Preliminary 2024 Budget Presentation – Presentation and Discussion \n  \nADJOURNMENT
URL:https://portofskagit.com/event/commission-work-session-5/
LOCATION:Port Commission Hearing Room\, 15400 Airport Drive\, Burlington\, WA\, United States
CATEGORIES:Commission
ATTACH;FMTTYPE=image/jpeg:https://portofskagit.com/wp-content/uploads/2021/01/DSC_0998-scaled.jpg
END:VEVENT
BEGIN:VEVENT
DTSTART;TZID=America/Los_Angeles:20231017T140000
DTEND;TZID=America/Los_Angeles:20231017T140000
DTSTAMP:20260420T200404
CREATED:20230921T203351Z
LAST-MODIFIED:20230921T203555Z
UID:6828-1697551200-1697551200@portofskagit.com
SUMMARY:Commission Work Session--Date Change
DESCRIPTION:NOTICE IS HEREBY GIVEN on behalf of the President of the Port Commission of the Port of Skagit\, that the October work session meeting of the Board of Commissioners\, Port of Skagit\, scheduled for Tuesday\, October 3\, 2023\, at 2:00 PM has been changed. \nThe work session meeting has been rescheduled to:\nTuesday\, October 17\, 2023\, at 2:00 PM. \n  \nPlease refer to the Meeting and Agendas on the Port Commission page for the agenda that correlates with this meeting. \n  \nThe Commission of the Port of Skagit County will hold a Work Session Meeting on Tuesday\, October 17\, 2023 at 2:00pm. \n  \nThis meeting will be in-person at the Commission Hearing Room at 15400 Airport Drive in Burlington WA. \n 
URL:https://portofskagit.com/event/commission-work-session-date-change/
LOCATION:Port Commission Hearing Room\, 15400 Airport Drive\, Burlington\, WA\, United States
CATEGORIES:Commission
ATTACH;FMTTYPE=image/jpeg:https://portofskagit.com/wp-content/uploads/2021/01/DSC_0998-scaled.jpg
END:VEVENT
BEGIN:VEVENT
DTSTART;TZID=America/Los_Angeles:20230411T140000
DTEND;TZID=America/Los_Angeles:20230411T140000
DTSTAMP:20260420T200404
CREATED:20230331T194905Z
LAST-MODIFIED:20230331T204949Z
UID:6691-1681221600-1681221600@portofskagit.com
SUMMARY:Port Commission Regular Meeting-2023
DESCRIPTION:Please refer to the Meeting and Agendas on the Port Commission page for the agenda that correlates with this meeting. \n  \nThe Commission of the Port of Skagit County will hold its Regular Meeting on the second Tuesday of the month\, at 2:00pm. \n  \nPlease note:  The Port of Skagit is discontinuing the Zoom/Virtual meeting option and resuming normal operations consistent with the commission regular business meetings.
URL:https://portofskagit.com/event/port-commission-regular-meeting-2023-2/
LOCATION:Port Commission Hearing Room\, 15400 Airport Drive\, Burlington\, WA\, United States
CATEGORIES:Commission
ATTACH;FMTTYPE=image/jpeg:https://portofskagit.com/wp-content/uploads/2021/01/sunset-white-logo-resized.jpg
END:VEVENT
BEGIN:VEVENT
DTSTART;TZID=America/Los_Angeles:20230411T140000
DTEND;TZID=America/Los_Angeles:20230411T140000
DTSTAMP:20260420T200404
CREATED:20230331T194905Z
LAST-MODIFIED:20230331T204949Z
UID:6691-1681221600-1681221600@portofskagit.com
SUMMARY:Port Commission Regular Meeting-2023
DESCRIPTION:Please refer to the Meeting and Agendas on the Port Commission page for the agenda that correlates with this meeting. \n  \nThe Commission of the Port of Skagit County will hold its Regular Meeting on the second Tuesday of the month\, at 2:00pm. \n  \nPlease note:  The Port of Skagit is discontinuing the Zoom/Virtual meeting option and resuming normal operations consistent with the commission regular business meetings.
URL:https://portofskagit.com/event/port-commission-regular-meeting-2023-2/
LOCATION:Port Commission Hearing Room\, 15400 Airport Drive\, Burlington\, WA\, United States
CATEGORIES:Commission
ATTACH;FMTTYPE=image/jpeg:https://portofskagit.com/wp-content/uploads/2021/01/sunset-white-logo-resized.jpg
END:VEVENT
BEGIN:VEVENT
DTSTART;TZID=America/Los_Angeles:20230905T140000
DTEND;TZID=America/Los_Angeles:20230905T140000
DTSTAMP:20260420T200404
CREATED:20230901T185430Z
LAST-MODIFIED:20230902T012501Z
UID:6818-1693922400-1693922400@portofskagit.com
SUMMARY:Commission Work Session Meeting
DESCRIPTION:Please refer to the Meeting and Agendas on the Port Commission page for the agenda that correlates with this meeting. \n  \nThe Commission of the Port of Skagit County will hold a Work Session Meeting on Tuesday\, September 5\, 2023 at 2:00pm. \n  \nThis meeting will be in-person at the Commission Hearing Room at 15400 Airport Drive in Burlington WA
URL:https://portofskagit.com/event/commission-work-session-meeting-2/
LOCATION:Port Commission Hearing Room\, 15400 Airport Drive\, Burlington\, WA\, United States
CATEGORIES:Commission
ATTACH;FMTTYPE=image/png:https://portofskagit.com/wp-content/uploads/2020/12/post-image.png
END:VEVENT
BEGIN:VEVENT
DTSTART;TZID=America/Los_Angeles:20230904T080000
DTEND;TZID=America/Los_Angeles:20230904T170000
DTSTAMP:20260420T200404
CREATED:20230901T185105Z
LAST-MODIFIED:20230901T185105Z
UID:6816-1693814400-1693846800@portofskagit.com
SUMMARY:Holiday Closure
DESCRIPTION:The Port of Skagit Administrative Office will be closed on Monday\, September 4 in observance of Labor Day.
URL:https://portofskagit.com/event/holiday-closure-4/
LOCATION:WA
CATEGORIES:Port Administration
ATTACH;FMTTYPE=image/jpeg:https://portofskagit.com/wp-content/uploads/2022/12/Sunrise-Dec-2022-scaled.jpg
END:VEVENT
END:VCALENDAR