BEGIN:VCALENDAR
VERSION:2.0
PRODID:-//Port of Skagit - ECPv6.15.15//NONSGML v1.0//EN
CALSCALE:GREGORIAN
METHOD:PUBLISH
X-WR-CALNAME:Port of Skagit
X-ORIGINAL-URL:https://portofskagit.com
X-WR-CALDESC:Events for Port of Skagit
REFRESH-INTERVAL;VALUE=DURATION:PT1H
X-Robots-Tag:noindex
X-PUBLISHED-TTL:PT1H
BEGIN:VTIMEZONE
TZID:America/Los_Angeles
BEGIN:DAYLIGHT
TZOFFSETFROM:-0800
TZOFFSETTO:-0700
TZNAME:PDT
DTSTART:20230312T100000
END:DAYLIGHT
BEGIN:STANDARD
TZOFFSETFROM:-0700
TZOFFSETTO:-0800
TZNAME:PST
DTSTART:20231105T090000
END:STANDARD
BEGIN:DAYLIGHT
TZOFFSETFROM:-0800
TZOFFSETTO:-0700
TZNAME:PDT
DTSTART:20240310T100000
END:DAYLIGHT
BEGIN:STANDARD
TZOFFSETFROM:-0700
TZOFFSETTO:-0800
TZNAME:PST
DTSTART:20241103T090000
END:STANDARD
BEGIN:DAYLIGHT
TZOFFSETFROM:-0800
TZOFFSETTO:-0700
TZNAME:PDT
DTSTART:20250309T100000
END:DAYLIGHT
BEGIN:STANDARD
TZOFFSETFROM:-0700
TZOFFSETTO:-0800
TZNAME:PST
DTSTART:20251102T090000
END:STANDARD
BEGIN:DAYLIGHT
TZOFFSETFROM:-0800
TZOFFSETTO:-0700
TZNAME:PDT
DTSTART:20260308T100000
END:DAYLIGHT
BEGIN:STANDARD
TZOFFSETFROM:-0700
TZOFFSETTO:-0800
TZNAME:PST
DTSTART:20261101T090000
END:STANDARD
END:VTIMEZONE
BEGIN:VEVENT
DTSTART;VALUE=DATE:20250120
DTEND;VALUE=DATE:20250121
DTSTAMP:20260420T200323
CREATED:20250118T000349Z
LAST-MODIFIED:20250118T000602Z
UID:7277-1737331200-1737417599@portofskagit.com
SUMMARY:Holiday Closure
DESCRIPTION:The Port of Skagit will be closed on Monday\, January 20\, 2025 in observance of Dr. Martin Luther King Jr. Day.
URL:https://portofskagit.com/event/holiday-closure-14/
LOCATION:WA
CATEGORIES:Port Administration
END:VEVENT
BEGIN:VEVENT
DTSTART;TZID=America/Los_Angeles:20250114T143000
DTEND;TZID=America/Los_Angeles:20250114T143000
DTSTAMP:20260420T200323
CREATED:20250113T184859Z
LAST-MODIFIED:20250113T184915Z
UID:7268-1736865000-1736865000@portofskagit.com
SUMMARY:Joint Special Meeting:  Port/PUD
DESCRIPTION:The Port Commission of the Port of Skagit County will hold a special joint commission meeting with the Skagit PUD Board of Commissioners on Tuesday\, January 14\, 2025\, at 2:30 pm. The meeting will be held via Zoom teleconference. \n  \nAttendees may join the meeting by using the following credentials: \nhttps://us02web.zoom.us/j/86186703522?pwd=OkoKHkyaEVc0wsbEegq5Sb68toNqNe.1 \nMeeting ID: 861 8670 3522 \nPasscode: 040364 \n  \nThe purpose of the joint meeting will be to: \n\nSkagitNet\, LLC 2025 Budget
URL:https://portofskagit.com/event/joint-special-meeting-port-pud/
LOCATION:Zoom Meeting (Remote)\, 15400 Airport Drive\, Burlington\, WA\, 98233\, United States
CATEGORIES:Broadband,Commission
ATTACH;FMTTYPE=image/png:https://portofskagit.com/wp-content/uploads/2020/12/post-image.png
END:VEVENT
BEGIN:VEVENT
DTSTART;TZID=America/Los_Angeles:20250107T140000
DTEND;TZID=America/Los_Angeles:20250107T140000
DTSTAMP:20260420T200323
CREATED:20250106T181611Z
LAST-MODIFIED:20250106T181639Z
UID:7261-1736258400-1736258400@portofskagit.com
SUMMARY:Commission Regular Meeting
DESCRIPTION:Please refer to the Meeting and Agendas on the Port Commission page for the agenda that correlates with this meeting. \n  \nThe Commission of the Port of Skagit County will hold a Regular Meeting on Tuesday\, January 7\, 2025 at 2:00pm. \n  \nPublic attendees may participate in-person at the Commission Hearing Room at 15400 Airport Drive in Burlington WA.
URL:https://portofskagit.com/event/commission-regular-meeting-2/
LOCATION:Port Commission Hearing Room\, 15400 Airport Drive\, Burlington\, WA\, United States
CATEGORIES:Commission
ATTACH;FMTTYPE=image/jpeg:https://portofskagit.com/wp-content/uploads/2021/01/DSC_0998-scaled.jpg
END:VEVENT
BEGIN:VEVENT
DTSTART;TZID=America/Los_Angeles:20241210T140000
DTEND;TZID=America/Los_Angeles:20241210T140000
DTSTAMP:20260420T200323
CREATED:20241209T164522Z
LAST-MODIFIED:20241209T164530Z
UID:7256-1733839200-1733839200@portofskagit.com
SUMMARY:Commission Regular Meeting
DESCRIPTION:Please refer to the Meeting and Agendas on the Port Commission page for the agenda that correlates with this meeting. \n  \nThe Commission of the Port of Skagit County will hold a Regular Meeting on Tuesday\, December 10\, 2024 at 2:00pm. \n  \nThis meeting will be in-person at the Commission Hearing Room at 15400 Airport Drive in Burlington WA
URL:https://portofskagit.com/event/commission-regular-meeting/
LOCATION:Port Commission Hearing Room\, 15400 Airport Drive\, Burlington\, WA\, United States
CATEGORIES:Commission
ATTACH;FMTTYPE=image/png:https://portofskagit.com/wp-content/uploads/2020/12/post-image.png
END:VEVENT
BEGIN:VEVENT
DTSTART;TZID=America/Los_Angeles:20241203T140000
DTEND;TZID=America/Los_Angeles:20241203T140000
DTSTAMP:20260420T200323
CREATED:20241202T200251Z
LAST-MODIFIED:20241202T200300Z
UID:7251-1733234400-1733234400@portofskagit.com
SUMMARY:Commission Work Session
DESCRIPTION:Please refer to the Meeting and Agendas on the Port Commission page for the agenda that correlates with this meeting. \n  \nThe Commission of the Port of Skagit County will hold a Work Session Meeting on Tuesday\, December 3\, 2024 at 2:00pm. \n  \nThis meeting will be in-person at the Commission Hearing Room at 15400 Airport Drive in Burlington WA \n  \nITEM/S FOR DISCUSSION:  \nItem 1: Broadband Update \nItem 2: SWIFT Center Energy Planning \nItem 3: Commission Committee Assignments Discussion \nItem 4: Draft 2025 Commission Calendar Discussion \nItem 5: 2025 Airshow Event Planning Update \n  \nADJOURNMENT
URL:https://portofskagit.com/event/commission-work-session-8/
LOCATION:Port Commission Hearing Room\, 15400 Airport Drive\, Burlington\, WA\, United States
CATEGORIES:Commission
ATTACH;FMTTYPE=image/png:https://portofskagit.com/wp-content/uploads/2020/12/post-image.png
END:VEVENT
BEGIN:VEVENT
DTSTART;VALUE=DATE:20241128
DTEND;VALUE=DATE:20241130
DTSTAMP:20260420T200323
CREATED:20241125T192546Z
LAST-MODIFIED:20241125T192721Z
UID:7246-1732752000-1732924799@portofskagit.com
SUMMARY:Holiday Closure
DESCRIPTION:The Port of Skagit will be closed on Thursday and Friday\, November 28 and 29\, 2024 in observance of the Thanksgiving holiday.
URL:https://portofskagit.com/event/holiday-closure-13/
LOCATION:WA
CATEGORIES:Port Administration
ATTACH;FMTTYPE=image/jpeg:https://portofskagit.com/wp-content/uploads/2021/01/DSC_0998-scaled.jpg
END:VEVENT
BEGIN:VEVENT
DTSTART;TZID=America/Los_Angeles:20241112T140000
DTEND;TZID=America/Los_Angeles:20241112T140000
DTSTAMP:20260420T200323
CREATED:20241111T222622Z
LAST-MODIFIED:20241111T222633Z
UID:7233-1731420000-1731420000@portofskagit.com
SUMMARY:Commission Regular Meeting--2024
DESCRIPTION:Please refer to the Meeting and Agendas on the Port Commission page for the agenda that correlates with this meeting. \n  \nThe Commission of the Port of Skagit County will hold a Regular Meeting on Tuesday\, November 12\, 2024 at 2:00pm. \n  \nPublic attendees may participate in-person at the Commission Hearing Room at 15400 Airport Drive in Burlington WA.
URL:https://portofskagit.com/event/commission-regular-meeting-2024-4/
LOCATION:Port Commission Hearing Room\, 15400 Airport Drive\, Burlington\, WA\, United States
CATEGORIES:Commission
ATTACH;FMTTYPE=image/jpeg:https://portofskagit.com/wp-content/uploads/2021/01/DSC_0998-scaled.jpg
END:VEVENT
BEGIN:VEVENT
DTSTART;TZID=America/Los_Angeles:20241112T140000
DTEND;TZID=America/Los_Angeles:20241112T140000
DTSTAMP:20260420T200323
CREATED:20241101T221227Z
LAST-MODIFIED:20241101T221235Z
UID:7210-1731420000-1731420000@portofskagit.com
SUMMARY:Public Hearings
DESCRIPTION:NOTICE OF PUBLIC HEARINGS \n  \nThe Port of Skagit Commission will hold two Public Hearings on November 12\, 2024: \n  \n1.   NOTICE IS HEREBY GIVEN on behalf of the President of the Port Commission and pursuant to RCW 53.20.010\, a public hearing will be held November 12\, 2024\, at 2:00 p.m. \nThe purpose of the public hearing is to receive public input regarding the adoption of an updated and revised Comprehensive Scheme of Harbor Improvements. All interested persons are invited to attend and provide comment. \n  \n  \n2.    NOTICE IS HEREBY GIVEN on behalf of the President of the Port Commission and pursuant to RCW 53.35.020\, the preliminary budget of the Port of Skagit for fiscal year 2025 will be placed on file Friday\, November 1\, 2024\, at the port office\, located in the Administration Building at Skagit Regional Airport\, 15400 Airport Drive\, Burlington\, Washington 98233. Copies may be obtained on or after November 1\, 2024.  A copy can also be obtained on the Port of Skagit website www.portofskagit.com. \nThe Port Commission will conduct a public hearing on the 2025 preliminary budget at its regular commission meeting on November 12\, 2024\, at 2:00 p.m.  Following the public hearing\, the Port Commission expects to fix and adopt the final budget for the Port of Skagit for fiscal year 2025. \n 
URL:https://portofskagit.com/event/public-hearings/
LOCATION:Port Commission Hearing Room\, 15400 Airport Drive\, Burlington\, WA\, United States
CATEGORIES:Commission
ATTACH;FMTTYPE=image/jpeg:https://portofskagit.com/wp-content/uploads/2022/02/IMG_0309.jpg
END:VEVENT
BEGIN:VEVENT
DTSTART;VALUE=DATE:20241111
DTEND;VALUE=DATE:20241112
DTSTAMP:20260420T200323
CREATED:20241108T235556Z
LAST-MODIFIED:20241108T235603Z
UID:7231-1731283200-1731369599@portofskagit.com
SUMMARY:Holiday Closure
DESCRIPTION:The Port of Skagit offices will be closed on Monday\, November 11\, 2024 in observance of the Veterans Day holiday. \nThank you to all the brave women and men who have served our country so selflessly.
URL:https://portofskagit.com/event/holiday-closure-12/
LOCATION:WA
CATEGORIES:Port Administration
ATTACH;FMTTYPE=image/jpeg:https://portofskagit.com/wp-content/uploads/2024/07/flags-small-scaled.jpg
END:VEVENT
BEGIN:VEVENT
DTSTART;TZID=America/Los_Angeles:20241105T140000
DTEND;TZID=America/Los_Angeles:20241105T140000
DTSTAMP:20260420T200323
CREATED:20241101T220835Z
LAST-MODIFIED:20241104T193930Z
UID:7208-1730815200-1730815200@portofskagit.com
SUMMARY:Commission Work Session
DESCRIPTION:Please refer to the Meeting and Agendas on the Port Commission page for the agenda that correlates with this meeting. \n  \nThe Commission of the Port of Skagit County will hold a Work Session Meeting on Tuesday\, November 5\, 2024 at 2:00pm. \n  \nThis meeting will be in-person at the Commission Hearing Room at 15400 Airport Drive in Burlington WA \n  \nNEW BUSINESS: \n\nPUB AGENCY:  Prospective Property Purchase; Interlocal Agreement with Port of Anacortes (2024); Approve Agreement \n  \nITEM/S FOR DISCUSSION: \nItem 1:    2023 Audit Update \nItem 2:    Preliminary Budget Review \nItem 3:    SWIFT Center Marketing and Strategic Planning \nItem 4:    Energy Workgroup Update \nItem 5:     Airport Rate Discussion \n \n \nEXECUTIVE SESSION – To evaluate the qualifications of an applicant for public employment per RCW42.30.110 (g) \n\nADJOURNMENT \n 
URL:https://portofskagit.com/event/commission-work-session-7/
LOCATION:Port Commission Hearing Room\, 15400 Airport Drive\, Burlington\, WA\, United States
CATEGORIES:Commission
ATTACH;FMTTYPE=image/jpeg:https://portofskagit.com/wp-content/uploads/2021/01/DSC_0998-scaled.jpg
END:VEVENT
BEGIN:VEVENT
DTSTART;TZID=America/Los_Angeles:20241022T140000
DTEND;TZID=America/Los_Angeles:20241022T140000
DTSTAMP:20260420T200323
CREATED:20241022T001916Z
LAST-MODIFIED:20241022T001922Z
UID:7200-1729605600-1729605600@portofskagit.com
SUMMARY:Commission Work Session
DESCRIPTION:Please refer to the Meeting and Agendas on the Port Commission page for the agenda that correlates with this meeting. \n  \nThe Commission of the Port of Skagit County will hold a Work Session Meeting on Tuesday\, October 22\, 2024 at 2:00pm. \n  \nThis meeting will be in-person at the Commission Hearing Room at 15400 Airport Drive in Burlington WA \n  \nITEM/S FOR DISCUSSION:  \n  \nItem 1: Tax Increment Financing Presentation – Tiberius Solutions \nItem 2: Budget Work Session \n  \nADJOURNMENT
URL:https://portofskagit.com/event/commission-work-session-6/
LOCATION:Port Commission Hearing Room\, 15400 Airport Drive\, Burlington\, WA\, United States
CATEGORIES:Commission
ATTACH;FMTTYPE=image/jpeg:https://portofskagit.com/wp-content/uploads/2021/01/DSC_0998-scaled.jpg
END:VEVENT
BEGIN:VEVENT
DTSTART;TZID=America/Los_Angeles:20241008T140000
DTEND;TZID=America/Los_Angeles:20241008T140000
DTSTAMP:20260420T200323
CREATED:20240930T180224Z
LAST-MODIFIED:20240930T180238Z
UID:7159-1728396000-1728396000@portofskagit.com
SUMMARY:Meeting Cancellation
DESCRIPTION:NOTICE IS HEREBY GIVEN on behalf of the President of the Port Commission of the Port of Skagit County that the regular monthly business meeting of the Board of Commissioners\, Port of Skagit County\, scheduled for Tuesday\, October 8\, 2024\, at 2:00 PM has been cancelled. \nCommission meetings are held in the Port of Skagit County hearing room\, located at 15400 Airport Drive\, Burlington\, Washington.
URL:https://portofskagit.com/event/meeting-cancellation/
LOCATION:Port Commission Hearing Room\, 15400 Airport Drive\, Burlington\, WA\, United States
CATEGORIES:Commission
ATTACH;FMTTYPE=image/png:https://portofskagit.com/wp-content/uploads/2020/12/post-image.png
END:VEVENT
BEGIN:VEVENT
DTSTART;TZID=America/Los_Angeles:20241001T110000
DTEND;TZID=America/Los_Angeles:20241001T110000
DTSTAMP:20260420T200323
CREATED:20240930T175954Z
LAST-MODIFIED:20240930T181001Z
UID:7156-1727780400-1727780400@portofskagit.com
SUMMARY:Special Meeting of the Port Commission
DESCRIPTION:Please refer to the Meeting and Agendas on the Port Commission page for the agenda that correlates with this meeting. \n  \nThe Commission of the Port of Skagit County will hold a special meeting on Tuesday\, October 1\, 2024 at 11:00 a.m. \n  \nThe purpose of the special meeting is: \n1. ADMIN: Ratify Earnest Money Agreement for Real Estate Purchase (Dahlstedt Property) (2024) – Adopt Resolution No. 24-_____ \n2. ADMIN: Ratify Real Estate Purchase and Sale Agreement (2024) – Adopt Resolution No. 24-_____ \n3. Consideration of Commission Vacancy \n4. EXECUTIVE SESSION: (1) To discuss with legal counsel representing the agency to consider the selection of a site or the acquisition of real estate by lease or purchase when public knowledge regarding such consideration would cause a likelihood of increased price\, pursuant to RCW 42.30.110 (b).
URL:https://portofskagit.com/event/special-meeting-of-the-port-commission-11/
LOCATION:Port Commission Hearing Room\, 15400 Airport Drive\, Burlington\, WA\, United States
CATEGORIES:Commission
ATTACH;FMTTYPE=image/jpeg:https://portofskagit.com/wp-content/uploads/2022/12/Sunrise-Dec-2022-scaled.jpg
END:VEVENT
BEGIN:VEVENT
DTSTART;TZID=America/Los_Angeles:20240910T140000
DTEND;TZID=America/Los_Angeles:20240910T140000
DTSTAMP:20260420T200323
CREATED:20240909T164637Z
LAST-MODIFIED:20240909T164722Z
UID:7146-1725976800-1725976800@portofskagit.com
SUMMARY:Commission Regular Meeting--2024
DESCRIPTION:Please refer to the Meeting and Agendas on the Port Commission page for the agenda that correlates with this meeting. \n  \nThe Commission of the Port of Skagit County will hold a Regular Meeting on Tuesday\, September 10\, 2024 at 2:00pm. \n  \nPublic attendees may participate in-person at the Commission Hearing Room at 15400 Airport Drive in Burlington WA.
URL:https://portofskagit.com/event/commission-regular-meeting-2024-3/
LOCATION:Port Commission Hearing Room\, 15400 Airport Drive\, Burlington\, WA\, United States
CATEGORIES:Commission
ATTACH;FMTTYPE=image/jpeg:https://portofskagit.com/wp-content/uploads/2021/01/DSC_0998-scaled.jpg
END:VEVENT
BEGIN:VEVENT
DTSTART;TZID=America/Los_Angeles:20240903T140000
DTEND;TZID=America/Los_Angeles:20240903T140000
DTSTAMP:20260420T200323
CREATED:20240903T063830Z
LAST-MODIFIED:20240903T063842Z
UID:7138-1725372000-1725372000@portofskagit.com
SUMMARY:Commission Work Session Meeting
DESCRIPTION:Please refer to the Meeting and Agendas on the Port Commission page for the agenda that correlates with this meeting. \n  \nThe Commission of the Port of Skagit County will hold a Work Session Meeting on Tuesday\, September 3\, 2024 at 2:00pm. \n  \nThis meeting will be in-person at the Commission Hearing Room at 15400 Airport Drive in Burlington WA \n  \nITEM/S FOR DISCUSSION:  \n  \n  \nItem 1:   Energy \n  \nItem 2:   Real Estate \n  \nADJOURNMENT
URL:https://portofskagit.com/event/commission-work-session-meeting-4/
LOCATION:Port Commission Hearing Room\, 15400 Airport Drive\, Burlington\, WA\, United States
CATEGORIES:Commission
ATTACH;FMTTYPE=image/jpeg:https://portofskagit.com/wp-content/uploads/2021/01/DSC_0998-scaled.jpg
END:VEVENT
BEGIN:VEVENT
DTSTART;TZID=America/Los_Angeles:20240813T140000
DTEND;TZID=America/Los_Angeles:20240813T140000
DTSTAMP:20260420T200323
CREATED:20240812T164623Z
LAST-MODIFIED:20240812T164631Z
UID:7124-1723557600-1723557600@portofskagit.com
SUMMARY:Commission Regular Meeting--2024
DESCRIPTION:Please refer to the Meeting and Agendas on the Port Commission page for the agenda that correlates with this meeting. \n  \nThe Commission of the Port of Skagit County will hold a Regular Meeting on Tuesday\, August 13\, 2024 at 2:00pm. \n  \nPublic attendees may participate in-person at the Commission Hearing Room at 15400 Airport Drive in Burlington WA.
URL:https://portofskagit.com/event/commission-regular-meeting-2024-2/
LOCATION:Port Commission Hearing Room\, 15400 Airport Drive\, Burlington\, WA\, United States
CATEGORIES:Commission
ATTACH;FMTTYPE=image/jpeg:https://portofskagit.com/wp-content/uploads/2021/01/DSC_0998-scaled.jpg
END:VEVENT
BEGIN:VEVENT
DTSTART;TZID=America/Los_Angeles:20240803T100000
DTEND;TZID=America/Los_Angeles:20240803T150000
DTSTAMP:20260420T200323
CREATED:20240729T215838Z
LAST-MODIFIED:20240729T215838Z
UID:7118-1722679200-1722697200@portofskagit.com
SUMMARY:24th Annual La Conner Classic Boat & Car Show
DESCRIPTION:Head to the La Conner Marina for the 24th Annual Classic Boat and Car Show\, a celebration of classic cars on land and boats on the water. \n  \nThe event is hosted by the La Conner Chamber of Commerce. \n  \nAdmission is FREE and the event runs from 10am–3pm. \n  \nVisit the Chamber website for more information HERE.  \n 
URL:https://portofskagit.com/event/24th-annual-la-conner-classic-boat-car-show/
LOCATION:La Conner Marina\, 613 N 2nd Street\, La Conner\, WA\, United States
CATEGORIES:La Conner Marina
ATTACH;FMTTYPE=image/jpeg:https://portofskagit.com/wp-content/uploads/2024/07/classic-car.jpg
END:VEVENT
BEGIN:VEVENT
DTSTART;TZID=America/Los_Angeles:20240727T093000
DTEND;TZID=America/Los_Angeles:20240727T160000
DTSTAMP:20260420T200323
CREATED:20240725T212539Z
LAST-MODIFIED:20240725T212558Z
UID:7109-1722072600-1722096000@portofskagit.com
SUMMARY:Northern State Public History Day
DESCRIPTION:Join us on Saturday\, July 27\, 2024 to honor and remember the history of Northern State Hospital. \n  \nFor more details\, visit https://www.northernstatehospital.org/events \n  \n 
URL:https://portofskagit.com/event/northern-state-public-history-day/
LOCATION:SWIFT Center\, 1801 Hub Drive\, Sedro-Woolley\, WA
CATEGORIES:SWIFT Center
ATTACH;FMTTYPE=image/jpeg:https://portofskagit.com/wp-content/uploads/2020/11/scan0002-copy.jpg
END:VEVENT
BEGIN:VEVENT
DTSTART;TZID=America/Los_Angeles:20240709T140000
DTEND;TZID=America/Los_Angeles:20240709T140000
DTSTAMP:20260420T200323
CREATED:20240708T173504Z
LAST-MODIFIED:20240708T173513Z
UID:7100-1720533600-1720533600@portofskagit.com
SUMMARY:Commission Regular Meeting-2024
DESCRIPTION:Please refer to the Meeting and Agendas on the Port Commission page for the agenda that correlates with this meeting. \n  \nThe Commission of the Port of Skagit County will hold a Regular Meeting on Tuesday\, July 9\, 2024 at 2:00pm. \n  \nThis meeting will be in-person at the Port of Skagit Commission Hearing Room at 15400 Airport Drive in Burlington WA.
URL:https://portofskagit.com/event/commission-regular-meeting-2024/
LOCATION:Port Commission Hearing Room\, 15400 Airport Drive\, Burlington\, WA\, United States
CATEGORIES:Commission
ATTACH;FMTTYPE=image/jpeg:https://portofskagit.com/wp-content/uploads/2021/01/DSC_0998-scaled.jpg
END:VEVENT
BEGIN:VEVENT
DTSTART;TZID=America/Los_Angeles:20240704T170000
DTEND;TZID=America/Los_Angeles:20240704T220000
DTSTAMP:20260420T200323
CREATED:20240701T213459Z
LAST-MODIFIED:20240701T213506Z
UID:7094-1720112400-1720130400@portofskagit.com
SUMMARY:4th of July Celebration at La Conner Marina
DESCRIPTION:Come to La Conner Marina for the Annual 4th of July Hometown Celebration!  It’s shaping up to be one of the best events ever. \n  \nLive music from The Power Players and Pacific Twang\, beer and wine garden\, food vendors (including strawberry shortcake from Schuh Farms) and fireworks at the end of the night. \n  \nFestivities begin at 5pm with fireworks at around 10pm. \n  \nHope to see you there!
URL:https://portofskagit.com/event/4th-of-july-celebration-at-la-conner-marina-2/
LOCATION:La Conner Marina\, 613 N 2nd Street\, La Conner\, WA\, United States
CATEGORIES:Event
ATTACH;FMTTYPE=image/jpeg:https://portofskagit.com/wp-content/uploads/2024/07/2024-July-4th-poster.jpg
END:VEVENT
BEGIN:VEVENT
DTSTART;VALUE=DATE:20240704
DTEND;VALUE=DATE:20240705
DTSTAMP:20260420T200323
CREATED:20240701T213136Z
LAST-MODIFIED:20240701T213143Z
UID:7090-1720051200-1720137599@portofskagit.com
SUMMARY:Holiday Closure
DESCRIPTION:The Port of Skagit offices will be closed on Thursday\, July 4th in observance of the Independence Day holiday.  The Marina office will be open normal operating hours.
URL:https://portofskagit.com/event/holiday-closure-11/
LOCATION:WA
CATEGORIES:Port Administration
ATTACH;FMTTYPE=image/jpeg:https://portofskagit.com/wp-content/uploads/2024/07/flags-small-scaled.jpg
END:VEVENT
BEGIN:VEVENT
DTSTART;TZID=America/Los_Angeles:20240702T140000
DTEND;TZID=America/Los_Angeles:20240702T140000
DTSTAMP:20260420T200323
CREATED:20240701T201550Z
LAST-MODIFIED:20240701T201601Z
UID:7088-1719928800-1719928800@portofskagit.com
SUMMARY:Commission Work Session--Cancelled
DESCRIPTION:NOTICE IS HEREBY GIVEN on behalf of the President of the Port Commission of the Port of Skagit\, the Work Session meeting of the Board of Commissioners\, Port of Skagit previously scheduled for Tuesday\, July 2\, 2024\, at 2:00 PM is hereby cancelled. \n 
URL:https://portofskagit.com/event/commission-work-session-cancelled-3/
LOCATION:WA
CATEGORIES:Commission
ATTACH;FMTTYPE=image/jpeg:https://portofskagit.com/wp-content/uploads/2022/12/Sunrise-Dec-2022-scaled.jpg
END:VEVENT
BEGIN:VEVENT
DTSTART;VALUE=DATE:20240619
DTEND;VALUE=DATE:20240620
DTSTAMP:20260420T200323
CREATED:20240614T192148Z
LAST-MODIFIED:20240614T192157Z
UID:7055-1718755200-1718841599@portofskagit.com
SUMMARY:Holiday Closure
DESCRIPTION:The Port of Skagit offices will be closed on Wednesday\, June 19\, 2024 in observance of the Juneteenth holiday. \n  \nThe La Conner Marina office will be open normal hours as part of its summer operating schedule. \n  \n 
URL:https://portofskagit.com/event/holiday-closure-10/
LOCATION:WA
CATEGORIES:Port Administration
ATTACH;FMTTYPE=image/jpeg:https://portofskagit.com/wp-content/uploads/2021/01/DSC_0998-scaled.jpg
END:VEVENT
BEGIN:VEVENT
DTSTART;TZID=America/Los_Angeles:20240618T140000
DTEND;TZID=America/Los_Angeles:20240618T140000
DTSTAMP:20260420T200323
CREATED:20240529T205907Z
LAST-MODIFIED:20240529T205914Z
UID:7035-1718719200-1718719200@portofskagit.com
SUMMARY:Commission Work Session Meeting
DESCRIPTION:Please refer to the Meeting and Agendas on the Port Commission page for the agenda that correlates with this meeting. \n  \nThe Commission of the Port of Skagit County will hold a Work Session Meeting on Tuesday\, June 18\, 2024\, at 2:00 PM. \nWork session meetings are held in the Port of Skagit County hearing room\, located at 15400 Airport Drive\, Burlington\, Washington.
URL:https://portofskagit.com/event/commission-work-session-meeting-3/
LOCATION:Port Commission Hearing Room\, 15400 Airport Drive\, Burlington\, WA\, United States
CATEGORIES:Commission
ATTACH;FMTTYPE=image/png:https://portofskagit.com/wp-content/uploads/2020/12/post-image.png
END:VEVENT
BEGIN:VEVENT
DTSTART;TZID=America/Los_Angeles:20240611T140000
DTEND;TZID=America/Los_Angeles:20240611T140000
DTSTAMP:20260420T200323
CREATED:20240610T172314Z
LAST-MODIFIED:20240610T172330Z
UID:7048-1718114400-1718114400@portofskagit.com
SUMMARY:Port Commission Regular Meeting-2024
DESCRIPTION:Please refer to the Meeting and Agendas on the Port Commission page for the agenda that correlates with this meeting. \n  \nThe Commission of the Port of Skagit County will hold a Regular Meeting on Tuesday\, June 11\, 2024 at 2:00pm. \n  \nPublic attendees may participate in-person at the Commission Hearing Room at 15400 Airport Drive in Burlington\, WA.
URL:https://portofskagit.com/event/port-commission-regular-meeting-2024-4/
LOCATION:Port Commission Hearing Room\, 15400 Airport Drive\, Burlington\, WA\, United States
CATEGORIES:Commission
ATTACH;FMTTYPE=image/jpeg:https://portofskagit.com/wp-content/uploads/2021/01/sunset-white-logo-resized.jpg
END:VEVENT
BEGIN:VEVENT
DTSTART;TZID=America/Los_Angeles:20240604T140000
DTEND;TZID=America/Los_Angeles:20240604T140000
DTSTAMP:20260420T200323
CREATED:20240529T210057Z
LAST-MODIFIED:20240529T210337Z
UID:7037-1717509600-1717509600@portofskagit.com
SUMMARY:Commission Work Session Meeting--Rescheduled for 6/18
DESCRIPTION:The Commission Work Session Meeting that was scheduled for June 4\, 2024 has been rescheduled to June 18\, 2024.
URL:https://portofskagit.com/event/commission-work-session-meeting-rescheduled/
LOCATION:WA
CATEGORIES:Commission
ATTACH;FMTTYPE=image/jpeg:https://portofskagit.com/wp-content/uploads/2022/12/Sunrise-Dec-2022-scaled.jpg
END:VEVENT
BEGIN:VEVENT
DTSTART;VALUE=DATE:20240527
DTEND;VALUE=DATE:20240528
DTSTAMP:20260420T200323
CREATED:20240524T181608Z
LAST-MODIFIED:20240524T181618Z
UID:7028-1716768000-1716854399@portofskagit.com
SUMMARY:Holiday Closure
DESCRIPTION:The Port of Skagit Administrative Offices will be closed on Monday\, May 27\, 2024 in observance of the Memorial Day holiday. \n  \nThe La Conner Marina office will be open normal hours. \n  \n 
URL:https://portofskagit.com/event/holiday-closure-9/
LOCATION:WA
CATEGORIES:Port Administration
ATTACH;FMTTYPE=image/jpeg:https://portofskagit.com/wp-content/uploads/2020/05/DSC_0254-scaled.jpg
END:VEVENT
BEGIN:VEVENT
DTSTART;TZID=America/Los_Angeles:20240522T090000
DTEND;TZID=America/Los_Angeles:20240522T090000
DTSTAMP:20260420T200323
CREATED:20240521T181458Z
LAST-MODIFIED:20240521T181620Z
UID:7022-1716368400-1716368400@portofskagit.com
SUMMARY:Special Meeting--Executive Session
DESCRIPTION:NOTICE IS HEREBY GIVEN that the Port Commission of the Port of Skagit County will participate in a special meeting on Wednesday\, May 22\, 2024 at 9:00am. \nThe meeting will take place at the Port of Skagit Hearing Room\, located at 15400 Airport Drive\, Burlington\, WA. \n  \nThe purpose of the special meeting is: \nTo hold an executive session – to discuss with legal counsel representing the agency\, litigation\, or potential litigation RCW 42.30.110(i). \n  \nPlease refer to the Meeting and Agendas on the Port Commission page for the agenda that correlates with this meeting.
URL:https://portofskagit.com/event/special-meeting-executive-session/
LOCATION:Port Commission Hearing Room\, 15400 Airport Drive\, Burlington\, WA\, United States
CATEGORIES:Commission
ATTACH;FMTTYPE=image/jpeg:https://portofskagit.com/wp-content/uploads/2022/12/Sunrise-Dec-2022-scaled.jpg
END:VEVENT
BEGIN:VEVENT
DTSTART;TZID=America/Los_Angeles:20240507T140000
DTEND;TZID=America/Los_Angeles:20240507T140000
DTSTAMP:20260420T200323
CREATED:20240506T153657Z
LAST-MODIFIED:20240506T153707Z
UID:7008-1715090400-1715090400@portofskagit.com
SUMMARY:Port Commission Work Session Meeting
DESCRIPTION:Please refer to the Meeting and Agendas on the Port Commission page for the agenda that correlates with this meeting. \n  \nThe Commission of the Port of Skagit County will hold a Work Session Meeting on Tuesday\, May 7\, 2024 at 2:00pm. \n  \nThis meeting will be in-person at the Commission Hearing Room at 15400 Airport Drive in Burlington WA.
URL:https://portofskagit.com/event/port-commission-work-session-meeting-5/
LOCATION:Port Commission Hearing Room\, 15400 Airport Drive\, Burlington\, WA\, United States
CATEGORIES:Commission
ATTACH;FMTTYPE=image/jpeg:https://portofskagit.com/wp-content/uploads/2021/01/DSC_0998-scaled.jpg
END:VEVENT
BEGIN:VEVENT
DTSTART;TZID=America/Los_Angeles:20240416T140000
DTEND;TZID=America/Los_Angeles:20240416T140000
DTSTAMP:20260420T200323
CREATED:20240415T165723Z
LAST-MODIFIED:20240415T165731Z
UID:6992-1713276000-1713276000@portofskagit.com
SUMMARY:Port Commission Work Session Meeting
DESCRIPTION:Please refer to the Meeting and Agendas on the Port Commission page for the agenda that correlates with this meeting. \n  \nThe Commission of the Port of Skagit County will hold a Work Session Meeting on Tuesday\, April 16\, 2024 at 2:00pm. \n  \nThis meeting will be in-person at the Commission Hearing Room at 15400 Airport Drive in Burlington WA.
URL:https://portofskagit.com/event/port-commission-work-session-meeting-4/
LOCATION:Port Commission Hearing Room\, 15400 Airport Drive\, Burlington\, WA\, United States
CATEGORIES:Commission
ATTACH;FMTTYPE=image/jpeg:https://portofskagit.com/wp-content/uploads/2021/01/DSC_0998-scaled.jpg
END:VEVENT
END:VCALENDAR