BEGIN:VCALENDAR
VERSION:2.0
PRODID:-//Port of Skagit - ECPv6.15.15//NONSGML v1.0//EN
CALSCALE:GREGORIAN
METHOD:PUBLISH
X-WR-CALNAME:Port of Skagit
X-ORIGINAL-URL:https://portofskagit.com
X-WR-CALDESC:Events for Port of Skagit
REFRESH-INTERVAL;VALUE=DURATION:PT1H
X-Robots-Tag:noindex
X-PUBLISHED-TTL:PT1H
BEGIN:VTIMEZONE
TZID:America/Los_Angeles
BEGIN:DAYLIGHT
TZOFFSETFROM:-0800
TZOFFSETTO:-0700
TZNAME:PDT
DTSTART:20190310T100000
END:DAYLIGHT
BEGIN:STANDARD
TZOFFSETFROM:-0700
TZOFFSETTO:-0800
TZNAME:PST
DTSTART:20191103T090000
END:STANDARD
BEGIN:DAYLIGHT
TZOFFSETFROM:-0800
TZOFFSETTO:-0700
TZNAME:PDT
DTSTART:20200308T100000
END:DAYLIGHT
BEGIN:STANDARD
TZOFFSETFROM:-0700
TZOFFSETTO:-0800
TZNAME:PST
DTSTART:20201101T090000
END:STANDARD
BEGIN:DAYLIGHT
TZOFFSETFROM:-0800
TZOFFSETTO:-0700
TZNAME:PDT
DTSTART:20210314T100000
END:DAYLIGHT
BEGIN:STANDARD
TZOFFSETFROM:-0700
TZOFFSETTO:-0800
TZNAME:PST
DTSTART:20211107T090000
END:STANDARD
BEGIN:DAYLIGHT
TZOFFSETFROM:-0800
TZOFFSETTO:-0700
TZNAME:PDT
DTSTART:20220313T100000
END:DAYLIGHT
BEGIN:STANDARD
TZOFFSETFROM:-0700
TZOFFSETTO:-0800
TZNAME:PST
DTSTART:20221106T090000
END:STANDARD
END:VTIMEZONE
BEGIN:VEVENT
DTSTART;TZID=America/Los_Angeles:20210413T140000
DTEND;TZID=America/Los_Angeles:20210413T150000
DTSTAMP:20260421T133539
CREATED:20210112T202152Z
LAST-MODIFIED:20210412T164804Z
UID:4692-1618322400-1618326000@portofskagit.com
SUMMARY:Regular Meeting of the Port Commission
DESCRIPTION:Please refer to the Meeting and Agendas on the Port Commission page for the agenda that correlates with this meeting. \n  \n*Tuesday\, April 13\, 2021 has been changed to an online video/telephone conference meeting instead of specific location. This change is to meet COVID-19 Phase II Social Distancing requirement. There will be no physical meeting location for this meeting.  Public attendees may participate by joining the Zoom session: \nZoom Session Information \nMeeting ID:     874-7186-8017 \nPasscode:       153-180 \nBy phone:       (253) 215-8782 (you will then be prompted for Meeting ID and Passcode).
URL:https://portofskagit.com/event/regular-meeting-of-the-port-commission-2021-04-13/
LOCATION:Zoom Meeting (Remote)\, 15400 Airport Drive\, Burlington\, WA\, 98233\, United States
CATEGORIES:Commission,Port Administration
ATTACH;FMTTYPE=image/jpeg:https://portofskagit.com/wp-content/uploads/2021/01/sunset-white-logo-resized.jpg
END:VEVENT
BEGIN:VEVENT
DTSTART;TZID=America/Los_Angeles:20201110T140000
DTEND;TZID=America/Los_Angeles:20201110T150000
DTSTAMP:20260421T133539
CREATED:20210112T202151Z
LAST-MODIFIED:20210112T202151Z
UID:4686-1605016800-1605020400@portofskagit.com
SUMMARY:Regular Meeting of the Port Commission
DESCRIPTION:Please refer to the Meeting and Agendas on the Port Commission page for the agenda that correlates with this meeting.
URL:https://portofskagit.com/event/regular-meeting-of-the-port-commission/
LOCATION:Zoom Meeting (Remote)\, 15400 Airport Drive\, Burlington\, WA\, 98233\, United States
CATEGORIES:Commission,Port Administration
ATTACH;FMTTYPE=image/jpeg:https://portofskagit.com/wp-content/uploads/2021/01/sunset-white-logo-resized.jpg
END:VEVENT
BEGIN:VEVENT
DTSTART;VALUE=DATE:20210401
DTEND;VALUE=DATE:20210501
DTSTAMP:20260421T133539
CREATED:20210312T001845Z
LAST-MODIFIED:20210312T002728Z
UID:5037-1617235200-1619827199@portofskagit.com
SUMMARY:Skagit Farm-to-Pint Fest Roadshow
DESCRIPTION:This highly-anticipated food and brew event is back this year\, with a new format.  The Skagit Farm to Pint Fest Roadshow features 13 Skagit Valley Breweries pairing a beer and a bite\, showcasing Skagit Valley grains in the beer and ingredients in the bite. \n100% of proceeds go to support Viva Farms and their mission to create a more just and resilient local food system. \nSkagit Farm to Pint FEST Roadshow starts April 1st and runs through April 30th. \nBe sure to visit the Skagit Farm to Pint Fest website for all the event details and ticket sales.
URL:https://portofskagit.com/event/skagit-farm-to-pint-fest-roadshow/
CATEGORIES:Value-Added Agriculture
ATTACH;FMTTYPE=image/jpeg:https://portofskagit.com/wp-content/uploads/2021/03/Farm-to-Pint-web.jpg
END:VEVENT
BEGIN:VEVENT
DTSTART;TZID=America/Los_Angeles:20210316T150000
DTEND;TZID=America/Los_Angeles:20210316T160000
DTSTAMP:20260421T133539
CREATED:20210315T232303Z
LAST-MODIFIED:20210315T232303Z
UID:5051-1615906800-1615910400@portofskagit.com
SUMMARY:Special Meeting of the Port Commission
DESCRIPTION:Please refer to the Meeting and Agendas on the Port Commission page for the agenda that correlates with this meeting. \n  \nThis meeting has been changed to an online video/telephone conference meeting instead of specific location. This change is to meet COVID-19 Social Distancing requirement. There will be no physical meeting location for this meeting. Public attendees may participate by joining the Zoom session. \n  \nZoom Meeting Information \n  \nMeeting ID:    865-1517-0392 \nPasscode:       435-119 \nBy telephone:  Call 253- 215-8782 (you will then be prompted for Meeting ID and Passcode).
URL:https://portofskagit.com/event/special-meeting-of-the-port-commission/
LOCATION:Zoom Meeting (Remote)\, 15400 Airport Drive\, Burlington\, WA\, 98233\, United States
CATEGORIES:Commission
ATTACH;FMTTYPE=image/jpeg:https://portofskagit.com/wp-content/uploads/2021/01/DSC_0998-scaled.jpg
END:VEVENT
BEGIN:VEVENT
DTSTART;TZID=America/Los_Angeles:20210309T140000
DTEND;TZID=America/Los_Angeles:20210309T150000
DTSTAMP:20260421T133539
CREATED:20210112T202151Z
LAST-MODIFIED:20210309T161812Z
UID:4691-1615298400-1615302000@portofskagit.com
SUMMARY:Regular Meeting of the Port Commission
DESCRIPTION:Please refer to the Meeting and Agendas on the Port Commission page for the agenda that correlates with this meeting. \n  \n\n\n\n* Tuesday\, March 9\, 2021 has been changed to an online video/telephone conference meeting instead of specific location. This change is to meet COVID-19 Phase II Social Distancing requirement. There will be no physical meeting location for this meeting. Public attendees may participate by joining the Zoom session: \nZoom Session Information \nMeeting ID: 874-7186-8017 \nPasscode: 153-180 \nOr by telephone (253) 215-8782 (you will then be prompted for Meeting ID and Passcode).
URL:https://portofskagit.com/event/regular-meeting-of-the-port-commission-2021-03-09/
LOCATION:Zoom Meeting (Remote)\, 15400 Airport Drive\, Burlington\, WA\, 98233\, United States
CATEGORIES:Commission,Port Administration
ATTACH;FMTTYPE=image/jpeg:https://portofskagit.com/wp-content/uploads/2021/01/sunset-white-logo-resized.jpg
END:VEVENT
BEGIN:VEVENT
DTSTART;TZID=America/Los_Angeles:20210215T080000
DTEND;TZID=America/Los_Angeles:20210215T170000
DTSTAMP:20260421T133539
CREATED:20210212T003921Z
LAST-MODIFIED:20210212T003921Z
UID:4961-1613376000-1613408400@portofskagit.com
SUMMARY:Holiday Closure--Monday\, February 15th
DESCRIPTION:The Port of Skagit Administrative and Marina offices will be CLOSED on Monday\, February 15\, 2021 in observance of Presidents’ Day.
URL:https://portofskagit.com/event/holiday-closure-monday-february-15th/
LOCATION:Port Offices\, 15400 Airport Drive\, Burlington\, WA\, 98233\, United States
CATEGORIES:La Conner Marina,Port Administration
ATTACH;FMTTYPE=image/jpeg:https://portofskagit.com/wp-content/uploads/2021/01/DSC_0998-scaled.jpg
END:VEVENT
BEGIN:VEVENT
DTSTART;TZID=America/Los_Angeles:20210209T140000
DTEND;TZID=America/Los_Angeles:20210209T150000
DTSTAMP:20260421T133539
CREATED:20210112T202151Z
LAST-MODIFIED:20210208T224430Z
UID:4690-1612879200-1612882800@portofskagit.com
SUMMARY:Regular Meeting of the Port Commission
DESCRIPTION:Please refer to the Meeting and Agendas on the Port Commission page for the agenda that correlates with this meeting. \n  \n\n\n\n* Tuesday\, February 9\, 2021 has been changed to an online video/telephone conference meeting instead of specific location. This change is to meet COVID-19 Phase I Social Distancing requirement. There will be no physical meeting location for this meeting. Public attendees may participate by joining the Zoom session: \nZoom Session Information\nMeeting ID: 874-7186-8017\nPasscode: 153-180\nOr by telephone at (253) 215-8782 (you will then be prompted for Meeting ID and Passcode).
URL:https://portofskagit.com/event/regular-meeting-of-the-port-commission-2021-02-09/
LOCATION:Zoom Meeting (Remote)\, 15400 Airport Drive\, Burlington\, WA\, 98233\, United States
CATEGORIES:Commission,Port Administration
ATTACH;FMTTYPE=image/jpeg:https://portofskagit.com/wp-content/uploads/2021/01/sunset-white-logo-resized.jpg
END:VEVENT
BEGIN:VEVENT
DTSTART;TZID=America/Los_Angeles:20210118T080000
DTEND;TZID=America/Los_Angeles:20210118T170000
DTSTAMP:20260421T133539
CREATED:20210117T212823Z
LAST-MODIFIED:20210117T212823Z
UID:4791-1610956800-1610989200@portofskagit.com
SUMMARY:Holiday Closure-Monday\, January 18th
DESCRIPTION:The Port of Skagit Administrative and Marina offices will be CLOSED on Monday\, January 18\, 2021 in observance of the Dr. Martin Luther King Jr. holiday.
URL:https://portofskagit.com/event/holiday-closure-monday-january-18th/
LOCATION:Port Offices\, 15400 Airport Drive\, Burlington\, WA\, 98233\, United States
CATEGORIES:La Conner Marina,Port Administration
ATTACH;FMTTYPE=image/jpeg:https://portofskagit.com/wp-content/uploads/2021/01/DSC_0998-scaled.jpg
END:VEVENT
BEGIN:VEVENT
DTSTART;TZID=America/Los_Angeles:20201110T140000
DTEND;TZID=America/Los_Angeles:20201110T150000
DTSTAMP:20260421T133539
CREATED:20210112T202151Z
LAST-MODIFIED:20210112T202151Z
UID:4686-1605016800-1605020400@portofskagit.com
SUMMARY:Regular Meeting of the Port Commission
DESCRIPTION:Please refer to the Meeting and Agendas on the Port Commission page for the agenda that correlates with this meeting.
URL:https://portofskagit.com/event/regular-meeting-of-the-port-commission/
LOCATION:Zoom Meeting (Remote)\, 15400 Airport Drive\, Burlington\, WA\, 98233\, United States
CATEGORIES:Commission,Port Administration
ATTACH;FMTTYPE=image/jpeg:https://portofskagit.com/wp-content/uploads/2021/01/sunset-white-logo-resized.jpg
END:VEVENT
BEGIN:VEVENT
DTSTART;TZID=America/Los_Angeles:20201110T140000
DTEND;TZID=America/Los_Angeles:20201110T150000
DTSTAMP:20260421T133539
CREATED:20210112T202151Z
LAST-MODIFIED:20210112T202151Z
UID:4686-1605016800-1605020400@portofskagit.com
SUMMARY:Regular Meeting of the Port Commission
DESCRIPTION:Please refer to the Meeting and Agendas on the Port Commission page for the agenda that correlates with this meeting.
URL:https://portofskagit.com/event/regular-meeting-of-the-port-commission/
LOCATION:Zoom Meeting (Remote)\, 15400 Airport Drive\, Burlington\, WA\, 98233\, United States
CATEGORIES:Commission,Port Administration
ATTACH;FMTTYPE=image/jpeg:https://portofskagit.com/wp-content/uploads/2021/01/sunset-white-logo-resized.jpg
END:VEVENT
BEGIN:VEVENT
DTSTART;TZID=America/Los_Angeles:20201116T163000
DTEND;TZID=America/Los_Angeles:20201116T173000
DTSTAMP:20260421T133539
CREATED:20201230T185433Z
LAST-MODIFIED:20201230T185433Z
UID:4584-1605544200-1605547800@portofskagit.com
SUMMARY:Public Information Workshop - Skagit Regional Airport
DESCRIPTION:Due to COVID-19\, the public information workshop will take place virtually. There are several opportunities for you to participate and provide comment to the project team: \n\nReview all draft material at: www.skagit.airportstudy.com/master-plan-documents\nReview the narrated project summary video between November 2nd and\nNovember 30th at: www.skagit.airportstudy.com\nParticipate in an interactive Zoom* meeting hosted by the project team on\nNovember 16th from 4:30-5:30pm. *RSVP to ptaylor@coffmanassociates.com to receive the invitation and link.\n\nSend comments to the project team via the project website: www.skagit.airportstudy.com/comments or directly to ptaylor@coffmanassociates.com by November 30th.
URL:https://portofskagit.com/event/public-information-workshop-skagit-regional-airport/
LOCATION:Zoom Meeting (Remote)\, 15400 Airport Drive\, Burlington\, WA\, 98233\, United States
CATEGORIES:Skagit Regional Airport (KBVS)
ORGANIZER;CN="Patrick Taylor":MAILTO:ptaylor@coffmanassociates.com
END:VEVENT
BEGIN:VEVENT
DTSTART;TZID=America/Los_Angeles:20201110T140000
DTEND;TZID=America/Los_Angeles:20201110T150000
DTSTAMP:20260421T133539
CREATED:20210112T202151Z
LAST-MODIFIED:20210112T202151Z
UID:4686-1605016800-1605020400@portofskagit.com
SUMMARY:Regular Meeting of the Port Commission
DESCRIPTION:Please refer to the Meeting and Agendas on the Port Commission page for the agenda that correlates with this meeting.
URL:https://portofskagit.com/event/regular-meeting-of-the-port-commission/
LOCATION:Zoom Meeting (Remote)\, 15400 Airport Drive\, Burlington\, WA\, 98233\, United States
CATEGORIES:Commission,Port Administration
ATTACH;FMTTYPE=image/jpeg:https://portofskagit.com/wp-content/uploads/2021/01/sunset-white-logo-resized.jpg
END:VEVENT
END:VCALENDAR