BEGIN:VCALENDAR
VERSION:2.0
PRODID:-//Port of Skagit - ECPv6.15.20//NONSGML v1.0//EN
CALSCALE:GREGORIAN
METHOD:PUBLISH
X-WR-CALNAME:Port of Skagit
X-ORIGINAL-URL:https://portofskagit.com
X-WR-CALDESC:Events for Port of Skagit
REFRESH-INTERVAL;VALUE=DURATION:PT1H
X-Robots-Tag:noindex
X-PUBLISHED-TTL:PT1H
BEGIN:VTIMEZONE
TZID:America/Los_Angeles
BEGIN:DAYLIGHT
TZOFFSETFROM:-0800
TZOFFSETTO:-0700
TZNAME:PDT
DTSTART:20190310T100000
END:DAYLIGHT
BEGIN:STANDARD
TZOFFSETFROM:-0700
TZOFFSETTO:-0800
TZNAME:PST
DTSTART:20191103T090000
END:STANDARD
BEGIN:DAYLIGHT
TZOFFSETFROM:-0800
TZOFFSETTO:-0700
TZNAME:PDT
DTSTART:20200308T100000
END:DAYLIGHT
BEGIN:STANDARD
TZOFFSETFROM:-0700
TZOFFSETTO:-0800
TZNAME:PST
DTSTART:20201101T090000
END:STANDARD
BEGIN:DAYLIGHT
TZOFFSETFROM:-0800
TZOFFSETTO:-0700
TZNAME:PDT
DTSTART:20210314T100000
END:DAYLIGHT
BEGIN:STANDARD
TZOFFSETFROM:-0700
TZOFFSETTO:-0800
TZNAME:PST
DTSTART:20211107T090000
END:STANDARD
BEGIN:DAYLIGHT
TZOFFSETFROM:-0800
TZOFFSETTO:-0700
TZNAME:PDT
DTSTART:20220313T100000
END:DAYLIGHT
BEGIN:STANDARD
TZOFFSETFROM:-0700
TZOFFSETTO:-0800
TZNAME:PST
DTSTART:20221106T090000
END:STANDARD
END:VTIMEZONE
BEGIN:VEVENT
DTSTART;TZID=America/Los_Angeles:20210727T100000
DTEND;TZID=America/Los_Angeles:20210727T130000
DTSTAMP:20260422T151653
CREATED:20210723T181440Z
LAST-MODIFIED:20210723T181440Z
UID:5805-1627380000-1627390800@portofskagit.com
SUMMARY:Special Meeting of the Port Commission
DESCRIPTION:Please refer to the Meeting and Agendas on the Port Commission page for the Agenda that correlates with this meeting. \n  \nThe Port Commission of the Port of Skagit County will hold a Special Meeting on Tuesday\, July 27\, 2021 for the purpose of Strategic Planning. \nAs required by Gubernatorial Proclamation\, the public may attend this meeting online via video/telephone conference or in person. Public attendees may participate by joining the Zoom session: \n  \nZoom Session Information\nMeeting ID: 878-5385-3418 \nPasscode: 000-805 \nBy Phone:  (253) 215-8782 (you will then be prompted for Meeting ID and Passcode). \n  \nPersons wishing to attend in person must comply with the Gubernatorial mandate that anyone not fully vaccinated against COVID-19 must wear a mask when in attendance.
URL:https://portofskagit.com/event/special-meeting-of-the-port-commission-6/
LOCATION:Zoom Meeting (Remote)\, 15400 Airport Drive\, Burlington\, WA\, 98233\, United States
CATEGORIES:Commission,Economic Development,La Conner Marina
ATTACH;FMTTYPE=image/jpeg:https://portofskagit.com/wp-content/uploads/2021/01/DJI_0459-Marina-4.jpg
END:VEVENT
BEGIN:VEVENT
DTSTART;TZID=America/Los_Angeles:20210715T173000
DTEND;TZID=America/Los_Angeles:20210715T190000
DTSTAMP:20260422T151653
CREATED:20210623T195019Z
LAST-MODIFIED:20210623T211627Z
UID:5731-1626370200-1626375600@portofskagit.com
SUMMARY:Managing Stormwater Facilities:  Workshop
DESCRIPTION:The Skagit Conservation District and Port of Skagit are jointly hosting a FREE online workshop to assist Skagit County neighborhood associations\, business owners and property owners who are responsible for maintaining a stormwater detention pond or other stormwater drainage system in their neighborhood. \n  \nTo view the Workshop flyer\, click HERE. \n  \nTo register\, please email Kristi@skagitcd.org by July 13th. \nQuestions?  Please call 360-428-4313 ext. 1018 \n 
URL:https://portofskagit.com/event/managing-stormwater-facilities-workshop/
LOCATION:Zoom Meeting (Remote)\, 15400 Airport Drive\, Burlington\, WA\, 98233\, United States
CATEGORIES:Environmental Stewardship
ATTACH;FMTTYPE=image/jpeg:https://portofskagit.com/wp-content/uploads/2021/06/IMG_1757-cropped-scaled.jpg
END:VEVENT
BEGIN:VEVENT
DTSTART;TZID=America/Los_Angeles:20210713T140000
DTEND;TZID=America/Los_Angeles:20210713T150000
DTSTAMP:20260422T151653
CREATED:20210112T202152Z
LAST-MODIFIED:20210710T194931Z
UID:4695-1626184800-1626188400@portofskagit.com
SUMMARY:Regular Meeting of the Port Commission
DESCRIPTION:Please refer to the Meeting and Agendas on the Port Commission page for the agenda that correlates with this meeting. \n  \nThe Tuesday\, July 13\, 2021 Commission meeting has been changed to an online video/telephone conference meeting instead of specific location.  This change is to meet COVID-19 Phase II Social Distancing requirement.  Port Commissioners and limited staff will meet in the Port of Skagit Hearing Room. \n  \nPublic attendees may participate by joining the Zoom session using the log-in credentials below: \n  \nMeeting ID:  874-7186-8017 \nPasscode:  153-180 \nBy telephone:   253-215-8782; you will then be prompted for Meeting ID and Passcode. \n 
URL:https://portofskagit.com/event/regular-meeting-port-commission-2021-07-13/
LOCATION:Zoom Meeting (Remote)\, 15400 Airport Drive\, Burlington\, WA\, 98233\, United States
CATEGORIES:Commission,Port Administration
ATTACH;FMTTYPE=image/jpeg:https://portofskagit.com/wp-content/uploads/2021/01/sunset-white-logo-resized.jpg
END:VEVENT
BEGIN:VEVENT
DTSTART;TZID=America/Los_Angeles:20210701T150000
DTEND;TZID=America/Los_Angeles:20210701T160000
DTSTAMP:20260422T151653
CREATED:20210630T222029Z
LAST-MODIFIED:20210630T222029Z
UID:5767-1625151600-1625155200@portofskagit.com
SUMMARY:Port Commission Special Meeting
DESCRIPTION:NOTICE IS HEREBY GIVEN that the Port Commission of the Port of Skagit County will hold a special commission meeting on Thursday\, July 1\, 2021 at 3:00 p.m. \n  \nThis meeting will be held as an online telephone conference meeting instead of specific location. There will be no physical meeting location for this meeting. Public attendees may participate by joining the telephone conference session at (360) 899-1018 (will then be prompted for Meeting PIN 1018). \n  \nThe purpose of the special meeting is to: \n  \nADMIN: CERB Grant application for and acceptance of funding for Industrial Lot Development – Adopt Resolution \n  \nPlease refer to the Meeting and Agendas on the Port Commission page for the notice that correlates with this meeting
URL:https://portofskagit.com/event/port-commission-special-meeting/
LOCATION:WA
CATEGORIES:Commission
ATTACH;FMTTYPE=image/jpeg:https://portofskagit.com/wp-content/uploads/2021/01/DSC_0998-scaled.jpg
END:VEVENT
BEGIN:VEVENT
DTSTART;TZID=America/Los_Angeles:20210622T100000
DTEND;TZID=America/Los_Angeles:20210622T130000
DTSTAMP:20260422T151653
CREATED:20210621T193551Z
LAST-MODIFIED:20210621T193551Z
UID:5661-1624356000-1624366800@portofskagit.com
SUMMARY:Special Meeting of the Port Commission
DESCRIPTION:Please refer to the Meeting and Agendas on the Port Commission page for the Agenda that correlates with this meeting. \n  \nThe Port Commission of the Port of Skagit County will hold a Special Meeting on Tuesday\, June 22\, 2021 for the purpose of Strategic Planning. \n  \nThis meeting will be an online video/telephone conference meeting for all public attendees.  This is to meet COVID-19 Social Distancing requirement. Public attendees may participate by joining the Zoom session: \nZoom Session Information \nMeeting ID:    878-5385-3418 \nPasscode:       000-805 \nBy phone:       (253) 215-8782 (you will then be prompted for Meeting ID and Passcode). \n  \nThe purpose of the meeting is: \n1.  Strategic Planning\n2.  Adopt Resolution pertaining to design standards for the SWIFT Center\n3.  Adopt Vision Statement for SWIFT Center\n4.  Executive Session to discuss the purchase\, sale or lease of property\, the discussion of which may affect the price \n 
URL:https://portofskagit.com/event/special-meeting-of-the-port-commission-5/
LOCATION:Zoom Meeting (Remote)\, 15400 Airport Drive\, Burlington\, WA\, 98233\, United States
CATEGORIES:Commission,Economic Development
ATTACH;FMTTYPE=image/jpeg:https://portofskagit.com/wp-content/uploads/2021/01/DSC_0998-scaled.jpg
END:VEVENT
BEGIN:VEVENT
DTSTART;TZID=America/Los_Angeles:20210608T140000
DTEND;TZID=America/Los_Angeles:20210608T150000
DTSTAMP:20260422T151653
CREATED:20210112T202152Z
LAST-MODIFIED:20210607T232926Z
UID:4694-1623160800-1623164400@portofskagit.com
SUMMARY:Regular Meeting of the Port Commission
DESCRIPTION:Please refer to the Meeting and Agendas on the Port Commission page for the agenda that correlates with this meeting.\n  \nThe June 8\, 2021 Commission meeting has been changed to an online video/telephone conference meeting instead of specific location. This change is to meet COVID-19 Phase II Social Distancing requirement.  Port Commissioners and limited staff will meet in the Port of Skagit Hearing Room.  Public attendees may participate by joining the Zoom session: \n  \nZoom Session Information \nMeeting ID:     874-7186-8017 \nPasscode:       153-180 \nBy phone:       (253) 215-8782 (you will then be prompted for Meeting ID and Passcode) \n 
URL:https://portofskagit.com/event/regular-meeting-of-the-port-commission-2021-05-11-2021-06-08/
LOCATION:Zoom Meeting (Remote)\, 15400 Airport Drive\, Burlington\, WA\, 98233\, United States
CATEGORIES:Commission,Port Administration
ATTACH;FMTTYPE=image/jpeg:https://portofskagit.com/wp-content/uploads/2021/01/sunset-white-logo-resized.jpg
END:VEVENT
BEGIN:VEVENT
DTSTART;TZID=America/Los_Angeles:20210525T100000
DTEND;TZID=America/Los_Angeles:20210525T120000
DTSTAMP:20260422T151653
CREATED:20210524T153309Z
LAST-MODIFIED:20210524T153309Z
UID:5549-1621936800-1621944000@portofskagit.com
SUMMARY:Special Meeting of the Port Commission
DESCRIPTION:  \nPlease refer to the Meeting and Agendas on the Port Commission page for the Agenda that correlates with this meeting. \n  \nThe Port Commission of the Port of Skagit County will hold a Special Meeting on Tuesday\, May 25\, 2021 for the purpose of Strategic Planning. \n  \nThis meeting will be an online video/telephone conference meeting for all public attendees.  This is to meet COVID-19 Social Distancing requirement. Public attendees may participate by joining the Zoom session: \nZoom Session Information \nMeeting ID:    878-5385-3418 \nPasscode:       000-805 \nBy phone:       (253) 215-8782 (you will then be prompted for Meeting ID and Passcode).
URL:https://portofskagit.com/event/special-meeting-of-the-port-commission-4/
LOCATION:Zoom Meeting (Remote)\, 15400 Airport Drive\, Burlington\, WA\, 98233\, United States
CATEGORIES:Commission,Economic Development
ATTACH;FMTTYPE=image/jpeg:https://portofskagit.com/wp-content/uploads/2021/01/DSC_0998-scaled.jpg
END:VEVENT
BEGIN:VEVENT
DTSTART;TZID=America/Los_Angeles:20210521T150000
DTEND;TZID=America/Los_Angeles:20210521T153000
DTSTAMP:20260422T151653
CREATED:20210520T195040Z
LAST-MODIFIED:20210520T195522Z
UID:5537-1621609200-1621611000@portofskagit.com
SUMMARY:Special Meeting of the Port Commission
DESCRIPTION:Please refer to the Meeting and Agendas on the Port Commission page for the agenda that correlates with this meeting. \n  \nThe Friday\, May 21st Special Meeting will be held as an online telephone conference meeting instead of specific location.   This change is to meet COVID-19 Social Distancing requirement. \nThere will be no physical meeting location for this meeting.  Public attendees may participate by joining the telephone conference session: \n  \nCall-in Phone Number:  360-899-1018 \nPIN:  1018 \n 
URL:https://portofskagit.com/event/special-meeting-of-the-port-commission-3/
LOCATION:Zoom Meeting (Remote)\, 15400 Airport Drive\, Burlington\, WA\, 98233\, United States
CATEGORIES:Commission,Economic Development
ATTACH;FMTTYPE=image/jpeg:https://portofskagit.com/wp-content/uploads/2021/01/DSC_0998-scaled.jpg
END:VEVENT
BEGIN:VEVENT
DTSTART;TZID=America/Los_Angeles:20210511T140000
DTEND;TZID=America/Los_Angeles:20210511T150000
DTSTAMP:20260422T151653
CREATED:20210112T202152Z
LAST-MODIFIED:20210909T010743Z
UID:4693-1620741600-1620745200@portofskagit.com
SUMMARY:Regular Meeting of the Port Commission
DESCRIPTION:Please refer to the Meeting and Agendas on the Port Commission page for the agenda that correlates with this meeting.
URL:https://portofskagit.com/event/regular-meeting-port-commission/
LOCATION:Zoom Meeting (Remote)\, 15400 Airport Drive\, Burlington\, WA\, 98233\, United States
CATEGORIES:Commission,Port Administration
ATTACH;FMTTYPE=image/jpeg:https://portofskagit.com/wp-content/uploads/2021/01/sunset-white-logo-resized.jpg
END:VEVENT
BEGIN:VEVENT
DTSTART;TZID=America/Los_Angeles:20210427T100000
DTEND;TZID=America/Los_Angeles:20210427T120000
DTSTAMP:20260422T151653
CREATED:20210423T220248Z
LAST-MODIFIED:20210423T220248Z
UID:5243-1619517600-1619524800@portofskagit.com
SUMMARY:Special Meeting of the Port Commission
DESCRIPTION:Please refer to the Meeting and Agendas on the Port Commission page for the Agenda that correlates with this meeting. \n  \nThe Port Commission of the Port of Skagit County will hold a Special Meeting on Tuesday\, April 27\, 2021 for the purpose of Strategic Planning. \n  \nThis meeting will be an online video/telephone conference meeting for all public attendees.  This is to meet COVID-19 Social Distancing requirement. Public attendees may participate by joining the Zoom session: \nZoom Session Information \nMeeting ID:    878-5385-3418 \nPasscode:       000-805 \nBy phone:       (253) 215-8782 (you will then be prompted for Meeting ID and Passcode). \n 
URL:https://portofskagit.com/event/special-meeting-of-the-port-commission-2/
LOCATION:Zoom Meeting (Remote)\, 15400 Airport Drive\, Burlington\, WA\, 98233\, United States
CATEGORIES:Commission,Port Administration
ATTACH;FMTTYPE=image/jpeg:https://portofskagit.com/wp-content/uploads/2021/01/DSC_0998-scaled.jpg
END:VEVENT
BEGIN:VEVENT
DTSTART;TZID=America/Los_Angeles:20210413T140000
DTEND;TZID=America/Los_Angeles:20210413T150000
DTSTAMP:20260422T151653
CREATED:20210112T202152Z
LAST-MODIFIED:20210412T164804Z
UID:4692-1618322400-1618326000@portofskagit.com
SUMMARY:Regular Meeting of the Port Commission
DESCRIPTION:Please refer to the Meeting and Agendas on the Port Commission page for the agenda that correlates with this meeting. \n  \n*Tuesday\, April 13\, 2021 has been changed to an online video/telephone conference meeting instead of specific location. This change is to meet COVID-19 Phase II Social Distancing requirement. There will be no physical meeting location for this meeting.  Public attendees may participate by joining the Zoom session: \nZoom Session Information \nMeeting ID:     874-7186-8017 \nPasscode:       153-180 \nBy phone:       (253) 215-8782 (you will then be prompted for Meeting ID and Passcode).
URL:https://portofskagit.com/event/regular-meeting-of-the-port-commission-2021-04-13/
LOCATION:Zoom Meeting (Remote)\, 15400 Airport Drive\, Burlington\, WA\, 98233\, United States
CATEGORIES:Commission,Port Administration
ATTACH;FMTTYPE=image/jpeg:https://portofskagit.com/wp-content/uploads/2021/01/sunset-white-logo-resized.jpg
END:VEVENT
BEGIN:VEVENT
DTSTART;TZID=America/Los_Angeles:20201110T140000
DTEND;TZID=America/Los_Angeles:20201110T150000
DTSTAMP:20260422T151653
CREATED:20210112T202151Z
LAST-MODIFIED:20210112T202151Z
UID:4686-1605016800-1605020400@portofskagit.com
SUMMARY:Regular Meeting of the Port Commission
DESCRIPTION:Please refer to the Meeting and Agendas on the Port Commission page for the agenda that correlates with this meeting.
URL:https://portofskagit.com/event/regular-meeting-of-the-port-commission/
LOCATION:Zoom Meeting (Remote)\, 15400 Airport Drive\, Burlington\, WA\, 98233\, United States
CATEGORIES:Commission,Port Administration
ATTACH;FMTTYPE=image/jpeg:https://portofskagit.com/wp-content/uploads/2021/01/sunset-white-logo-resized.jpg
END:VEVENT
BEGIN:VEVENT
DTSTART;VALUE=DATE:20210401
DTEND;VALUE=DATE:20210501
DTSTAMP:20260422T151653
CREATED:20210312T001845Z
LAST-MODIFIED:20210312T002728Z
UID:5037-1617235200-1619827199@portofskagit.com
SUMMARY:Skagit Farm-to-Pint Fest Roadshow
DESCRIPTION:This highly-anticipated food and brew event is back this year\, with a new format.  The Skagit Farm to Pint Fest Roadshow features 13 Skagit Valley Breweries pairing a beer and a bite\, showcasing Skagit Valley grains in the beer and ingredients in the bite. \n100% of proceeds go to support Viva Farms and their mission to create a more just and resilient local food system. \nSkagit Farm to Pint FEST Roadshow starts April 1st and runs through April 30th. \nBe sure to visit the Skagit Farm to Pint Fest website for all the event details and ticket sales.
URL:https://portofskagit.com/event/skagit-farm-to-pint-fest-roadshow/
LOCATION:WA
CATEGORIES:Value-Added Agriculture
ATTACH;FMTTYPE=image/jpeg:https://portofskagit.com/wp-content/uploads/2021/03/Farm-to-Pint-web.jpg
END:VEVENT
BEGIN:VEVENT
DTSTART;TZID=America/Los_Angeles:20210316T150000
DTEND;TZID=America/Los_Angeles:20210316T160000
DTSTAMP:20260422T151653
CREATED:20210315T232303Z
LAST-MODIFIED:20210315T232303Z
UID:5051-1615906800-1615910400@portofskagit.com
SUMMARY:Special Meeting of the Port Commission
DESCRIPTION:Please refer to the Meeting and Agendas on the Port Commission page for the agenda that correlates with this meeting. \n  \nThis meeting has been changed to an online video/telephone conference meeting instead of specific location. This change is to meet COVID-19 Social Distancing requirement. There will be no physical meeting location for this meeting. Public attendees may participate by joining the Zoom session. \n  \nZoom Meeting Information \n  \nMeeting ID:    865-1517-0392 \nPasscode:       435-119 \nBy telephone:  Call 253- 215-8782 (you will then be prompted for Meeting ID and Passcode).
URL:https://portofskagit.com/event/special-meeting-of-the-port-commission/
LOCATION:Zoom Meeting (Remote)\, 15400 Airport Drive\, Burlington\, WA\, 98233\, United States
CATEGORIES:Commission
ATTACH;FMTTYPE=image/jpeg:https://portofskagit.com/wp-content/uploads/2021/01/DSC_0998-scaled.jpg
END:VEVENT
BEGIN:VEVENT
DTSTART;TZID=America/Los_Angeles:20210309T140000
DTEND;TZID=America/Los_Angeles:20210309T150000
DTSTAMP:20260422T151653
CREATED:20210112T202151Z
LAST-MODIFIED:20210309T161812Z
UID:4691-1615298400-1615302000@portofskagit.com
SUMMARY:Regular Meeting of the Port Commission
DESCRIPTION:Please refer to the Meeting and Agendas on the Port Commission page for the agenda that correlates with this meeting. \n  \n\n\n\n* Tuesday\, March 9\, 2021 has been changed to an online video/telephone conference meeting instead of specific location. This change is to meet COVID-19 Phase II Social Distancing requirement. There will be no physical meeting location for this meeting. Public attendees may participate by joining the Zoom session: \nZoom Session Information \nMeeting ID: 874-7186-8017 \nPasscode: 153-180 \nOr by telephone (253) 215-8782 (you will then be prompted for Meeting ID and Passcode).
URL:https://portofskagit.com/event/regular-meeting-of-the-port-commission-2021-03-09/
LOCATION:Zoom Meeting (Remote)\, 15400 Airport Drive\, Burlington\, WA\, 98233\, United States
CATEGORIES:Commission,Port Administration
ATTACH;FMTTYPE=image/jpeg:https://portofskagit.com/wp-content/uploads/2021/01/sunset-white-logo-resized.jpg
END:VEVENT
BEGIN:VEVENT
DTSTART;TZID=America/Los_Angeles:20210215T080000
DTEND;TZID=America/Los_Angeles:20210215T170000
DTSTAMP:20260422T151653
CREATED:20210212T003921Z
LAST-MODIFIED:20210212T003921Z
UID:4961-1613376000-1613408400@portofskagit.com
SUMMARY:Holiday Closure--Monday\, February 15th
DESCRIPTION:The Port of Skagit Administrative and Marina offices will be CLOSED on Monday\, February 15\, 2021 in observance of Presidents’ Day.
URL:https://portofskagit.com/event/holiday-closure-monday-february-15th/
LOCATION:Port Offices\, 15400 Airport Drive\, Burlington\, WA\, 98233\, United States
CATEGORIES:La Conner Marina,Port Administration
ATTACH;FMTTYPE=image/jpeg:https://portofskagit.com/wp-content/uploads/2021/01/DSC_0998-scaled.jpg
END:VEVENT
BEGIN:VEVENT
DTSTART;TZID=America/Los_Angeles:20210209T140000
DTEND;TZID=America/Los_Angeles:20210209T150000
DTSTAMP:20260422T151653
CREATED:20210112T202151Z
LAST-MODIFIED:20210208T224430Z
UID:4690-1612879200-1612882800@portofskagit.com
SUMMARY:Regular Meeting of the Port Commission
DESCRIPTION:Please refer to the Meeting and Agendas on the Port Commission page for the agenda that correlates with this meeting. \n  \n\n\n\n* Tuesday\, February 9\, 2021 has been changed to an online video/telephone conference meeting instead of specific location. This change is to meet COVID-19 Phase I Social Distancing requirement. There will be no physical meeting location for this meeting. Public attendees may participate by joining the Zoom session: \nZoom Session Information\nMeeting ID: 874-7186-8017\nPasscode: 153-180\nOr by telephone at (253) 215-8782 (you will then be prompted for Meeting ID and Passcode).
URL:https://portofskagit.com/event/regular-meeting-of-the-port-commission-2021-02-09/
LOCATION:Zoom Meeting (Remote)\, 15400 Airport Drive\, Burlington\, WA\, 98233\, United States
CATEGORIES:Commission,Port Administration
ATTACH;FMTTYPE=image/jpeg:https://portofskagit.com/wp-content/uploads/2021/01/sunset-white-logo-resized.jpg
END:VEVENT
BEGIN:VEVENT
DTSTART;TZID=America/Los_Angeles:20210118T080000
DTEND;TZID=America/Los_Angeles:20210118T170000
DTSTAMP:20260422T151653
CREATED:20210117T212823Z
LAST-MODIFIED:20210117T212823Z
UID:4791-1610956800-1610989200@portofskagit.com
SUMMARY:Holiday Closure-Monday\, January 18th
DESCRIPTION:The Port of Skagit Administrative and Marina offices will be CLOSED on Monday\, January 18\, 2021 in observance of the Dr. Martin Luther King Jr. holiday.
URL:https://portofskagit.com/event/holiday-closure-monday-january-18th/
LOCATION:Port Offices\, 15400 Airport Drive\, Burlington\, WA\, 98233\, United States
CATEGORIES:La Conner Marina,Port Administration
ATTACH;FMTTYPE=image/jpeg:https://portofskagit.com/wp-content/uploads/2021/01/DSC_0998-scaled.jpg
END:VEVENT
BEGIN:VEVENT
DTSTART;TZID=America/Los_Angeles:20201110T140000
DTEND;TZID=America/Los_Angeles:20201110T150000
DTSTAMP:20260422T151653
CREATED:20210112T202151Z
LAST-MODIFIED:20210112T202151Z
UID:4686-1605016800-1605020400@portofskagit.com
SUMMARY:Regular Meeting of the Port Commission
DESCRIPTION:Please refer to the Meeting and Agendas on the Port Commission page for the agenda that correlates with this meeting.
URL:https://portofskagit.com/event/regular-meeting-of-the-port-commission/
LOCATION:Zoom Meeting (Remote)\, 15400 Airport Drive\, Burlington\, WA\, 98233\, United States
CATEGORIES:Commission,Port Administration
ATTACH;FMTTYPE=image/jpeg:https://portofskagit.com/wp-content/uploads/2021/01/sunset-white-logo-resized.jpg
END:VEVENT
BEGIN:VEVENT
DTSTART;TZID=America/Los_Angeles:20201110T140000
DTEND;TZID=America/Los_Angeles:20201110T150000
DTSTAMP:20260422T151653
CREATED:20210112T202151Z
LAST-MODIFIED:20210112T202151Z
UID:4686-1605016800-1605020400@portofskagit.com
SUMMARY:Regular Meeting of the Port Commission
DESCRIPTION:Please refer to the Meeting and Agendas on the Port Commission page for the agenda that correlates with this meeting.
URL:https://portofskagit.com/event/regular-meeting-of-the-port-commission/
LOCATION:Zoom Meeting (Remote)\, 15400 Airport Drive\, Burlington\, WA\, 98233\, United States
CATEGORIES:Commission,Port Administration
ATTACH;FMTTYPE=image/jpeg:https://portofskagit.com/wp-content/uploads/2021/01/sunset-white-logo-resized.jpg
END:VEVENT
BEGIN:VEVENT
DTSTART;TZID=America/Los_Angeles:20201116T163000
DTEND;TZID=America/Los_Angeles:20201116T173000
DTSTAMP:20260422T151653
CREATED:20201230T185433Z
LAST-MODIFIED:20201230T185433Z
UID:4584-1605544200-1605547800@portofskagit.com
SUMMARY:Public Information Workshop - Skagit Regional Airport
DESCRIPTION:Due to COVID-19\, the public information workshop will take place virtually. There are several opportunities for you to participate and provide comment to the project team: \n\nReview all draft material at: www.skagit.airportstudy.com/master-plan-documents\nReview the narrated project summary video between November 2nd and\nNovember 30th at: www.skagit.airportstudy.com\nParticipate in an interactive Zoom* meeting hosted by the project team on\nNovember 16th from 4:30-5:30pm. *RSVP to ptaylor@coffmanassociates.com to receive the invitation and link.\n\nSend comments to the project team via the project website: www.skagit.airportstudy.com/comments or directly to ptaylor@coffmanassociates.com by November 30th.
URL:https://portofskagit.com/event/public-information-workshop-skagit-regional-airport/
LOCATION:Zoom Meeting (Remote)\, 15400 Airport Drive\, Burlington\, WA\, 98233\, United States
CATEGORIES:Skagit Regional Airport (KBVS)
ORGANIZER;CN="Patrick Taylor":MAILTO:ptaylor@coffmanassociates.com
END:VEVENT
BEGIN:VEVENT
DTSTART;TZID=America/Los_Angeles:20201110T140000
DTEND;TZID=America/Los_Angeles:20201110T150000
DTSTAMP:20260422T151653
CREATED:20210112T202151Z
LAST-MODIFIED:20210112T202151Z
UID:4686-1605016800-1605020400@portofskagit.com
SUMMARY:Regular Meeting of the Port Commission
DESCRIPTION:Please refer to the Meeting and Agendas on the Port Commission page for the agenda that correlates with this meeting.
URL:https://portofskagit.com/event/regular-meeting-of-the-port-commission/
LOCATION:Zoom Meeting (Remote)\, 15400 Airport Drive\, Burlington\, WA\, 98233\, United States
CATEGORIES:Commission,Port Administration
ATTACH;FMTTYPE=image/jpeg:https://portofskagit.com/wp-content/uploads/2021/01/sunset-white-logo-resized.jpg
END:VEVENT
END:VCALENDAR