BEGIN:VCALENDAR
VERSION:2.0
PRODID:-//Port of Skagit - ECPv6.15.15//NONSGML v1.0//EN
CALSCALE:GREGORIAN
METHOD:PUBLISH
X-WR-CALNAME:Port of Skagit
X-ORIGINAL-URL:https://portofskagit.com
X-WR-CALDESC:Events for Port of Skagit
REFRESH-INTERVAL;VALUE=DURATION:PT1H
X-Robots-Tag:noindex
X-PUBLISHED-TTL:PT1H
BEGIN:VTIMEZONE
TZID:America/Los_Angeles
BEGIN:DAYLIGHT
TZOFFSETFROM:-0800
TZOFFSETTO:-0700
TZNAME:PDT
DTSTART:20250309T100000
END:DAYLIGHT
BEGIN:STANDARD
TZOFFSETFROM:-0700
TZOFFSETTO:-0800
TZNAME:PST
DTSTART:20251102T090000
END:STANDARD
BEGIN:DAYLIGHT
TZOFFSETFROM:-0800
TZOFFSETTO:-0700
TZNAME:PDT
DTSTART:20260308T100000
END:DAYLIGHT
BEGIN:STANDARD
TZOFFSETFROM:-0700
TZOFFSETTO:-0800
TZNAME:PST
DTSTART:20261101T090000
END:STANDARD
BEGIN:DAYLIGHT
TZOFFSETFROM:-0800
TZOFFSETTO:-0700
TZNAME:PDT
DTSTART:20270314T100000
END:DAYLIGHT
BEGIN:STANDARD
TZOFFSETFROM:-0700
TZOFFSETTO:-0800
TZNAME:PST
DTSTART:20271107T090000
END:STANDARD
END:VTIMEZONE
BEGIN:VEVENT
DTSTART;TZID=America/Los_Angeles:20260407T140000
DTEND;TZID=America/Los_Angeles:20260407T140000
DTSTAMP:20260420T091219
CREATED:20260406T163738Z
LAST-MODIFIED:20260406T163745Z
UID:7846-1775570400-1775570400@portofskagit.com
SUMMARY:Commission Work Session Meeting
DESCRIPTION:Please refer to the Meeting and Agendas on the Port Commission page for the agenda that correlates with this meeting. \n  \nThe Commission of the Port of Skagit County will hold a Work Session Meeting on Tuesday\, April 7\, 2026 at 2:00pm. \n  \nThis meeting will be in-person at the Commission Hearing Room at 15400 Airport Drive in Burlington WA \n  \n 
URL:https://portofskagit.com/event/commission-work-session-meeting-9/
LOCATION:Port Commission Hearing Room\, 15400 Airport Drive\, Burlington\, WA\, United States
CATEGORIES:Commission
ATTACH;FMTTYPE=image/jpeg:https://portofskagit.com/wp-content/uploads/2021/01/DSC_0998-scaled.jpg
END:VEVENT
BEGIN:VEVENT
DTSTART;TZID=America/Los_Angeles:20260414T083000
DTEND;TZID=America/Los_Angeles:20260414T160000
DTSTAMP:20260420T091219
CREATED:20260413T134620Z
LAST-MODIFIED:20260413T134631Z
UID:7850-1776155400-1776182400@portofskagit.com
SUMMARY:Commission Retreat-Day 1
DESCRIPTION:Please refer to the Meeting and Agendas on the Port Commission page for the agenda that correlates with this meeting. \n  \nThe Port Commission of the Port of Skagit County will participate in two special meetings on Tuesday\, April 14\, 2026\, from 8:30am to 4:00 pm and Wednesday\, April 15\, 2026 from 8:30am to 4pm. The meetings will be at the La Conner Civic Garden Club\, located at 622 S. 2nd Street\, La Conner\, WA. \n 
URL:https://portofskagit.com/event/commission-retreat-day-1/
LOCATION:Civic Garden Club\, La Conner\, 622 S Second Street\, La Conner\, WA\, 98257
CATEGORIES:Commission
ATTACH;FMTTYPE=image/jpeg:https://portofskagit.com/wp-content/uploads/2022/05/La-Conner-Marina-south-facing-small-.jpg
END:VEVENT
BEGIN:VEVENT
DTSTART;TZID=America/Los_Angeles:20260415T083000
DTEND;TZID=America/Los_Angeles:20260415T160000
DTSTAMP:20260420T091219
CREATED:20260413T134756Z
LAST-MODIFIED:20260413T134803Z
UID:7853-1776241800-1776268800@portofskagit.com
SUMMARY:Commission Retreat-Day 2
DESCRIPTION:Please refer to the Meeting and Agendas on the Port Commission page for the agenda that correlates with this meeting. \n  \nPort Commission of the Port of Skagit County will participate in two special meetings on Tuesday\, April 14\, 2026\, from 8:30am to 4:00 pm and Wednesday\, April 15\, 2026 from 8:30am to 4pm. The meetings will be at the La Conner Civic Garden Club\, located at 622 S. 2nd Street\, La Conner\, WA.
URL:https://portofskagit.com/event/commission-retreat-day-2/
LOCATION:Civic Garden Club\, La Conner\, 622 S Second Street\, La Conner\, WA\, 98257
CATEGORIES:Commission
ATTACH;FMTTYPE=image/jpeg:https://portofskagit.com/wp-content/uploads/2022/05/La-Conner-Marina-south-facing-small-.jpg
END:VEVENT
END:VCALENDAR