BEGIN:VCALENDAR
VERSION:2.0
PRODID:-//Port of Skagit - ECPv6.15.15//NONSGML v1.0//EN
CALSCALE:GREGORIAN
METHOD:PUBLISH
X-WR-CALNAME:Port of Skagit
X-ORIGINAL-URL:https://portofskagit.com
X-WR-CALDESC:Events for Port of Skagit
REFRESH-INTERVAL;VALUE=DURATION:PT1H
X-Robots-Tag:noindex
X-PUBLISHED-TTL:PT1H
BEGIN:VTIMEZONE
TZID:America/Los_Angeles
BEGIN:DAYLIGHT
TZOFFSETFROM:-0800
TZOFFSETTO:-0700
TZNAME:PDT
DTSTART:20240310T100000
END:DAYLIGHT
BEGIN:STANDARD
TZOFFSETFROM:-0700
TZOFFSETTO:-0800
TZNAME:PST
DTSTART:20241103T090000
END:STANDARD
BEGIN:DAYLIGHT
TZOFFSETFROM:-0800
TZOFFSETTO:-0700
TZNAME:PDT
DTSTART:20250309T100000
END:DAYLIGHT
BEGIN:STANDARD
TZOFFSETFROM:-0700
TZOFFSETTO:-0800
TZNAME:PST
DTSTART:20251102T090000
END:STANDARD
BEGIN:DAYLIGHT
TZOFFSETFROM:-0800
TZOFFSETTO:-0700
TZNAME:PDT
DTSTART:20260308T100000
END:DAYLIGHT
BEGIN:STANDARD
TZOFFSETFROM:-0700
TZOFFSETTO:-0800
TZNAME:PST
DTSTART:20261101T090000
END:STANDARD
BEGIN:DAYLIGHT
TZOFFSETFROM:-0800
TZOFFSETTO:-0700
TZNAME:PDT
DTSTART:20270314T100000
END:DAYLIGHT
BEGIN:STANDARD
TZOFFSETFROM:-0700
TZOFFSETTO:-0800
TZNAME:PST
DTSTART:20271107T090000
END:STANDARD
END:VTIMEZONE
BEGIN:VEVENT
DTSTART;TZID=America/Los_Angeles:20260326T160000
DTEND;TZID=America/Los_Angeles:20260326T160000
DTSTAMP:20260420T144124
CREATED:20260325T161252Z
LAST-MODIFIED:20260325T161516Z
UID:7835-1774540800-1774540800@portofskagit.com
SUMMARY:Special Joint Commission Meeting
DESCRIPTION:Please refer to the Meeting and Agendas on the Port Commission page for the agenda that correlates with this meeting. \n  \nThe Port Commission of the Port of Skagit County will hold a special joint meeting with the Port Commission of the Port of Anacortes on Thursday\, March 26\, 2026\, at 4:00 pm. \n  \nThe meeting will be held at the Seafarers Memorial Park Building at 601 Seafarers Way\, Anacortes\, WA 98221. \n  \nThe purpose of the special joint meeting is to: \n\nCall to Order\n15-Minute Recess\nPresentation: Comprehensive Economic Development Strategy – Community Attributes\, Inc.\nAdjournment
URL:https://portofskagit.com/event/special-joint-commission-meeting/
LOCATION:Seafarer’s Memorial Park\, 601 Seafarers Way\, Anacortes\, WA\, 98221\, United States
CATEGORIES:Commission
ATTACH;FMTTYPE=image/jpeg:https://portofskagit.com/wp-content/uploads/2024/02/seafarers2.jpg
END:VEVENT
BEGIN:VEVENT
DTSTART;TZID=America/Los_Angeles:20260320T133000
DTEND;TZID=America/Los_Angeles:20260320T143000
DTSTAMP:20260420T144124
CREATED:20260320T135408Z
LAST-MODIFIED:20260320T135545Z
UID:7829-1774013400-1774017000@portofskagit.com
SUMMARY:Ribbon Cutting at Olmsted Park
DESCRIPTION:Congratulations to the City of Sedro-Woolley\, who will be hosting a ribbon-cutting ceremony at the new Olmsted Park at the entrance to the SWIFT Center. \nPursuant to RCW 42.30.070\, notice is hereby given that two (2) or more Commissioners of the Port of Skagit may attend a ribbon cutting ceremony for Olmsted Park\, located at 1451 N. Fruitdale Road\, in Sedro-Woolley\, WA\, on Friday\, March 20\, 2026\, from 1:30 to 2:30 p.m. \nThis is not a public meeting\, and no action will be taken. \n  \nphoto credit:  Skagit Valley Herald
URL:https://portofskagit.com/event/ribbon-cutting-at-olmsted-park/
LOCATION:Olmsted Park\, Sedro-Woolley\, 1451 N. Fruitdale Road\, Sedro-Woolley\, WA\, 98284\, United States
CATEGORIES:SWIFT Center
ATTACH;FMTTYPE=image/jpeg:https://portofskagit.com/wp-content/uploads/2026/03/olmstedpark.jpg
END:VEVENT
BEGIN:VEVENT
DTSTART;TZID=America/Los_Angeles:20260310T140000
DTEND;TZID=America/Los_Angeles:20260310T140000
DTSTAMP:20260420T144124
CREATED:20260210T211241Z
LAST-MODIFIED:20260210T211247Z
UID:7817-1773151200-1773151200@portofskagit.com
SUMMARY:Regular Commission Meeting
DESCRIPTION:Please refer to the Meeting and Agendas on the Port Commission page for the agenda that correlates with this meeting. \n  \nThe Commission of the Port of Skagit County will hold a Regular Meeting on Tuesday\, March 10\, 2026 at 2:00pm. \n  \nPublic attendees may participate in-person at the Commission Hearing Room at 15400 Airport Drive in Burlington WA.
URL:https://portofskagit.com/event/regular-commission-meeting-5/
LOCATION:Port Commission Hearing Room\, 15400 Airport Drive\, Burlington\, WA\, United States
CATEGORIES:Commission
ATTACH;FMTTYPE=image/jpeg:https://portofskagit.com/wp-content/uploads/2021/01/DSC_0998-scaled.jpg
END:VEVENT
BEGIN:VEVENT
DTSTART;TZID=America/Los_Angeles:20260303T140000
DTEND;TZID=America/Los_Angeles:20260303T140000
DTSTAMP:20260420T144124
CREATED:20260210T205657Z
LAST-MODIFIED:20260210T211023Z
UID:7813-1772546400-1772546400@portofskagit.com
SUMMARY:Commission Work Session Meeting
DESCRIPTION:Please refer to the Meeting and Agendas on the Port Commission page for the agenda that correlates with this meeting. \n  \nThe Commission of the Port of Skagit County will hold a Work Session Meeting on Tuesday\, March 3\, 2026 at 2:00pm. \n  \nThis meeting will be in-person at the Commission Hearing Room at 15400 Airport Drive in Burlington WA
URL:https://portofskagit.com/event/commission-work-session-meeting-8/
LOCATION:Port Commission Hearing Room\, 15400 Airport Drive\, Burlington\, WA\, United States
CATEGORIES:Commission
ATTACH;FMTTYPE=image/jpeg:https://portofskagit.com/wp-content/uploads/2022/02/IMG_0309.jpg
END:VEVENT
BEGIN:VEVENT
DTSTART;TZID=America/Los_Angeles:20260226T103000
DTEND;TZID=America/Los_Angeles:20260226T103000
DTSTAMP:20260420T144124
CREATED:20260226T181759Z
LAST-MODIFIED:20260226T181811Z
UID:7823-1772101800-1772101800@portofskagit.com
SUMMARY:Special Commission Meeting
DESCRIPTION:CALL TO ORDER \nPUBLIC COMMENT Members of the public may comment on items limited to the agenda (RCW 42.30.240). In the interest of time\, public comments will be limited to 3 minutes. The chair has the discretion to limit time and number of people speaking. \nNEW BUSINESS BBP: 11944 Westar Lane Water Main Repair (2026); Ratifying Declaring of Emergency and Authorizing Contract Award without Public Bid Solicitation to remedy the Emergency; Adopt Resolution No. 26-__ \nADJOURNMENT
URL:https://portofskagit.com/event/special-commission-meeting/
LOCATION:Port Commission Hearing Room\, 15400 Airport Drive\, Burlington\, WA\, United States
CATEGORIES:Commission
ATTACH;FMTTYPE=image/jpeg:https://portofskagit.com/wp-content/uploads/2022/12/Sunrise-Dec-2022-scaled.jpg
END:VEVENT
BEGIN:VEVENT
DTSTART;TZID=America/Los_Angeles:20260217T140000
DTEND;TZID=America/Los_Angeles:20260217T140000
DTSTAMP:20260420T144124
CREATED:20260210T205519Z
LAST-MODIFIED:20260210T205526Z
UID:7811-1771336800-1771336800@portofskagit.com
SUMMARY:Regular Commission Meeting
DESCRIPTION:Please refer to the Meeting and Agendas on the Port Commission page for the agenda that correlates with this meeting. \n  \nThe Commission of the Port of Skagit County will hold a Regular Meeting on Tuesday\, February 17\, 2026 at 2:00pm. \n  \nPublic attendees may participate in-person at the Commission Hearing Room at 15400 Airport Drive in Burlington WA.
URL:https://portofskagit.com/event/regular-commission-meeting-4/
LOCATION:Port Commission Hearing Room\, 15400 Airport Drive\, Burlington\, WA\, United States
CATEGORIES:Commission
ATTACH;FMTTYPE=image/jpeg:https://portofskagit.com/wp-content/uploads/2024/07/Port-of-Skagit-Granary-v2.jpg
END:VEVENT
BEGIN:VEVENT
DTSTART;TZID=America/Los_Angeles:20260206T130000
DTEND;TZID=America/Los_Angeles:20260206T140000
DTSTAMP:20260420T144124
CREATED:20260205T203338Z
LAST-MODIFIED:20260205T215317Z
UID:7801-1770382800-1770386400@portofskagit.com
SUMMARY:SPECIAL COMMISSION MEETING
DESCRIPTION:NOTICE IS HEREBY GIVEN that the Port Commission of the Port of Skagit County will hold a special meeting on Friday\, February 6\, 2026\, at 1:00 p.m. The meeting will be held at the Port of Skagit’s Hearing Room at 15400 Airport Drive\, Burlington\, WA 98233. \nThe purpose of the special meeting is to: \n1. Public Comment\n2. Consider approval of Purchase and Sale Agreement of Conway Property (2026); and consider adopting a Resolution for Declaring Real Property Surplus and authorizing Sale of the Same.\n3. Adjournment
URL:https://portofskagit.com/event/notice-of-special-meeting/
LOCATION:Port Commission Hearing Room\, 15400 Airport Drive\, Burlington\, WA\, United States
CATEGORIES:Commission
ATTACH;FMTTYPE=image/jpeg:https://portofskagit.com/wp-content/uploads/2022/12/Sunrise-Dec-2022-scaled.jpg
END:VEVENT
BEGIN:VEVENT
DTSTART;TZID=America/Los_Angeles:20260203T140000
DTEND;TZID=America/Los_Angeles:20260203T140000
DTSTAMP:20260420T144124
CREATED:20260203T002835Z
LAST-MODIFIED:20260203T002845Z
UID:7790-1770127200-1770127200@portofskagit.com
SUMMARY:Work Session Meeting--Cancelled
DESCRIPTION:NOTICE IS HEREBY GIVEN on behalf of the President of the Port Commission of the Port of Skagit\, the work session meeting of the Board of Commissioners\, Port of Skagit previously scheduled for Tuesday\, February 3\, 2025\, at 2:00 PM is hereby canceled.
URL:https://portofskagit.com/event/work-session-meeting-cancelled/
LOCATION:Port Commission Hearing Room\, 15400 Airport Drive\, Burlington\, WA\, United States
CATEGORIES:Commission
ATTACH;FMTTYPE=image/jpeg:https://portofskagit.com/wp-content/uploads/2022/12/Sunrise-Dec-2022-scaled.jpg
END:VEVENT
BEGIN:VEVENT
DTSTART;TZID=America/Los_Angeles:20260129T120000
DTEND;TZID=America/Los_Angeles:20260129T170000
DTSTAMP:20260420T144124
CREATED:20260129T172442Z
LAST-MODIFIED:20260129T172450Z
UID:7782-1769688000-1769706000@portofskagit.com
SUMMARY:Port Offices--Early Closure
DESCRIPTION:The Port of Skagit will close early today\, at 12:00pm.  Port staff will be offsite for the annual Port of Skagit Staff Awards event\, recognizing the dedicated work of our colleagues. \n  \nPort offices will re-open on Friday\, January 30th at regular time.
URL:https://portofskagit.com/event/port-offices-early-closure-4/
LOCATION:WA
CATEGORIES:Port Administration
ATTACH;FMTTYPE=image/jpeg:https://portofskagit.com/wp-content/uploads/2025/08/airshow-staff-team-small-scaled.jpg
END:VEVENT
BEGIN:VEVENT
DTSTART;TZID=America/Los_Angeles:20260119T080000
DTEND;TZID=America/Los_Angeles:20260119T170000
DTSTAMP:20260420T144124
CREATED:20260112T171723Z
LAST-MODIFIED:20260112T171756Z
UID:7768-1768809600-1768842000@portofskagit.com
SUMMARY:Holiday Closure
DESCRIPTION:The Port of Skagit will be closed on Monday\, January 19\, 2026 in observance of Dr. Martin Luther King Jr. Day.
URL:https://portofskagit.com/event/holiday-closure-19/
LOCATION:WA
CATEGORIES:Port Administration
ATTACH;FMTTYPE=image/png:https://portofskagit.com/wp-content/uploads/2022/10/HFM-cropped.png
END:VEVENT
BEGIN:VEVENT
DTSTART;TZID=America/Los_Angeles:20260113T150000
DTEND;TZID=America/Los_Angeles:20260113T170000
DTSTAMP:20260420T144124
CREATED:20260112T171321Z
LAST-MODIFIED:20260112T171328Z
UID:7765-1768316400-1768323600@portofskagit.com
SUMMARY:Early Closure
DESCRIPTION:The Port of Skagit offices will close at 3pm on Tuesday\, January 13\, 2026 for a staff event off-site. \n  \nRegular operations will resume on Wednesday\, January 14th at 8am\, on normal schedule.
URL:https://portofskagit.com/event/early-closure/
LOCATION:WA
CATEGORIES:Event
ATTACH;FMTTYPE=image/jpeg:https://portofskagit.com/wp-content/uploads/2025/08/airshow-staff-team-small-scaled.jpg
END:VEVENT
BEGIN:VEVENT
DTSTART;TZID=America/Los_Angeles:20260113T140000
DTEND;TZID=America/Los_Angeles:20260113T140000
DTSTAMP:20260420T144124
CREATED:20260112T170827Z
LAST-MODIFIED:20260112T170852Z
UID:7762-1768312800-1768312800@portofskagit.com
SUMMARY:Commission Regular Meeting
DESCRIPTION:Please refer to the Meeting and Agendas on the Port Commission page for the agenda that correlates with this meeting. \n  \nThe Commission of the Port of Skagit County will hold a Regular Meeting on Tuesday\, January 13\, 2026 at 2:00pm. \n  \nPublic attendees may participate in-person at the Commission Hearing Room at 15400 Airport Drive in Burlington WA.
URL:https://portofskagit.com/event/commission-regular-meeting-8/
LOCATION:Port Commission Hearing Room\, 15400 Airport Drive\, Burlington\, WA\, United States
CATEGORIES:Commission
ATTACH;FMTTYPE=image/jpeg:https://portofskagit.com/wp-content/uploads/2021/01/DSC_0998-scaled.jpg
END:VEVENT
BEGIN:VEVENT
DTSTART;TZID=America/Los_Angeles:20260106T140000
DTEND;TZID=America/Los_Angeles:20260106T140000
DTSTAMP:20260420T144124
CREATED:20260105T162211Z
LAST-MODIFIED:20260105T162223Z
UID:7760-1767708000-1767708000@portofskagit.com
SUMMARY:Commission Work Session Meeting
DESCRIPTION:Please refer to the Meeting and Agendas on the Port Commission page for the agenda that correlates with this meeting. \nThe Commission of the Port of Skagit County will hold a Work Session Meeting on Tuesday\, January 6\, 2026 at 2:00pm. \nThis meeting will be in-person at the Commission Hearing Room at 15400 Airport Drive in Burlington WA \n  \nWORK SESSION ITEM/S FOR DISCUSSION: \nItem 1: Executive Session:  To consider the selection of a site or the acquisition of real estate by lease or purchase when public knowledge regarding such consideration would cause a likelihood of increased price\, pursuant to RCW 42.30.110(1)(b). \nItem 2: Q1 Calendar Review \nItem 3: SWIFT Capital Campaign Update \n  \nADJOURNMENT
URL:https://portofskagit.com/event/commission-work-session-meeting-7/
LOCATION:Port Commission Hearing Room\, 15400 Airport Drive\, Burlington\, WA\, United States
CATEGORIES:Commission
ATTACH;FMTTYPE=image/jpeg:https://portofskagit.com/wp-content/uploads/2022/12/Sunrise-Dec-2022-scaled.jpg
END:VEVENT
BEGIN:VEVENT
DTSTART;VALUE=DATE:20251225
DTEND;VALUE=DATE:20251226
DTSTAMP:20260420T144124
CREATED:20251208T175237Z
LAST-MODIFIED:20251208T175243Z
UID:7739-1766620800-1766707199@portofskagit.com
SUMMARY:Holiday Closure
DESCRIPTION:The Port of Skagit will be closed on Thursday\, December 25th in observance of the Christmas holiday.
URL:https://portofskagit.com/event/holiday-closure-18/
LOCATION:WA
CATEGORIES:Port Administration
ATTACH;FMTTYPE=image/jpeg:https://portofskagit.com/wp-content/uploads/2025/12/HolidayClosure.jpg
END:VEVENT
BEGIN:VEVENT
DTSTART;TZID=America/Los_Angeles:20251224T140000
DTEND;TZID=America/Los_Angeles:20251224T140000
DTSTAMP:20260420T144124
CREATED:20251208T175104Z
LAST-MODIFIED:20251208T175112Z
UID:7734-1766584800-1766584800@portofskagit.com
SUMMARY:Port Offices:  Early Closure
DESCRIPTION:The Port of Skagit will close two hours early on Wednesday\, December 24\, 2025 for Christmas Eve.
URL:https://portofskagit.com/event/port-offices-early-closure-3/
LOCATION:WA
CATEGORIES:Port Administration
ATTACH;FMTTYPE=image/jpeg:https://portofskagit.com/wp-content/uploads/2025/12/Wreath.jpg
END:VEVENT
BEGIN:VEVENT
DTSTART;TZID=America/Los_Angeles:20251216T140000
DTEND;TZID=America/Los_Angeles:20251216T140000
DTSTAMP:20260420T144124
CREATED:20251215T190718Z
LAST-MODIFIED:20251215T190845Z
UID:7752-1765893600-1765893600@portofskagit.com
SUMMARY:Port Commission Meeting
DESCRIPTION:Please refer to the Meeting and Agendas on the Port Commission page for the agenda that correlates with this meeting. \n  \nThe Commission of the Port of Skagit County will hold a Regular Meeting on Tuesday\, December 16\, 2025 at 2:00pm. \n  \nPublic attendees may participate in-person at the Commission Hearing Room at 15400 Airport Drive in Burlington WA.
URL:https://portofskagit.com/event/port-commission-meeting/
LOCATION:Port Commission Hearing Room\, 15400 Airport Drive\, Burlington\, WA\, United States
CATEGORIES:Commission
ATTACH;FMTTYPE=image/jpeg:https://portofskagit.com/wp-content/uploads/2021/01/DSC_0998-scaled.jpg
END:VEVENT
BEGIN:VEVENT
DTSTART;TZID=America/Los_Angeles:20251212T100000
DTEND;TZID=America/Los_Angeles:20251212T100000
DTSTAMP:20260420T144124
CREATED:20251211T193534Z
LAST-MODIFIED:20251211T193552Z
UID:7747-1765533600-1765533600@portofskagit.com
SUMMARY:Commission Special Meeting
DESCRIPTION:NOTICE IS HEREBY GIVEN that the Port Commission of the Port of Skagit County will hold a special meeting on Friday\, December 12\, 2025 at 10:00 a.m. The meeting will be held online video/telephone conference. There will be no in-person meeting location for this meeting. \n  \nThe remote-only meeting is occurring as a result of Skagit County and the State of Washington’s declared emergencies for the flooding. \n  \nPublic attendees may participate by joining the Zoom session Meeting ID: 885 7422 4681 Passcode: 457596 and by telephone (253) 215-8782 (then follow prompts for Meeting ID and Passcode) \n  \nThe purpose of the special meeting is to:\n1. Public Comment\n2. Authorize Condemnation and Approve Acquisition of Property (2025); Adopt Resolution\n3. Adjournment
URL:https://portofskagit.com/event/commission-special-meeting-4/
LOCATION:Zoom Meeting (Remote)\, 15400 Airport Drive\, Burlington\, WA\, 98233\, United States
CATEGORIES:Commission
ATTACH;FMTTYPE=image/jpeg:https://portofskagit.com/wp-content/uploads/2022/05/La-Conner-Marina-south-facing-small-.jpg
END:VEVENT
BEGIN:VEVENT
DTSTART;TZID=America/Los_Angeles:20251212T100000
DTEND;TZID=America/Los_Angeles:20251212T100000
DTSTAMP:20260420T144124
CREATED:20251208T173610Z
LAST-MODIFIED:20251208T173620Z
UID:7730-1765533600-1765533600@portofskagit.com
SUMMARY:Commission Special Meeting
DESCRIPTION:Please refer to the Meeting and Agendas on the Port Commission page for the agenda that correlates with this meeting. \n  \nThe Port Commission of the Port of Skagit County will participate in a Special Meeting on Friday\, December 12\, 2025 at 10:00am.
URL:https://portofskagit.com/event/commission-special-meeting-3/
LOCATION:WA
CATEGORIES:Commission
ATTACH;FMTTYPE=image/png:https://portofskagit.com/wp-content/uploads/2020/12/post-image.png
END:VEVENT
BEGIN:VEVENT
DTSTART;TZID=America/Los_Angeles:20251211T114000
DTEND;TZID=America/Los_Angeles:20251211T170000
DTSTAMP:20260420T144124
CREATED:20251208T173004Z
LAST-MODIFIED:20251208T173011Z
UID:7728-1765453200-1765472400@portofskagit.com
SUMMARY:Port Offices:  Early Closure
DESCRIPTION:The Port of Skagit will close early today\, at 11:40am.  Port staff will be offsite for the annual Port of Skagit Staff Awards event\, recognizing the dedicated work of our colleagues. \n  \nPort offices will re-open on Friday\, December 12th at regular time.
URL:https://portofskagit.com/event/port-offices-early-closure-2/
LOCATION:WA
ATTACH;FMTTYPE=image/jpeg:https://portofskagit.com/wp-content/uploads/2023/11/Staff-Training.jpg
END:VEVENT
BEGIN:VEVENT
DTSTART;TZID=America/Los_Angeles:20251209T000000
DTEND;TZID=America/Los_Angeles:20251209T000000
DTSTAMP:20260420T144124
CREATED:20251208T172116Z
LAST-MODIFIED:20251208T172123Z
UID:7725-1765238400-1765238400@portofskagit.com
SUMMARY:Commission Meeting--Date Change
DESCRIPTION:December 9\, 2025: NOTICE OF CHANGE OF MEETING DATE \nNOTICE IS HEREBY GIVEN on behalf of the President of the Port Commission of the Port of Skagit County that the regular business meeting scheduled for Tuesday\, December 9\, 2025 at 2:00 PM has been rescheduled to Tuesday\, December 16\, 2025 at 2:00 PM.
URL:https://portofskagit.com/event/commission-meeting-date-change/
LOCATION:WA
CATEGORIES:Commission
ATTACH;FMTTYPE=image/jpeg:https://portofskagit.com/wp-content/uploads/2021/01/DSC_0998-scaled.jpg
END:VEVENT
BEGIN:VEVENT
DTSTART;TZID=America/Los_Angeles:20251202T140000
DTEND;TZID=America/Los_Angeles:20251202T140000
DTSTAMP:20260420T144124
CREATED:20251201T170607Z
LAST-MODIFIED:20251201T181723Z
UID:7715-1764684000-1764684000@portofskagit.com
SUMMARY:Commission Work Session--Cancelled
DESCRIPTION:NOTICE IS HEREBY GIVEN on behalf of the President of the Port Commission of the Port of Skagit\, the work session meeting of the Board of Commissioners\, Port of Skagit previously scheduled for Tuesday\, December 2\, at 2:00 PM is hereby canceled. \n  \n 
URL:https://portofskagit.com/event/7715/
LOCATION:Port Commission Hearing Room\, 15400 Airport Drive\, Burlington\, WA\, United States
CATEGORIES:Commission
ATTACH;FMTTYPE=image/jpeg:https://portofskagit.com/wp-content/uploads/2021/01/DSC_0998-scaled.jpg
END:VEVENT
BEGIN:VEVENT
DTSTART;TZID=America/Los_Angeles:20251106T140000
DTEND;TZID=America/Los_Angeles:20251106T140000
DTSTAMP:20260420T144124
CREATED:20251028T162047Z
LAST-MODIFIED:20251028T174911Z
UID:7700-1762437600-1762437600@portofskagit.com
SUMMARY:Special Commission Meeting / Public Hearing
DESCRIPTION:Pursuant to RCW 53.35.020\, the preliminary budget of the Port of Skagit for fiscal year 2026 has been prepared and has been placed on file Friday\, October 24\, 2025\, at the Port office\, located in the Administration Building at Skagit Regional Airport\, 15400 Airport Drive\, Burlington\, Washington 98233. A copy can also be obtained on the Port of Skagit website www.portofskagit.com. \n  \nThe Port Commission will conduct a public hearing on the 2026 preliminary budget at a special commission meeting on Thursday\, November 6\, 2025\, at 2:00 p.m.\, to be held in the Hearing Room at the Port’s Administration Building.  Following the public hearing\, the Port Commission expects to fix and adopt the final budget for the Port of Skagit for fiscal year 2026. \nAt this same time and location\, the Port Commission will conduct a public hearing on the adoption of an updated and revised Comprehensive Scheme of Harbor Improvements. \nAll interested people are invited to attend and provide comment. \n 
URL:https://portofskagit.com/event/special-commission-meeting-public-hearing/
LOCATION:Port Commission Hearing Room\, 15400 Airport Drive\, Burlington\, WA\, United States
CATEGORIES:Commission
ATTACH;FMTTYPE=image/jpeg:https://portofskagit.com/wp-content/uploads/2021/01/DSC_0998-scaled.jpg
END:VEVENT
BEGIN:VEVENT
DTSTART;TZID=America/Los_Angeles:20251021T140000
DTEND;TZID=America/Los_Angeles:20251021T140000
DTSTAMP:20260420T144124
CREATED:20250926T172232Z
LAST-MODIFIED:20251017T205738Z
UID:7666-1761055200-1761055200@portofskagit.com
SUMMARY:Commission Work Session Meeting--CANCELLED
DESCRIPTION:NOTICE IS HEREBY GIVEN on behalf of the President of the Port Commission of the Port of Skagit\, the work session meeting of the Board of Commissioners\, Port of Skagit previously scheduled for Tuesday\, October 21\, 2025\, at 2:00 PM is hereby canceled. \nThe next regular business meeting will be Tuesday\, November 4\, 2025 at 2:00 PM.
URL:https://portofskagit.com/event/commission-work-session-meeting-6/
LOCATION:Port Commission Hearing Room\, 15400 Airport Drive\, Burlington\, WA\, United States
CATEGORIES:Commission
ATTACH;FMTTYPE=image/jpeg:https://portofskagit.com/wp-content/uploads/2021/01/DSC_0998-scaled.jpg
END:VEVENT
BEGIN:VEVENT
DTSTART;TZID=America/Los_Angeles:20251007T140000
DTEND;TZID=America/Los_Angeles:20251007T140000
DTSTAMP:20260420T144124
CREATED:20250926T171956Z
LAST-MODIFIED:20250926T172027Z
UID:7664-1759845600-1759845600@portofskagit.com
SUMMARY:Commission Regular Meeting
DESCRIPTION:Please refer to the Meeting and Agendas on the Port Commission page for the agenda that correlates with this meeting. \n  \nThe Commission of the Port of Skagit County will hold a Regular Meeting on Tuesday\, October 7\, 2025 at 2:00pm. \nPublic attendees may participate in-person at the Commission Hearing Room at 15400 Airport Drive in Burlington WA.
URL:https://portofskagit.com/event/commission-regular-meeting-6/
LOCATION:Port Commission Hearing Room\, 15400 Airport Drive\, Burlington\, WA\, United States
CATEGORIES:Commission
ATTACH;FMTTYPE=image/jpeg:https://portofskagit.com/wp-content/uploads/2022/12/Sunrise-Dec-2022-scaled.jpg
END:VEVENT
BEGIN:VEVENT
DTSTART;TZID=America/Los_Angeles:20250927T130000
DTEND;TZID=America/Los_Angeles:20250927T173000
DTSTAMP:20260420T144124
CREATED:20250926T171653Z
LAST-MODIFIED:20250926T171707Z
UID:7659-1758978000-1758994200@portofskagit.com
SUMMARY:Skagit Farm to Pint FEST
DESCRIPTION:Skagit Farm to Pint FEST
URL:https://portofskagit.com/event/skagit-farm-to-pint-fest/
LOCATION:La Conner Marina\, 613 N 2nd Street\, La Conner\, WA\, United States
CATEGORIES:Value-Added Agriculture
ATTACH;FMTTYPE=image/jpeg:https://portofskagit.com/wp-content/uploads/2025/09/sftpfestgroup.jpg
END:VEVENT
BEGIN:VEVENT
DTSTART;TZID=America/Los_Angeles:20250909T140000
DTEND;TZID=America/Los_Angeles:20250909T140000
DTSTAMP:20260420T144124
CREATED:20250905T214014Z
LAST-MODIFIED:20250905T214020Z
UID:7651-1757426400-1757426400@portofskagit.com
SUMMARY:Regular Commission Meeting
DESCRIPTION:Please refer to the Meeting and Agendas on the Port Commission page for the agenda that correlates with this meeting. \n  \nThe Commission of the Port of Skagit County will hold a Regular Meeting on Tuesday\, September 9\, 2025 at 2:00pm. \nPublic attendees may participate in-person at the La Conner Marina Conference Room\, located at 613 N. Second Street in La Conner\, WA.
URL:https://portofskagit.com/event/regular-commission-meeting-3/
LOCATION:La Conner Marina\, 613 N 2nd Street\, La Conner\, WA\, United States
CATEGORIES:Commission
ATTACH;FMTTYPE=image/jpeg:https://portofskagit.com/wp-content/uploads/2022/02/IMG_0309.jpg
END:VEVENT
BEGIN:VEVENT
DTSTART;TZID=America/Los_Angeles:20250902T140000
DTEND;TZID=America/Los_Angeles:20250902T140000
DTSTAMP:20260420T144124
CREATED:20250901T160259Z
LAST-MODIFIED:20250901T160306Z
UID:7646-1756821600-1756821600@portofskagit.com
SUMMARY:Commission Work Session--Cancelled
DESCRIPTION:NOTICE IS HEREBY GIVEN on behalf of the President of the Port Commission of the Port of Skagit\, the work session meeting of the Board of Commissioners\, Port of Skagit previously scheduled for Tuesday\, September 2\, 2025\, at 2:00 PM is hereby cancelled. \n  \n 
URL:https://portofskagit.com/event/commission-work-session-cancelled-6/
LOCATION:WA
CATEGORIES:Commission
ATTACH;FMTTYPE=image/jpeg:https://portofskagit.com/wp-content/uploads/2022/12/Sunrise-Dec-2022-scaled.jpg
END:VEVENT
BEGIN:VEVENT
DTSTART;VALUE=DATE:20250901
DTEND;VALUE=DATE:20250902
DTSTAMP:20260420T144124
CREATED:20250901T160038Z
LAST-MODIFIED:20250901T160047Z
UID:7644-1756684800-1756771199@portofskagit.com
SUMMARY:Holiday Closure
DESCRIPTION:The Port of Skagit will be closed on Monday\, September 1\, 2025 in observance of the Labor Day holiday.
URL:https://portofskagit.com/event/holiday-closure-17/
LOCATION:WA
CATEGORIES:Port Administration
ATTACH;FMTTYPE=image/jpeg:https://portofskagit.com/wp-content/uploads/2021/01/DSC_0998-scaled.jpg
END:VEVENT
BEGIN:VEVENT
DTSTART;TZID=America/Los_Angeles:20250812T140000
DTEND;TZID=America/Los_Angeles:20250812T140000
DTSTAMP:20260420T144124
CREATED:20250804T155722Z
LAST-MODIFIED:20250804T155729Z
UID:7613-1755007200-1755007200@portofskagit.com
SUMMARY:Commission Regular Meeting
DESCRIPTION:Please refer to the Meeting and Agendas on the Port Commission page for the agenda that correlates with this meeting. \n  \nThe Commission of the Port of Skagit County will hold a Regular Meeting on Tuesday\, August 12\, 2025 at 2:00pm. \n  \nPublic attendees may participate in-person at the Commission Hearing Room at 15400 Airport Drive in Burlington WA.
URL:https://portofskagit.com/event/commission-regular-meeting-5/
LOCATION:Port Commission Hearing Room\, 15400 Airport Drive\, Burlington\, WA\, United States
CATEGORIES:Commission
ATTACH;FMTTYPE=image/png:https://portofskagit.com/wp-content/uploads/2020/12/post-image.png
END:VEVENT
BEGIN:VEVENT
DTSTART;TZID=America/Los_Angeles:20250805T140000
DTEND;TZID=America/Los_Angeles:20250805T140000
DTSTAMP:20260420T144124
CREATED:20250804T155549Z
LAST-MODIFIED:20250804T155556Z
UID:7611-1754402400-1754402400@portofskagit.com
SUMMARY:Commission Work Session Meeting
DESCRIPTION:Please refer to the Meeting and Agendas on the Port Commission page for the agenda that correlates with this meeting. \n  \nThe Commission of the Port of Skagit County will hold a Work Session Meeting on Tuesday\, August 5\, 2025 2:00pm. \n  \nThis meeting will be in-person at the Commission Hearing Room at 15400 Airport Drive in Burlington WA. \n  \nITEM/S FOR DISCUSSION:\nItem 1: SWIFT: Consultants Hub Building Feasibility Study Update and Public Access Planning\nItem 2: 2026 Capital Budget Preliminary Discussion
URL:https://portofskagit.com/event/commission-work-session-meeting-5/
LOCATION:Port Commission Hearing Room\, 15400 Airport Drive\, Burlington\, WA\, United States
CATEGORIES:Commission
ATTACH;FMTTYPE=image/jpeg:https://portofskagit.com/wp-content/uploads/2021/01/DSC_0998-scaled.jpg
END:VEVENT
END:VCALENDAR