BEGIN:VCALENDAR
VERSION:2.0
PRODID:-//Port of Skagit - ECPv6.15.15//NONSGML v1.0//EN
CALSCALE:GREGORIAN
METHOD:PUBLISH
X-ORIGINAL-URL:https://portofskagit.com
X-WR-CALDESC:Events for Port of Skagit
REFRESH-INTERVAL;VALUE=DURATION:PT1H
X-Robots-Tag:noindex
X-PUBLISHED-TTL:PT1H
BEGIN:VTIMEZONE
TZID:America/Los_Angeles
BEGIN:DAYLIGHT
TZOFFSETFROM:-0800
TZOFFSETTO:-0700
TZNAME:PDT
DTSTART:20240310T100000
END:DAYLIGHT
BEGIN:STANDARD
TZOFFSETFROM:-0700
TZOFFSETTO:-0800
TZNAME:PST
DTSTART:20241103T090000
END:STANDARD
BEGIN:DAYLIGHT
TZOFFSETFROM:-0800
TZOFFSETTO:-0700
TZNAME:PDT
DTSTART:20250309T100000
END:DAYLIGHT
BEGIN:STANDARD
TZOFFSETFROM:-0700
TZOFFSETTO:-0800
TZNAME:PST
DTSTART:20251102T090000
END:STANDARD
BEGIN:DAYLIGHT
TZOFFSETFROM:-0800
TZOFFSETTO:-0700
TZNAME:PDT
DTSTART:20260308T100000
END:DAYLIGHT
BEGIN:STANDARD
TZOFFSETFROM:-0700
TZOFFSETTO:-0800
TZNAME:PST
DTSTART:20261101T090000
END:STANDARD
END:VTIMEZONE
BEGIN:VEVENT
DTSTART;TZID=America/Los_Angeles:20250726T093000
DTEND;TZID=America/Los_Angeles:20250726T160000
DTSTAMP:20260421T020137
CREATED:20250716T184827Z
LAST-MODIFIED:20250716T184827Z
UID:7588-1753522200-1753545600@portofskagit.com
SUMMARY:4th Annual Remembering Northern State Public History Day
DESCRIPTION:The Port of Skagit and the Skagit County Historical Museum are proud to present our fourth public history event at the former Northern State Hospital. \n  \nHear from speakers who worked and lived at Northern State\, learn the history\, purchase books at the book table\, take a self-guided outdoor walking tour\, write a memory on the memorial wall\, and more! This year\, we’ll again be offering a tour inside the Colman Ward for a limited number of participants. Ticket information can be found at https://www.northernstatehospital.org/events \n​Admission to Public History Day is free.  \n  \nFollowing this event in the evening is Music in the Park @ SWIFT\, a free concert event on the historic property.  Click HERE for the event page for more details.
URL:https://portofskagit.com/event/4th-annual-remembering-northern-state-public-history-day/
LOCATION:SWIFT Center\, 1801 Hub Drive\, Sedro-Woolley\, WA
CATEGORIES:SWIFT Center
ATTACH;FMTTYPE=image/png:https://portofskagit.com/wp-content/uploads/2025/07/2025-NSH-Public-History-Day-FB.png
END:VEVENT
BEGIN:VEVENT
DTSTART;TZID=America/Los_Angeles:20250726T173000
DTEND;TZID=America/Los_Angeles:20250726T200000
DTSTAMP:20260421T020137
CREATED:20250707T172059Z
LAST-MODIFIED:20250716T195240Z
UID:7568-1753551000-1753560000@portofskagit.com
SUMMARY:Music in the Park @ SWIFT
DESCRIPTION:Join us for the first ever Music in the Park @ SWIFT!  This FREE family-friendly event will feature food\, beer garden area\, a beautiful setting and two amazing musical performances by: \n  \nBenny Sidelinger\nFriends for the Ghost\n  \nBring your lawn chairs\, bring your friends and family\, and spend the summer evening enjoying some incredible entertainment at the picturesque SWIFT Center\, the former Northern State Hospital campus. \n  \nClick HERE to visit the event page with more details!\nClick HERE to view the event promotional video with our featured musicians!\n  \nMusic in the Park @ SWIFT begins at 5:30pm and will take place in a grassy area on the east end of the campus off Thompson Drive.  (Use the Fruitdale Road entrance to the campus\, go to Thompson Drive and follow the signs for parking).  The event will feature food and drink offerings from True North Bakery as well as a beer garden area operated by the Tipsy Trailer featuring beverages from Chuckanut Brewery and Garden Path Fermentation. \n  \nThe Music in the Park @ SWIFT event follows the 4th Annual NSH Public History Day hosted by Skagit County Historical Museum earlier that same day.
URL:https://portofskagit.com/event/music-in-the-park-swift/
LOCATION:SWIFT Center\, 1801 Hub Drive\, Sedro-Woolley\, WA
CATEGORIES:SWIFT Center
ATTACH;FMTTYPE=image/jpeg:https://portofskagit.com/wp-content/uploads/2025/07/SWIFTMusicPoster-cropped.jpg
END:VEVENT
END:VCALENDAR