BEGIN:VCALENDAR
VERSION:2.0
PRODID:-//Port of Skagit - ECPv6.15.15//NONSGML v1.0//EN
CALSCALE:GREGORIAN
METHOD:PUBLISH
X-ORIGINAL-URL:https://portofskagit.com
X-WR-CALDESC:Events for Port of Skagit
REFRESH-INTERVAL;VALUE=DURATION:PT1H
X-Robots-Tag:noindex
X-PUBLISHED-TTL:PT1H
BEGIN:VTIMEZONE
TZID:America/Los_Angeles
BEGIN:DAYLIGHT
TZOFFSETFROM:-0800
TZOFFSETTO:-0700
TZNAME:PDT
DTSTART:20190310T100000
END:DAYLIGHT
BEGIN:STANDARD
TZOFFSETFROM:-0700
TZOFFSETTO:-0800
TZNAME:PST
DTSTART:20191103T090000
END:STANDARD
BEGIN:DAYLIGHT
TZOFFSETFROM:-0800
TZOFFSETTO:-0700
TZNAME:PDT
DTSTART:20200308T100000
END:DAYLIGHT
BEGIN:STANDARD
TZOFFSETFROM:-0700
TZOFFSETTO:-0800
TZNAME:PST
DTSTART:20201101T090000
END:STANDARD
BEGIN:DAYLIGHT
TZOFFSETFROM:-0800
TZOFFSETTO:-0700
TZNAME:PDT
DTSTART:20210314T100000
END:DAYLIGHT
BEGIN:STANDARD
TZOFFSETFROM:-0700
TZOFFSETTO:-0800
TZNAME:PST
DTSTART:20211107T090000
END:STANDARD
BEGIN:DAYLIGHT
TZOFFSETFROM:-0800
TZOFFSETTO:-0700
TZNAME:PDT
DTSTART:20220313T100000
END:DAYLIGHT
BEGIN:STANDARD
TZOFFSETFROM:-0700
TZOFFSETTO:-0800
TZNAME:PST
DTSTART:20221106T090000
END:STANDARD
BEGIN:DAYLIGHT
TZOFFSETFROM:-0800
TZOFFSETTO:-0700
TZNAME:PDT
DTSTART:20230312T100000
END:DAYLIGHT
BEGIN:STANDARD
TZOFFSETFROM:-0700
TZOFFSETTO:-0800
TZNAME:PST
DTSTART:20231105T090000
END:STANDARD
BEGIN:DAYLIGHT
TZOFFSETFROM:-0800
TZOFFSETTO:-0700
TZNAME:PDT
DTSTART:20240310T100000
END:DAYLIGHT
BEGIN:STANDARD
TZOFFSETFROM:-0700
TZOFFSETTO:-0800
TZNAME:PST
DTSTART:20241103T090000
END:STANDARD
BEGIN:DAYLIGHT
TZOFFSETFROM:-0800
TZOFFSETTO:-0700
TZNAME:PDT
DTSTART:20250309T100000
END:DAYLIGHT
BEGIN:STANDARD
TZOFFSETFROM:-0700
TZOFFSETTO:-0800
TZNAME:PST
DTSTART:20251102T090000
END:STANDARD
BEGIN:DAYLIGHT
TZOFFSETFROM:-0800
TZOFFSETTO:-0700
TZNAME:PDT
DTSTART:20260308T100000
END:DAYLIGHT
BEGIN:STANDARD
TZOFFSETFROM:-0700
TZOFFSETTO:-0800
TZNAME:PST
DTSTART:20261101T090000
END:STANDARD
END:VTIMEZONE
BEGIN:VTIMEZONE
TZID:UTC
BEGIN:STANDARD
TZOFFSETFROM:+0000
TZOFFSETTO:+0000
TZNAME:UTC
DTSTART:20210101T000000
END:STANDARD
END:VTIMEZONE
BEGIN:VEVENT
DTSTART;TZID=America/Los_Angeles:20250628T100000
DTEND;TZID=America/Los_Angeles:20250628T160000
DTSTAMP:20260421T035134
CREATED:20250627T165927Z
LAST-MODIFIED:20250627T165927Z
UID:7550-1751104800-1751126400@portofskagit.com
SUMMARY:Skagit Skies Airshow
DESCRIPTION:The Port of Skagit is pleased to invite the community to Skagit Regional Airport on Saturday\, June 28th for the 2025 Skagit Skies Airshow and Community Aviation Festival. \n  \nThis fantastic event is made possible through the generous support of our sponsors\, and the hard work of the planning team who put together an outstanding lineup of performers\, static displays\, demonstrations\, flyovers\, youth activities\, food trucks and MORE. \n  \nAdmission is FREE! \n  \nThe event poster is attached and below.  Stay informed with up-to-date details about parking\, event schedule\, and other important information by scanning the QR code or visiting our webpage at www.portofskagit.com/airshow.
URL:https://portofskagit.com/event/skagit-skies-airshow/
CATEGORIES:Skagit Regional Airport (KBVS)
ATTACH;FMTTYPE=image/jpeg:https://portofskagit.com/wp-content/uploads/2025/01/Skagit-Skies-2025-simple.jpg
END:VEVENT
BEGIN:VEVENT
DTSTART;TZID=UTC:20220301T090000
DTEND;TZID=UTC:20220301T090000
DTSTAMP:20260421T035134
CREATED:20220228T172906Z
LAST-MODIFIED:20220228T173036Z
UID:6330-1646125200-1646125200@portofskagit.com
SUMMARY:Special Meeting of the Port Commission
DESCRIPTION:Please refer to the Meeting and Agendas on the Port Commission page for the agenda that correlates with this meeting \n  \nThe Commission of the Port of Skagit County will hold a Special Commission meeting on Tuesday\, March 1\, 2022\, at 9:00 a.m. \n  \nThis meeting will be held as an online Zoom meeting instead of specific location. There will be no physical meeting location. Public attendees may participate by joining the Zoom session with the following credentials: \n  \nZoom Session Information \nMeeting ID: 860-3969-3223 \nPasscode: 386-638 \nBy Phone: (253) 215-8782  (you will then be prompted for Meeting ID and Passcode). \n  \nThe purpose of the special meeting is to consider and adopt the following: \nSkagit Regional Airport: Critical Facility Emergency Power (2022) – Adopt Resolution No. 22-07 -Designating Applicant Agent \n 
URL:https://portofskagit.com/event/special-meeting-of-the-port-commission-9/
LOCATION:Zoom Meeting (Remote)\, 15400 Airport Drive\, Burlington\, WA\, 98233\, United States
CATEGORIES:Commission,Skagit Regional Airport (KBVS)
ATTACH;FMTTYPE=image/jpeg:https://portofskagit.com/wp-content/uploads/2021/01/DSC_0998-scaled.jpg
END:VEVENT
BEGIN:VEVENT
DTSTART;TZID=America/Los_Angeles:20201116T163000
DTEND;TZID=America/Los_Angeles:20201116T173000
DTSTAMP:20260421T035134
CREATED:20201230T185433Z
LAST-MODIFIED:20201230T185433Z
UID:4584-1605544200-1605547800@portofskagit.com
SUMMARY:Public Information Workshop - Skagit Regional Airport
DESCRIPTION:Due to COVID-19\, the public information workshop will take place virtually. There are several opportunities for you to participate and provide comment to the project team: \n\nReview all draft material at: www.skagit.airportstudy.com/master-plan-documents\nReview the narrated project summary video between November 2nd and\nNovember 30th at: www.skagit.airportstudy.com\nParticipate in an interactive Zoom* meeting hosted by the project team on\nNovember 16th from 4:30-5:30pm. *RSVP to ptaylor@coffmanassociates.com to receive the invitation and link.\n\nSend comments to the project team via the project website: www.skagit.airportstudy.com/comments or directly to ptaylor@coffmanassociates.com by November 30th.
URL:https://portofskagit.com/event/public-information-workshop-skagit-regional-airport/
LOCATION:Zoom Meeting (Remote)\, 15400 Airport Drive\, Burlington\, WA\, 98233\, United States
CATEGORIES:Skagit Regional Airport (KBVS)
ORGANIZER;CN="Patrick Taylor":MAILTO:ptaylor@coffmanassociates.com
END:VEVENT
END:VCALENDAR