BEGIN:VCALENDAR
VERSION:2.0
PRODID:-//Port of Skagit - ECPv6.15.15//NONSGML v1.0//EN
CALSCALE:GREGORIAN
METHOD:PUBLISH
X-ORIGINAL-URL:https://portofskagit.com
X-WR-CALDESC:Events for Port of Skagit
REFRESH-INTERVAL;VALUE=DURATION:PT1H
X-Robots-Tag:noindex
X-PUBLISHED-TTL:PT1H
BEGIN:VTIMEZONE
TZID:America/Los_Angeles
BEGIN:DAYLIGHT
TZOFFSETFROM:-0800
TZOFFSETTO:-0700
TZNAME:PDT
DTSTART:20210314T100000
END:DAYLIGHT
BEGIN:STANDARD
TZOFFSETFROM:-0700
TZOFFSETTO:-0800
TZNAME:PST
DTSTART:20211107T090000
END:STANDARD
BEGIN:DAYLIGHT
TZOFFSETFROM:-0800
TZOFFSETTO:-0700
TZNAME:PDT
DTSTART:20220313T100000
END:DAYLIGHT
BEGIN:STANDARD
TZOFFSETFROM:-0700
TZOFFSETTO:-0800
TZNAME:PST
DTSTART:20221106T090000
END:STANDARD
BEGIN:DAYLIGHT
TZOFFSETFROM:-0800
TZOFFSETTO:-0700
TZNAME:PDT
DTSTART:20230312T100000
END:DAYLIGHT
BEGIN:STANDARD
TZOFFSETFROM:-0700
TZOFFSETTO:-0800
TZNAME:PST
DTSTART:20231105T090000
END:STANDARD
BEGIN:DAYLIGHT
TZOFFSETFROM:-0800
TZOFFSETTO:-0700
TZNAME:PDT
DTSTART:20240310T100000
END:DAYLIGHT
BEGIN:STANDARD
TZOFFSETFROM:-0700
TZOFFSETTO:-0800
TZNAME:PST
DTSTART:20241103T090000
END:STANDARD
BEGIN:DAYLIGHT
TZOFFSETFROM:-0800
TZOFFSETTO:-0700
TZNAME:PDT
DTSTART:20250309T100000
END:DAYLIGHT
BEGIN:STANDARD
TZOFFSETFROM:-0700
TZOFFSETTO:-0800
TZNAME:PST
DTSTART:20251102T090000
END:STANDARD
END:VTIMEZONE
BEGIN:VEVENT
DTSTART;VALUE=DATE:20240527
DTEND;VALUE=DATE:20240528
DTSTAMP:20260421T053652
CREATED:20240524T181608Z
LAST-MODIFIED:20240524T181618Z
UID:7028-1716768000-1716854399@portofskagit.com
SUMMARY:Holiday Closure
DESCRIPTION:The Port of Skagit Administrative Offices will be closed on Monday\, May 27\, 2024 in observance of the Memorial Day holiday. \n  \nThe La Conner Marina office will be open normal hours. \n  \n 
URL:https://portofskagit.com/event/holiday-closure-9/
CATEGORIES:Port Administration
ATTACH;FMTTYPE=image/jpeg:https://portofskagit.com/wp-content/uploads/2020/05/DSC_0254-scaled.jpg
END:VEVENT
BEGIN:VEVENT
DTSTART;VALUE=DATE:20240115
DTEND;VALUE=DATE:20240116
DTSTAMP:20260421T053652
CREATED:20240108T173842Z
LAST-MODIFIED:20240108T173851Z
UID:6911-1705276800-1705363199@portofskagit.com
SUMMARY:Holiday Closure
DESCRIPTION:The Port of Skagit offices will be closed on Monday\, January 15th in observance of Martin Luther King Jr. Day.
URL:https://portofskagit.com/event/holiday-closure-8/
CATEGORIES:Port Administration
ATTACH;FMTTYPE=image/jpeg:https://portofskagit.com/wp-content/uploads/2022/12/Sunrise-Dec-2022-scaled.jpg
END:VEVENT
BEGIN:VEVENT
DTSTART;VALUE=DATE:20240101
DTEND;VALUE=DATE:20240102
DTSTAMP:20260421T053652
CREATED:20231129T213325Z
LAST-MODIFIED:20231129T213325Z
UID:6887-1704067200-1704153599@portofskagit.com
SUMMARY:Holiday Closure
DESCRIPTION:The Port of Skagit will be closed on Monday\, January 1\, 2024 for New Years Day.  The Port will reopen on Tuesday\, January 2nd for normal operating hours. \n  \nHappy New Year!
URL:https://portofskagit.com/event/holiday-closure-7/
CATEGORIES:Port Administration
ATTACH;FMTTYPE=image/jpeg:https://portofskagit.com/wp-content/uploads/2022/12/Sunrise-Dec-2022-scaled.jpg
END:VEVENT
BEGIN:VEVENT
DTSTART;VALUE=DATE:20231225
DTEND;VALUE=DATE:20231226
DTSTAMP:20260421T053652
CREATED:20231129T213145Z
LAST-MODIFIED:20231129T213145Z
UID:6885-1703462400-1703548799@portofskagit.com
SUMMARY:Holiday Closure
DESCRIPTION:The Port of Skagit will be closed on Monday\, December 25th for the Christmas holiday.  The Port will reopen on Tuesday\, December 26th for normal operating hours. \n  \nHappy Holidays!
URL:https://portofskagit.com/event/holiday-closure-6/
CATEGORIES:Port Administration
ATTACH;FMTTYPE=image/jpeg:https://portofskagit.com/wp-content/uploads/2022/12/Sunrise-Dec-2022-scaled.jpg
END:VEVENT
BEGIN:VEVENT
DTSTART;VALUE=DATE:20231215
DTEND;VALUE=DATE:20231216
DTSTAMP:20260421T053652
CREATED:20231130T211527Z
LAST-MODIFIED:20231130T211527Z
UID:6889-1702598400-1702684799@portofskagit.com
SUMMARY:Office Closure--Training
DESCRIPTION:The Port of Skagit offices will be closed on Friday\, December 15th for Port staff training and holiday party.
URL:https://portofskagit.com/event/office-closure-training/
CATEGORIES:Port Administration
ATTACH;FMTTYPE=image/jpeg:https://portofskagit.com/wp-content/uploads/2023/11/Staff-Training.jpg
END:VEVENT
BEGIN:VEVENT
DTSTART;VALUE=DATE:20231110
DTEND;VALUE=DATE:20231111
DTSTAMP:20260421T053652
CREATED:20231108T171127Z
LAST-MODIFIED:20231108T171209Z
UID:6872-1699574400-1699660799@portofskagit.com
SUMMARY:Holiday Closure
DESCRIPTION:The Port of Skagit offices will be closed on Friday\, November 10th in observance of Veterans Day. \n  \nThank you to all those who have served.
URL:https://portofskagit.com/event/holiday-closure-5/
CATEGORIES:Port Administration
ATTACH;FMTTYPE=image/png:https://portofskagit.com/wp-content/uploads/2022/10/HFM-cropped.png
END:VEVENT
BEGIN:VEVENT
DTSTART;TZID=America/Los_Angeles:20230904T080000
DTEND;TZID=America/Los_Angeles:20230904T170000
DTSTAMP:20260421T053652
CREATED:20230901T185105Z
LAST-MODIFIED:20230901T185105Z
UID:6816-1693814400-1693846800@portofskagit.com
SUMMARY:Holiday Closure
DESCRIPTION:The Port of Skagit Administrative Office will be closed on Monday\, September 4 in observance of Labor Day.
URL:https://portofskagit.com/event/holiday-closure-4/
CATEGORIES:Port Administration
ATTACH;FMTTYPE=image/jpeg:https://portofskagit.com/wp-content/uploads/2022/12/Sunrise-Dec-2022-scaled.jpg
END:VEVENT
BEGIN:VEVENT
DTSTART;VALUE=DATE:20230704
DTEND;VALUE=DATE:20230705
DTSTAMP:20260421T053652
CREATED:20230602T233853Z
LAST-MODIFIED:20230602T233853Z
UID:6748-1688428800-1688515199@portofskagit.com
SUMMARY:Holiday Closure
DESCRIPTION:The Port of Skagit Administrative Office will be closed on July 4th for the Independence Day holiday. \n  \nPlease join us at the La Conner Marina for a Hometown Celebration for the 4th of July!
URL:https://portofskagit.com/event/holiday-closure-3/
CATEGORIES:Port Administration
ATTACH;FMTTYPE=image/jpeg:https://portofskagit.com/wp-content/uploads/2021/01/DSC_0998-scaled.jpg
END:VEVENT
BEGIN:VEVENT
DTSTART;VALUE=DATE:20230619
DTEND;VALUE=DATE:20230620
DTSTAMP:20260421T053652
CREATED:20230602T232232Z
LAST-MODIFIED:20230602T232232Z
UID:6741-1687132800-1687219199@portofskagit.com
SUMMARY:Holiday Closure
DESCRIPTION:The Port of Skagit Administrative Office will be closed on Monday\, June 19th in observance of the Juneteenth federal holiday. \n  \nThe La Conner Marina office will be open regular hours.
URL:https://portofskagit.com/event/holiday-closure-2/
CATEGORIES:Port Administration
ATTACH;FMTTYPE=image/jpeg:https://portofskagit.com/wp-content/uploads/2021/01/DSC_0998-scaled.jpg
END:VEVENT
BEGIN:VEVENT
DTSTART;VALUE=DATE:20230529
DTEND;VALUE=DATE:20230530
DTSTAMP:20260421T053652
CREATED:20230522T165420Z
LAST-MODIFIED:20230522T165420Z
UID:6725-1685318400-1685404799@portofskagit.com
SUMMARY:Holiday Closure
DESCRIPTION:The Port Administrative office will be closed on Monday\, May 29th in observance of the Memorial Day holiday. \n  \nThe La Conner Marina office will be open.
URL:https://portofskagit.com/event/holiday-closure/
CATEGORIES:Port Administration
ATTACH;FMTTYPE=image/jpeg:https://portofskagit.com/wp-content/uploads/2021/01/DSC_0998-scaled.jpg
END:VEVENT
BEGIN:VEVENT
DTSTART;VALUE=DATE:20230116
DTEND;VALUE=DATE:20230117
DTSTAMP:20260421T053652
CREATED:20230112T202012Z
LAST-MODIFIED:20230112T202012Z
UID:6596-1673827200-1673913599@portofskagit.com
SUMMARY:Port Offices Closed--Martin Luther King Jr. Day
DESCRIPTION:The Port of Skagit offices will be closed on Monday\, January 16\, 2023 in observance of Dr. Martin Luther King Jr. Day.
URL:https://portofskagit.com/event/port-offices-closed-martin-luther-king-jr-day/
CATEGORIES:Port Administration
ATTACH;FMTTYPE=image/jpeg:https://portofskagit.com/wp-content/uploads/2022/12/Sunrise-Dec-2022-scaled.jpg
END:VEVENT
BEGIN:VEVENT
DTSTART;VALUE=DATE:20221226
DTEND;VALUE=DATE:20221227
DTSTAMP:20260421T053652
CREATED:20220112T192835Z
LAST-MODIFIED:20220112T192835Z
UID:6231-1672012800-1672099199@portofskagit.com
SUMMARY:Holiday--Port Offices Closed
DESCRIPTION:The Port of Skagit offices will be closed on Monday\, December 26\, 2022 in observance of Christmas.
URL:https://portofskagit.com/event/holiday-port-offices-closed-8/
CATEGORIES:Port Administration
ATTACH;FMTTYPE=image/jpeg:https://portofskagit.com/wp-content/uploads/2021/01/DSC_0998-scaled.jpg
END:VEVENT
BEGIN:VEVENT
DTSTART;TZID=America/Los_Angeles:20221215T103000
DTEND;TZID=America/Los_Angeles:20221215T170000
DTSTAMP:20260421T053652
CREATED:20221215T005123Z
LAST-MODIFIED:20221215T005123Z
UID:6574-1671100200-1671123600@portofskagit.com
SUMMARY:Port Offices-Early Closure
DESCRIPTION:The Port of Skagit offices will be closing at 10:30am on Thursday\, December 15th for an offsite staff meeting. \n  \nOffices will re-open at regular time on Friday\, December 16th.  Thank you for your understanding.
URL:https://portofskagit.com/event/port-offices-early-closure/
CATEGORIES:Port Administration
ATTACH;FMTTYPE=image/jpeg:https://portofskagit.com/wp-content/uploads/2021/01/sunset-white-logo-resized.jpg
END:VEVENT
BEGIN:VEVENT
DTSTART;TZID=America/Los_Angeles:20221213T140000
DTEND;TZID=America/Los_Angeles:20221213T150000
DTSTAMP:20260421T053652
CREATED:20220103T213609Z
LAST-MODIFIED:20221213T003403Z
UID:6103-1670940000-1670943600@portofskagit.com
SUMMARY:Regular Meeting of the Port Commission-2022
DESCRIPTION:Please refer to the Meeting and Agendas on the Port Commission page for the agenda that correlates with this meeting. \n  \nThe Commission of the Port of Skagit County will hold a Regular Meeting on Tuesday\, December 13\, 2022 at 2:00pm. \n  \nThis meeting will be in-person with an online video/telephone conference meeting option.  Public attendees may participate in-person at the Commission Hearing Room at 15400 Airport Drive in Burlington WA or by joining the Zoom session with the following credentials: \n  \nZoom Session Information \n Meeting ID: 815-3975-1887 \nPasscode: 604-309 \nBy Phone:  (253) 215-8782 (you will then be prompted for Meeting ID and Passcode). \n 
URL:https://portofskagit.com/event/regular-meeting-of-the-port-commission-2-2022-06-14-2022-12-13/
LOCATION:Zoom Meeting (Remote)\, 15400 Airport Drive\, Burlington\, WA\, 98233\, United States
CATEGORIES:Commission,Port Administration
ATTACH;FMTTYPE=image/jpeg:https://portofskagit.com/wp-content/uploads/2021/01/sunset-white-logo-resized.jpg
END:VEVENT
BEGIN:VEVENT
DTSTART;VALUE=DATE:20221124
DTEND;VALUE=DATE:20221126
DTSTAMP:20260421T053652
CREATED:20220112T192644Z
LAST-MODIFIED:20220112T192644Z
UID:6227-1669248000-1669420799@portofskagit.com
SUMMARY:Holiday--Port Offices Closed
DESCRIPTION:The Port of Skagit offices will be closed on Thursday\, November 24 and Friday\, November 25\,  in observance of the Thanksgiving holiday.
URL:https://portofskagit.com/event/holiday-port-offices-closed-7/
CATEGORIES:Port Administration
ATTACH;FMTTYPE=image/jpeg:https://portofskagit.com/wp-content/uploads/2021/01/DSC_0998-scaled.jpg
END:VEVENT
BEGIN:VEVENT
DTSTART;TZID=America/Los_Angeles:20221123T150000
DTEND;TZID=America/Los_Angeles:20221123T150000
DTSTAMP:20260421T053652
CREATED:20221123T185929Z
LAST-MODIFIED:20221123T185929Z
UID:6557-1669215600-1669215600@portofskagit.com
SUMMARY:Port Offices Closing Early
DESCRIPTION:  \nIn observance of the Thanksgiving holiday\, the Port of Skagit offices will be closing at 3pm on Wednesday\, November 23rd. \n  \nWishing you and yours a very Happy Thanksgiving!
URL:https://portofskagit.com/event/port-offices-closing-early/
CATEGORIES:Port Administration
ATTACH;FMTTYPE=image/jpeg:https://portofskagit.com/wp-content/uploads/2021/10/IMG_1153.jpg
END:VEVENT
BEGIN:VEVENT
DTSTART;VALUE=DATE:20221111
DTEND;VALUE=DATE:20221112
DTSTAMP:20260421T053652
CREATED:20220112T192028Z
LAST-MODIFIED:20220112T192028Z
UID:6223-1668124800-1668211199@portofskagit.com
SUMMARY:Holiday--Port Offices Closed
DESCRIPTION:The Port of Skagit offices will be closed on Friday\, November 11\, 2022 in observance of Veterans Day.
URL:https://portofskagit.com/event/holiday-port-offices-closed-6/
CATEGORIES:Port Administration
ATTACH;FMTTYPE=image/jpeg:https://portofskagit.com/wp-content/uploads/2021/01/DSC_0998-scaled.jpg
END:VEVENT
BEGIN:VEVENT
DTSTART;TZID=America/Los_Angeles:20221108T140000
DTEND;TZID=America/Los_Angeles:20221108T140000
DTSTAMP:20260421T053652
CREATED:20220103T213609Z
LAST-MODIFIED:20221107T161404Z
UID:6101-1667916000-1667916000@portofskagit.com
SUMMARY:Regular Meeting of the Port Commission-2022
DESCRIPTION:Please refer to the Meeting and Agendas on the Port Commission page for the agenda that correlates with this meeting. \n  \nThe Commission of the Port of Skagit County will hold a Regular Meeting on Tuesday\, November 8\, 2022 at 2:00pm. \n  \nThis meeting will be in-person with an online video/telephone conference meeting option.  Public attendees may participate in-person at the Commission Hearing Room at 15400 Airport Drive in Burlington WA or by joining the Zoom session with the following credentials: \n  \nZoom Session Information \n Meeting ID: 815-3975-1887 \nPasscode: 604-309 \nBy Phone:  (253) 215-8782 (you will then be prompted for Meeting ID and Passcode). \n  \n 
URL:https://portofskagit.com/event/regular-meeting-of-the-port-commission-2-2022-06-14-2022-11-08/
LOCATION:Zoom Meeting (Remote)\, 15400 Airport Drive\, Burlington\, WA\, 98233\, United States
CATEGORIES:Commission,Port Administration
ATTACH;FMTTYPE=image/jpeg:https://portofskagit.com/wp-content/uploads/2021/01/sunset-white-logo-resized.jpg
END:VEVENT
BEGIN:VEVENT
DTSTART;TZID=America/Los_Angeles:20221011T140000
DTEND;TZID=America/Los_Angeles:20221011T140000
DTSTAMP:20260421T053652
CREATED:20220103T213609Z
LAST-MODIFIED:20221007T211628Z
UID:6099-1665496800-1665496800@portofskagit.com
SUMMARY:Regular Meeting of the Port Commission-2022
DESCRIPTION:Please refer to the Meeting and Agendas on the Port Commission page for the agenda that correlates with this meeting. \n  \n  \nThe Commission of the Port of Skagit County will hold a Regular Meeting on Tuesday\, October 11\, 2022 at 2:00pm. \n  \nThis meeting will be in-person with an online video/telephone conference meeting option.  Public attendees may participate in-person at the Commission Hearing Room at 15400 Airport Drive in Burlington WA or by joining the Zoom session with the following credentials: \n  \nZoom Session Information \n Meeting ID: 815-3975-1887 \nPasscode: 604-309 \nBy Phone:  (253) 215-8782 (you will then be prompted for Meeting ID and Passcode) \n  \n 
URL:https://portofskagit.com/event/regular-meeting-of-the-port-commission-2-2022-06-14-2022-10-11/
LOCATION:Port Commission Hearing Room\, 15400 Airport Drive\, Burlington\, WA\, United States
CATEGORIES:Commission,Port Administration
ATTACH;FMTTYPE=image/jpeg:https://portofskagit.com/wp-content/uploads/2021/01/sunset-white-logo-resized.jpg
END:VEVENT
BEGIN:VEVENT
DTSTART;TZID=America/Los_Angeles:20220913T140000
DTEND;TZID=America/Los_Angeles:20220913T140000
DTSTAMP:20260421T053652
CREATED:20220103T213609Z
LAST-MODIFIED:20220912T175523Z
UID:6097-1663077600-1663077600@portofskagit.com
SUMMARY:Regular Meeting of the Port Commission-2022
DESCRIPTION:Please refer to the Meeting and Agendas on the Port Commission page for the agenda that correlates with this meeting. \n  \nThe Commission of the Port of Skagit County will hold a Regular Meeting on Tuesday\, September 13\, 2022 at 2:00pm. \n  \nThis meeting will be in-person with an online video/telephone conference meeting option.  Public attendees may participate in-person at the Commission Hearing Room at 15400 Airport Drive in Burlington WA or by joining the Zoom session with the following credentials: \n  \nZoom Session Information \n Meeting ID: 815-3975-1887 \nPasscode: 604-309 \nBy Phone:  (253) 215-8782 (you will then be prompted for Meeting ID and Passcode). \n  \n  \n 
URL:https://portofskagit.com/event/regular-meeting-of-the-port-commission-2-2022-06-14-2022-09-13/
LOCATION:Zoom Meeting (Remote)\, 15400 Airport Drive\, Burlington\, WA\, 98233\, United States
CATEGORIES:Commission,Port Administration
ATTACH;FMTTYPE=image/jpeg:https://portofskagit.com/wp-content/uploads/2021/01/sunset-white-logo-resized.jpg
END:VEVENT
BEGIN:VEVENT
DTSTART;VALUE=DATE:20220905
DTEND;VALUE=DATE:20220906
DTSTAMP:20260421T053652
CREATED:20220112T191832Z
LAST-MODIFIED:20220112T191832Z
UID:6219-1662336000-1662422399@portofskagit.com
SUMMARY:Holiday--Port Offices Closed
DESCRIPTION:The Port of Skagit offices will be closed on Monday\, September 5\, 2022 in observance of Labor Day.
URL:https://portofskagit.com/event/holiday-port-offices-closed-5/
CATEGORIES:Port Administration
ATTACH;FMTTYPE=image/jpeg:https://portofskagit.com/wp-content/uploads/2021/01/DSC_0998-scaled.jpg
END:VEVENT
BEGIN:VEVENT
DTSTART;TZID=America/Los_Angeles:20220809T140000
DTEND;TZID=America/Los_Angeles:20220809T150000
DTSTAMP:20260421T053652
CREATED:20220103T213609Z
LAST-MODIFIED:20220808T172452Z
UID:6095-1660053600-1660057200@portofskagit.com
SUMMARY:Regular Meeting of the Port Commission-2022
DESCRIPTION:Please refer to the Meeting and Agendas on the Port Commission page for the agenda that correlates with this meeting. \n  \nThe Commission of the Port of Skagit County will hold a Regular Meeting on Tuesday\, August 9\, 2022 at 2:00pm. \nThis meeting will be in-person with an online video/telephone conference meeting option.  Public attendees may participate in-person at the Commission Hearing Room at 15400 Airport Drive in Burlington WA or by joining the Zoom session with the following credentials: \n  \nZoom Session Information \n Meeting ID: 815-3975-1887 \nPasscode: 604-309 \nBy Phone:  (253) 215-8782 (you will then be prompted for Meeting ID and Passcode). \n 
URL:https://portofskagit.com/event/regular-meeting-of-the-port-commission-2-2022-06-14-2022-08-09/
LOCATION:Zoom Meeting (Remote)\, 15400 Airport Drive\, Burlington\, WA\, 98233\, United States
CATEGORIES:Commission,Port Administration
ATTACH;FMTTYPE=image/jpeg:https://portofskagit.com/wp-content/uploads/2021/01/sunset-white-logo-resized.jpg
END:VEVENT
BEGIN:VEVENT
DTSTART;TZID=America/Los_Angeles:20220712T140000
DTEND;TZID=America/Los_Angeles:20220712T150000
DTSTAMP:20260421T053652
CREATED:20220103T213609Z
LAST-MODIFIED:20220711T153806Z
UID:6093-1657634400-1657638000@portofskagit.com
SUMMARY:Regular Meeting of the Port Commission-2022
DESCRIPTION:Please refer to the Meeting and Agendas on the Port Commission page for the agenda that correlates with this meeting. \n  \nThe Commission of the Port of Skagit County will hold a Regular Meeting on Tuesday\, July 12\, 2022 at 2:00pm. \n  \nNOTE:  The first order of business at the July 12th Regular Commission Meeting will be to amend the meeting agenda to cancel the work session. \n  \nThis meeting will be in-person with an online video/telephone conference meeting option.  Public attendees may participate in-person at the Commission Hearing Room at 15400 Airport Drive in Burlington WA or by joining the Zoom session with the following credentials: \nZoom Session Information \n Meeting ID: 815-3975-1887 \nPasscode: 604-309 \nBy Phone:  (253) 215-8782 (you will then be prompted for Meeting ID and Passcode). \n 
URL:https://portofskagit.com/event/regular-meeting-of-the-port-commission-2-2022-06-14-2022-07-12/
LOCATION:Zoom Meeting (Remote)\, 15400 Airport Drive\, Burlington\, WA\, 98233\, United States
CATEGORIES:Commission,Port Administration
ATTACH;FMTTYPE=image/jpeg:https://portofskagit.com/wp-content/uploads/2021/01/sunset-white-logo-resized.jpg
END:VEVENT
BEGIN:VEVENT
DTSTART;VALUE=DATE:20220704
DTEND;VALUE=DATE:20220705
DTSTAMP:20260421T053652
CREATED:20220112T191649Z
LAST-MODIFIED:20220112T191649Z
UID:6213-1656892800-1656979199@portofskagit.com
SUMMARY:Holiday--Port Offices Closed
DESCRIPTION:The Port of Skagit offices will be closed on Monday\, July 4\, 2022 in observance of Independence Day.
URL:https://portofskagit.com/event/holiday-port-offices-closed-4/
CATEGORIES:Port Administration
ATTACH;FMTTYPE=image/jpeg:https://portofskagit.com/wp-content/uploads/2021/01/DSC_0998-scaled.jpg
END:VEVENT
BEGIN:VEVENT
DTSTART;TZID=America/Los_Angeles:20220614T140000
DTEND;TZID=America/Los_Angeles:20220614T150000
DTSTAMP:20260421T053652
CREATED:20220103T213609Z
LAST-MODIFIED:20220613T211729Z
UID:6091-1655215200-1655218800@portofskagit.com
SUMMARY:Regular Meeting of the Port Commission-2022
DESCRIPTION:Please refer to the Meeting and Agendas on the Port Commission page for the agenda that correlates with this meeting. \n  \nThe Commission of the Port of Skagit County will hold a Regular Meeting on Tuesday\, June 14\, 2022 at 2:00pm. \nThis meeting will be in-person with an online video/telephone conference meeting option.  Public attendees may participate in-person at the Commission Hearing Room at 15400 Airport Drive in Burlington WA or by joining the Zoom session with the following credentials: \n  \nZoom Session Information \n Meeting ID: 815-3975-1887 \nPasscode: 604-309 \nBy Phone:  (253) 215-8782 (you will then be prompted for Meeting ID and Passcode). \n 
URL:https://portofskagit.com/event/regular-meeting-of-the-port-commission-2-2022-06-14/
LOCATION:Zoom Meeting (Remote)\, 15400 Airport Drive\, Burlington\, WA\, 98233\, United States
CATEGORIES:Commission,Port Administration
ATTACH;FMTTYPE=image/jpeg:https://portofskagit.com/wp-content/uploads/2021/01/sunset-white-logo-resized.jpg
END:VEVENT
BEGIN:VEVENT
DTSTART;VALUE=DATE:20220530
DTEND;VALUE=DATE:20220531
DTSTAMP:20260421T053652
CREATED:20220112T191432Z
LAST-MODIFIED:20220112T191432Z
UID:6209-1653868800-1653955199@portofskagit.com
SUMMARY:Holiday--Port Offices Closed
DESCRIPTION:The Port of Skagit offices will be closed on Monday\, May 30\, 2022 in observance of Memorial Day.
URL:https://portofskagit.com/event/holiday-port-offices-closed-3/
CATEGORIES:Port Administration
ATTACH;FMTTYPE=image/jpeg:https://portofskagit.com/wp-content/uploads/2021/01/DSC_0998-scaled.jpg
END:VEVENT
BEGIN:VEVENT
DTSTART;TZID=America/Los_Angeles:20220510T140000
DTEND;TZID=America/Los_Angeles:20220510T140000
DTSTAMP:20260421T053652
CREATED:20220103T213609Z
LAST-MODIFIED:20220509T192734Z
UID:6089-1652191200-1652191200@portofskagit.com
SUMMARY:Regular Meeting of the Port Commission
DESCRIPTION:Please refer to the Meeting and Agendas on the Port Commission page for the agenda that correlates with this meeting. \n  \nThe Commission of the Port of Skagit County will hold a Regular Meeting on Tuesday\, May 10\, 2022 at 2:00pm. \nThis meeting will be in-person with an online video/telephone conference meeting option.  Public attendees may participate in-person at the Commission Hearing Room at 15400 Airport Drive in Burlington WA or by joining the Zoom session with the following credentials: \n  \nZoom Session Information \n Meeting ID: 815-3975-1887 \nPasscode: 604-309 \nBy Phone:  (253) 215-8782 (you will then be prompted for Meeting ID and Passcode). \n  \n 
URL:https://portofskagit.com/event/regular-meeting-of-the-port-commission-2-2022-05-10/
LOCATION:Zoom Meeting (Remote)\, 15400 Airport Drive\, Burlington\, WA\, 98233\, United States
CATEGORIES:Commission,Port Administration
ATTACH;FMTTYPE=image/jpeg:https://portofskagit.com/wp-content/uploads/2021/01/sunset-white-logo-resized.jpg
END:VEVENT
BEGIN:VEVENT
DTSTART;TZID=America/Los_Angeles:20220412T140000
DTEND;TZID=America/Los_Angeles:20220412T150000
DTSTAMP:20260421T053652
CREATED:20220103T213609Z
LAST-MODIFIED:20220414T055041Z
UID:6087-1649772000-1649775600@portofskagit.com
SUMMARY:Regular Meeting of the Port Commission
DESCRIPTION:Please refer to the Meeting and Agendas on the Port Commission page for the agenda that correlates with this meeting. \n  \nThe Commission of the Port of Skagit County will hold a Regular Commission Meeting on Tuesday\, April 12\, 2022. \nThis meeting will be in-person with an online video/telephone conference meeting option.  Public attendees may participate in-person at the Commission Hearing Room at 15400 Airport Drive in Burlington WA or by joining the Zoom session with the following credentials: \n  \nZoom Session Information \n Meeting ID: 815-3975-1887 \nPasscode: 604-309 \nBy Phone:  (253) 215-8782 (you will then be prompted for Meeting ID and Passcode).
URL:https://portofskagit.com/event/regular-meeting-of-the-port-commission-2-2022-04-12/
LOCATION:Zoom Meeting (Remote)\, 15400 Airport Drive\, Burlington\, WA\, 98233\, United States
CATEGORIES:Commission,Port Administration
ATTACH;FMTTYPE=image/jpeg:https://portofskagit.com/wp-content/uploads/2021/01/sunset-white-logo-resized.jpg
END:VEVENT
BEGIN:VEVENT
DTSTART;TZID=America/Los_Angeles:20220308T140000
DTEND;TZID=America/Los_Angeles:20220308T150000
DTSTAMP:20260421T053652
CREATED:20220103T213609Z
LAST-MODIFIED:20220409T062050Z
UID:6085-1646748000-1646751600@portofskagit.com
SUMMARY:Regular Meeting of the Port Commission
DESCRIPTION:Please refer to the Meeting and Agendas on the Port Commission page for the agenda that correlates with this meeting. \n  \nThe Commission of the Port of Skagit County will hold a Regular Commission Meeting on Tuesday\, March 8\, 2022. \nThis meeting will be held as an online video/telephone conference meeting instead of  at a specific location in order to meet COVID-19 social distancing requirements.  Public attendees may participate by joining the Zoom session with the following credentials: \n  \nZoom Session Information \n Meeting ID: 815-3975-1887 \nPasscode: 604-309 \nBy Phone:  (253) 215-8782 (you will then be prompted for Meeting ID and Passcode). \n 
URL:https://portofskagit.com/event/regular-meeting-of-the-port-commission-2-2022-03-08/
LOCATION:Zoom Meeting (Remote)\, 15400 Airport Drive\, Burlington\, WA\, 98233\, United States
CATEGORIES:Commission,Port Administration
ATTACH;FMTTYPE=image/jpeg:https://portofskagit.com/wp-content/uploads/2021/01/sunset-white-logo-resized.jpg
END:VEVENT
BEGIN:VEVENT
DTSTART;VALUE=DATE:20220221
DTEND;VALUE=DATE:20220222
DTSTAMP:20260421T053652
CREATED:20220112T191225Z
LAST-MODIFIED:20220112T191225Z
UID:6205-1645401600-1645487999@portofskagit.com
SUMMARY:Holiday--Port Offices Closed
DESCRIPTION:The Port of Skagit offices will be closed on Monday\, February 21\, 2022 in observance of Presidents’ Day.
URL:https://portofskagit.com/event/holiday-port-offices-closed-2/
CATEGORIES:Port Administration
ATTACH;FMTTYPE=image/jpeg:https://portofskagit.com/wp-content/uploads/2021/01/DSC_0998-scaled.jpg
END:VEVENT
END:VCALENDAR