BEGIN:VCALENDAR
VERSION:2.0
PRODID:-//Port of Skagit - ECPv6.15.15//NONSGML v1.0//EN
CALSCALE:GREGORIAN
METHOD:PUBLISH
X-ORIGINAL-URL:https://portofskagit.com
X-WR-CALDESC:Events for Port of Skagit
REFRESH-INTERVAL;VALUE=DURATION:PT1H
X-Robots-Tag:noindex
X-PUBLISHED-TTL:PT1H
BEGIN:VTIMEZONE
TZID:America/Los_Angeles
BEGIN:DAYLIGHT
TZOFFSETFROM:-0800
TZOFFSETTO:-0700
TZNAME:PDT
DTSTART:20250309T100000
END:DAYLIGHT
BEGIN:STANDARD
TZOFFSETFROM:-0700
TZOFFSETTO:-0800
TZNAME:PST
DTSTART:20251102T090000
END:STANDARD
BEGIN:DAYLIGHT
TZOFFSETFROM:-0800
TZOFFSETTO:-0700
TZNAME:PDT
DTSTART:20260308T100000
END:DAYLIGHT
BEGIN:STANDARD
TZOFFSETFROM:-0700
TZOFFSETTO:-0800
TZNAME:PST
DTSTART:20261101T090000
END:STANDARD
BEGIN:DAYLIGHT
TZOFFSETFROM:-0800
TZOFFSETTO:-0700
TZNAME:PDT
DTSTART:20270314T100000
END:DAYLIGHT
BEGIN:STANDARD
TZOFFSETFROM:-0700
TZOFFSETTO:-0800
TZNAME:PST
DTSTART:20271107T090000
END:STANDARD
END:VTIMEZONE
BEGIN:VEVENT
DTSTART;TZID=America/Los_Angeles:20260326T160000
DTEND;TZID=America/Los_Angeles:20260326T160000
DTSTAMP:20260420T174617
CREATED:20260325T161252Z
LAST-MODIFIED:20260325T161516Z
UID:7835-1774540800-1774540800@portofskagit.com
SUMMARY:Special Joint Commission Meeting
DESCRIPTION:Please refer to the Meeting and Agendas on the Port Commission page for the agenda that correlates with this meeting. \n  \nThe Port Commission of the Port of Skagit County will hold a special joint meeting with the Port Commission of the Port of Anacortes on Thursday\, March 26\, 2026\, at 4:00 pm. \n  \nThe meeting will be held at the Seafarers Memorial Park Building at 601 Seafarers Way\, Anacortes\, WA 98221. \n  \nThe purpose of the special joint meeting is to: \n\nCall to Order\n15-Minute Recess\nPresentation: Comprehensive Economic Development Strategy – Community Attributes\, Inc.\nAdjournment
URL:https://portofskagit.com/event/special-joint-commission-meeting/
LOCATION:Seafarer’s Memorial Park\, 601 Seafarers Way\, Anacortes\, WA\, 98221\, United States
CATEGORIES:Commission
ATTACH;FMTTYPE=image/jpeg:https://portofskagit.com/wp-content/uploads/2024/02/seafarers2.jpg
END:VEVENT
END:VCALENDAR