BEGIN:VCALENDAR
VERSION:2.0
PRODID:-//Port of Skagit - ECPv6.15.15//NONSGML v1.0//EN
CALSCALE:GREGORIAN
METHOD:PUBLISH
X-WR-CALNAME:Port of Skagit
X-ORIGINAL-URL:https://portofskagit.com
X-WR-CALDESC:Events for Port of Skagit
REFRESH-INTERVAL;VALUE=DURATION:PT1H
X-Robots-Tag:noindex
X-PUBLISHED-TTL:PT1H
BEGIN:VTIMEZONE
TZID:America/Los_Angeles
BEGIN:DAYLIGHT
TZOFFSETFROM:-0800
TZOFFSETTO:-0700
TZNAME:PDT
DTSTART:20250309T100000
END:DAYLIGHT
BEGIN:STANDARD
TZOFFSETFROM:-0700
TZOFFSETTO:-0800
TZNAME:PST
DTSTART:20251102T090000
END:STANDARD
BEGIN:DAYLIGHT
TZOFFSETFROM:-0800
TZOFFSETTO:-0700
TZNAME:PDT
DTSTART:20260308T100000
END:DAYLIGHT
BEGIN:STANDARD
TZOFFSETFROM:-0700
TZOFFSETTO:-0800
TZNAME:PST
DTSTART:20261101T090000
END:STANDARD
BEGIN:DAYLIGHT
TZOFFSETFROM:-0800
TZOFFSETTO:-0700
TZNAME:PDT
DTSTART:20270314T100000
END:DAYLIGHT
BEGIN:STANDARD
TZOFFSETFROM:-0700
TZOFFSETTO:-0800
TZNAME:PST
DTSTART:20271107T090000
END:STANDARD
END:VTIMEZONE
BEGIN:VEVENT
DTSTART;TZID=America/Los_Angeles:20260310T140000
DTEND;TZID=America/Los_Angeles:20260310T140000
DTSTAMP:20260421T170321
CREATED:20260210T211241Z
LAST-MODIFIED:20260210T211247Z
UID:7817-1773151200-1773151200@portofskagit.com
SUMMARY:Regular Commission Meeting
DESCRIPTION:Please refer to the Meeting and Agendas on the Port Commission page for the agenda that correlates with this meeting. \n  \nThe Commission of the Port of Skagit County will hold a Regular Meeting on Tuesday\, March 10\, 2026 at 2:00pm. \n  \nPublic attendees may participate in-person at the Commission Hearing Room at 15400 Airport Drive in Burlington WA.
URL:https://portofskagit.com/event/regular-commission-meeting-5/
LOCATION:Port Commission Hearing Room\, 15400 Airport Drive\, Burlington\, WA\, United States
CATEGORIES:Commission
ATTACH;FMTTYPE=image/jpeg:https://portofskagit.com/wp-content/uploads/2021/01/DSC_0998-scaled.jpg
END:VEVENT
END:VCALENDAR