BEGIN:VCALENDAR
VERSION:2.0
PRODID:-//Port of Skagit - ECPv6.15.20//NONSGML v1.0//EN
CALSCALE:GREGORIAN
METHOD:PUBLISH
X-ORIGINAL-URL:https://portofskagit.com
X-WR-CALDESC:Events for Port of Skagit
REFRESH-INTERVAL;VALUE=DURATION:PT1H
X-Robots-Tag:noindex
X-PUBLISHED-TTL:PT1H
BEGIN:VTIMEZONE
TZID:America/Los_Angeles
BEGIN:DAYLIGHT
TZOFFSETFROM:-0800
TZOFFSETTO:-0700
TZNAME:PDT
DTSTART:20250309T100000
END:DAYLIGHT
BEGIN:STANDARD
TZOFFSETFROM:-0700
TZOFFSETTO:-0800
TZNAME:PST
DTSTART:20251102T090000
END:STANDARD
BEGIN:DAYLIGHT
TZOFFSETFROM:-0800
TZOFFSETTO:-0700
TZNAME:PDT
DTSTART:20260308T100000
END:DAYLIGHT
BEGIN:STANDARD
TZOFFSETFROM:-0700
TZOFFSETTO:-0800
TZNAME:PST
DTSTART:20261101T090000
END:STANDARD
BEGIN:DAYLIGHT
TZOFFSETFROM:-0800
TZOFFSETTO:-0700
TZNAME:PDT
DTSTART:20270314T100000
END:DAYLIGHT
BEGIN:STANDARD
TZOFFSETFROM:-0700
TZOFFSETTO:-0800
TZNAME:PST
DTSTART:20271107T090000
END:STANDARD
END:VTIMEZONE
BEGIN:VEVENT
DTSTART;TZID=America/Los_Angeles:20260226T103000
DTEND;TZID=America/Los_Angeles:20260226T103000
DTSTAMP:20260421T210928
CREATED:20260226T181759Z
LAST-MODIFIED:20260226T181811Z
UID:7823-1772101800-1772101800@portofskagit.com
SUMMARY:Special Commission Meeting
DESCRIPTION:CALL TO ORDER \nPUBLIC COMMENT Members of the public may comment on items limited to the agenda (RCW 42.30.240). In the interest of time\, public comments will be limited to 3 minutes. The chair has the discretion to limit time and number of people speaking. \nNEW BUSINESS BBP: 11944 Westar Lane Water Main Repair (2026); Ratifying Declaring of Emergency and Authorizing Contract Award without Public Bid Solicitation to remedy the Emergency; Adopt Resolution No. 26-__ \nADJOURNMENT
URL:https://portofskagit.com/event/special-commission-meeting/
LOCATION:Port Commission Hearing Room\, 15400 Airport Drive\, Burlington\, WA\, United States
CATEGORIES:Commission
ATTACH;FMTTYPE=image/jpeg:https://portofskagit.com/wp-content/uploads/2022/12/Sunrise-Dec-2022-scaled.jpg
END:VEVENT
END:VCALENDAR